Workbook

Sheet Summary
A1: Pest Control Call Conversion Dashboard
A2: Reporting Period | D2: Conversion Targets
A3: Reporting Start Date | B3: 46266 | D3: Call-to-Qualified Target | E3: 0.75
A4: Reporting End Date | B4: 46295 | D4: Qualified-to-Booked Target | E4: 0.6
A5: Date Range Alert | B5: =IF(OR(B3="",B4=""),"Enter both dates",IF(IFERROR(B4<B3,TRUE),"Check the date range","")) | D5: Booked-to-Sale Target | E5: 0.7
A6: Cohort Basis | B6: Call Date | D6: Call-to-Sale Target | E6: 0.25
A8: Overall Metric | B8: Current Period | D8: Conversion | E8: Rate | F8: Status | H8: Funnel Stage | I8: Count
A9: Inbound Calls | B9: =IF(OR($B$3="",$B$4="",IFERROR($B$4<$B$3,TRUE)),"",COUNTIFS('Call Log'!$B$2:$B$501,">="&$B$3,'Call Log'!$B$2:$B$501,"<="&$B$4,'Call Log'!$A$2:$A$501,"<>")) | D9: Call to Qualified | E9: =IF(OR(B9="",B9=0),"",IFERROR(B10/B9,"")) | F9: =IF(E9="","No Data",IF(E9>=$E$3,"On Target","Below Target")) | H9: Inbound Calls | I9: =B9
A10: Qualified Leads | B10: =IF(OR($B$3="",$B$4="",IFERROR($B$4<$B$3,TRUE)),"",COUNTIFS('Call Log'!$B$2:$B$501,">="&$B$3,'Call Log'!$B$2:$B$501,"<="&$B$4,'Call Log'!$A$2:$A$501,"<>",'Call Log'!$G$2:$G$501,"Yes")) | D10: Qualified to Booked | E10: =IF(OR(B10="",B10=0),"",IFERROR(B11/B10,"")) | F10: =IF(E10="","No Data",IF(E10>=$E$4,"On Target","Below Target")) | H10: Qualified Leads | I10: =B10
A11: Booked Inspections | B11: =IF(OR($B$3="",$B$4="",IFERROR($B$4<$B$3,TRUE)),"",COUNTIFS('Call Log'!$B$2:$B$501,">="&$B$3,'Call Log'!$B$2:$B$501,"<="&$B$4,'Call Log'!$A$2:$A$501,"<>",'Call Log'!$H$2:$H$501,"Yes")) | D11: Booked to Sale | E11: =IF(OR(B11="",B11=0),"",IFERROR(B12/B11,"")) | F11: =IF(E11="","No Data",IF(E11>=$E$5,"On Target","Below Target")) | H11: Booked Inspections | I11: =B11
A12: Sales | B12: =IF(OR($B$3="",$B$4="",IFERROR($B$4<$B$3,TRUE)),"",COUNTIFS('Call Log'!$B$2:$B$501,">="&$B$3,'Call Log'!$B$2:$B$501,"<="&$B$4,'Call Log'!$A$2:$A$501,"<>",'Call Log'!$I$2:$I$501,"Yes")) | D12: Call to Sale | E12: =IF(OR(B9="",B9=0),"",IFERROR(B12/B9,"")) | F12: =IF(E12="","No Data",IF(E12>=$E$6,"On Target","Below Target")) | H12: Sales | I12: =B12
A13: Sales Value | B13: =IF(OR($B$3="",$B$4="",IFERROR($B$4<$B$3,TRUE)),"",SUMIFS('Call Log'!$K$2:$K$501,'Call Log'!$B$2:$B$501,">="&$B$3,'Call Log'!$B$2:$B$501,"<="&$B$4,'Call Log'!$A$2:$A$501,"<>",'Call Log'!$I$2:$I$501,"Yes"))
A14: Open Follow-Ups | B14: =IF(OR($B$3="",$B$4="",IFERROR($B$4<$B$3,TRUE)),"",COUNTIFS('Call Log'!$B$2:$B$501,">="&$B$3,'Call Log'!$B$2:$B$501,"<="&$B$4,'Call Log'!$A$2:$A$501,"<>",'Call Log'!$L$2:$L$501,"Open",'Call Log'!$I$2:$I$501,"<>Yes"))
A15: All Record Alerts | B15: =COUNTIF('Call Log'!$N$2:$N$501,"?*")
A16: Cohort basis: records are included by Call Date, even when booking or sale occurs later.
A18: Marketing Source | B18: Calls | C18: Qualified | D18: Booked | E18: Sales | F18: Call to Qualified | G18: Qualified to Booked | H18: Booked to Sale | I18: Sales Value
A19: ='Lists & Setup'!A2 | B19: =IF(OR($B$3="",$B$4="",IFERROR($B$4<$B$3,TRUE),$A19=""),"",COUNTIFS('Call Log'!$B$2:$B$501,">="&$B$3,'Call Log'!$B$2:$B$501,"<="&$B$4,'Call Log'!$A$2:$A$501,"<>",'Call Log'!$D$2:$D$501,$A19)) | C19: =IF(OR($B$3="",$B$4="",IFERROR($B$4<$B$3,TRUE),$A19=""),"",COUNTIFS('Call Log'!$B$2:$B$501,">="&$B$3,'Call Log'!$B$2:$B$501,"<="&$B$4,'Call Log'!$A$2:$A$501,"<>",'Call Log'!$D$2:$D$501,$A19,'Call Log'!$G$2:$G$501,"Yes")) | D19: =IF(OR($B$3="",$B$4="",IFERROR($B$4<$B$3,TRUE),$A19=""),"",COUNTIFS('Call Log'!$B$2:$B$501,">="&$B$3,'Call Log'!$B$2:$B$501,"<="&$B$4,'Call Log'!$A$2:$A$501,"<>",'Call Log'!$D$2:$D$501,$A19,'Call Log'!$H$2:$H$501,"Yes")) | E19: =IF(OR($B$3="",$B$4="",IFERROR($B$4<$B$3,TRUE),$A19=""),"",COUNTIFS('Call Log'!$B$2:$B$501,">="&$B$3,'Call Log'!$B$2:$B$501,"<="&$B$4,'Call Log'!$A$2:$A$501,"<>",'Call Log'!$D$2:$D$501,$A19,'Call Log'!$I$2:$I$501,"Yes")) | F19: =IF(OR(B19="",B19=0),"",IFERROR(C19/B19,"")) | G19: =IF(OR(C19="",C19=0),"",IFERROR(D19/C19,"")) | H19: =IF(OR(D19="",D19=0),"",IFERROR(E19/D19,"")) | I19: =IF(OR($B$3="",$B$4="",IFERROR($B$4<$B$3,TRUE),$A19=""),"",SUMIFS('Call Log'!$K$2:$K$501,'Call Log'!$B$2:$B$501,">="&$B$3,'Call Log'!$B$2:$B$501,"<="&$B$4,'Call Log'!$A$2:$A$501,"<>",'Call Log'!$D$2:$D$501,$A19,'Call Log'!$I$2:$I$501,"Yes"))
A20: ='Lists & Setup'!A3 | B20: =IF(OR($B$3="",$B$4="",IFERROR($B$4<$B$3,TRUE),$A20=""),"",COUNTIFS('Call Log'!$B$2:$B$501,">="&$B$3,'Call Log'!$B$2:$B$501,"<="&$B$4,'Call Log'!$A$2:$A$501,"<>",'Call Log'!$D$2:$D$501,$A20)) | C20: =IF(OR($B$3="",$B$4="",IFERROR($B$4<$B$3,TRUE),$A20=""),"",COUNTIFS('Call Log'!$B$2:$B$501,">="&$B$3,'Call Log'!$B$2:$B$501,"<="&$B$4,'Call Log'!$A$2:$A$501,"<>",'Call Log'!$D$2:$D$501,$A20,'Call Log'!$G$2:$G$501,"Yes")) | D20: =IF(OR($B$3="",$B$4="",IFERROR($B$4<$B$3,TRUE),$A20=""),"",COUNTIFS('Call Log'!$B$2:$B$501,">="&$B$3,'Call Log'!$B$2:$B$501,"<="&$B$4,'Call Log'!$A$2:$A$501,"<>",'Call Log'!$D$2:$D$501,$A20,'Call Log'!$H$2:$H$501,"Yes")) | E20: =IF(OR($B$3="",$B$4="",IFERROR($B$4<$B$3,TRUE),$A20=""),"",COUNTIFS('Call Log'!$B$2:$B$501,">="&$B$3,'Call Log'!$B$2:$B$501,"<="&$B$4,'Call Log'!$A$2:$A$501,"<>",'Call Log'!$D$2:$D$501,$A20,'Call Log'!$I$2:$I$501,"Yes")) | F20: =IF(OR(B20="",B20=0),"",IFERROR(C20/B20,"")) | G20: =IF(OR(C20="",C20=0),"",IFERROR(D20/C20,"")) | H20: =IF(OR(D20="",D20=0),"",IFERROR(E20/D20,"")) | I20: =IF(OR($B$3="",$B$4="",IFERROR($B$4<$B$3,TRUE),$A20=""),"",SUMIFS('Call Log'!$K$2:$K$501,'Call Log'!$B$2:$B$501,">="&$B$3,'Call Log'!$B$2:$B$501,"<="&$B$4,'Call Log'!$A$2:$A$501,"<>",'Call Log'!$D$2:$D$501,$A20,'Call Log'!$I$2:$I$501,"Yes"))
A21: ='Lists & Setup'!A4 | B21: =IF(OR($B$3="",$B$4="",IFERROR($B$4<$B$3,TRUE),$A21=""),"",COUNTIFS('Call Log'!$B$2:$B$501,">="&$B$3,'Call Log'!$B$2:$B$501,"<="&$B$4,'Call Log'!$A$2:$A$501,"<>",'Call Log'!$D$2:$D$501,$A21)) | C21: =IF(OR($B$3="",$B$4="",IFERROR($B$4<$B$3,TRUE),$A21=""),"",COUNTIFS('Call Log'!$B$2:$B$501,">="&$B$3,'Call Log'!$B$2:$B$501,"<="&$B$4,'Call Log'!$A$2:$A$501,"<>",'Call Log'!$D$2:$D$501,$A21,'Call Log'!$G$2:$G$501,"Yes")) | D21: =IF(OR($B$3="",$B$4="",IFERROR($B$4<$B$3,TRUE),$A21=""),"",COUNTIFS('Call Log'!$B$2:$B$501,">="&$B$3,'Call Log'!$B$2:$B$501,"<="&$B$4,'Call Log'!$A$2:$A$501,"<>",'Call Log'!$D$2:$D$501,$A21,'Call Log'!$H$2:$H$501,"Yes")) | E21: =IF(OR($B$3="",$B$4="",IFERROR($B$4<$B$3,TRUE),$A21=""),"",COUNTIFS('Call Log'!$B$2:$B$501,">="&$B$3,'Call Log'!$B$2:$B$501,"<="&$B$4,'Call Log'!$A$2:$A$501,"<>",'Call Log'!$D$2:$D$501,$A21,'Call Log'!$I$2:$I$501,"Yes")) | F21: =IF(OR(B21="",B21=0),"",IFERROR(C21/B21,"")) | G21: =IF(OR(C21="",C21=0),"",IFERROR(D21/C21,"")) | H21: =IF(OR(D21="",D21=0),"",IFERROR(E21/D21,"")) | I21: =IF(OR($B$3="",$B$4="",IFERROR($B$4<$B$3,TRUE),$A21=""),"",SUMIFS('Call Log'!$K$2:$K$501,'Call Log'!$B$2:$B$501,">="&$B$3,'Call Log'!$B$2:$B$501,"<="&$B$4,'Call Log'!$A$2:$A$501,"<>",'Call Log'!$D$2:$D$501,$A21,'Call Log'!$I$2:$I$501,"Yes"))
A22: ='Lists & Setup'!A5 | B22: =IF(OR($B$3="",$B$4="",IFERROR($B$4<$B$3,TRUE),$A22=""),"",COUNTIFS('Call Log'!$B$2:$B$501,">="&$B$3,'Call Log'!$B$2:$B$501,"<="&$B$4,'Call Log'!$A$2:$A$501,"<>",'Call Log'!$D$2:$D$501,$A22)) | C22: =IF(OR($B$3="",$B$4="",IFERROR($B$4<$B$3,TRUE),$A22=""),"",COUNTIFS('Call Log'!$B$2:$B$501,">="&$B$3,'Call Log'!$B$2:$B$501,"<="&$B$4,'Call Log'!$A$2:$A$501,"<>",'Call Log'!$D$2:$D$501,$A22,'Call Log'!$G$2:$G$501,"Yes")) | D22: =IF(OR($B$3="",$B$4="",IFERROR($B$4<$B$3,TRUE),$A22=""),"",COUNTIFS('Call Log'!$B$2:$B$501,">="&$B$3,'Call Log'!$B$2:$B$501,"<="&$B$4,'Call Log'!$A$2:$A$501,"<>",'Call Log'!$D$2:$D$501,$A22,'Call Log'!$H$2:$H$501,"Yes")) | E22: =IF(OR($B$3="",$B$4="",IFERROR($B$4<$B$3,TRUE),$A22=""),"",COUNTIFS('Call Log'!$B$2:$B$501,">="&$B$3,'Call Log'!$B$2:$B$501,"<="&$B$4,'Call Log'!$A$2:$A$501,"<>",'Call Log'!$D$2:$D$501,$A22,'Call Log'!$I$2:$I$501,"Yes")) | F22: =IF(OR(B22="",B22=0),"",IFERROR(C22/B22,"")) | G22: =IF(OR(C22="",C22=0),"",IFERROR(D22/C22,"")) | H22: =IF(OR(D22="",D22=0),"",IFERROR(E22/D22,"")) | I22: =IF(OR($B$3="",$B$4="",IFERROR($B$4<$B$3,TRUE),$A22=""),"",SUMIFS('Call Log'!$K$2:$K$501,'Call Log'!$B$2:$B$501,">="&$B$3,'Call Log'!$B$2:$B$501,"<="&$B$4,'Call Log'!$A$2:$A$501,"<>",'Call Log'!$D$2:$D$501,$A22,'Call Log'!$I$2:$I$501,"Yes"))
A23: ='Lists & Setup'!A6 | B23: =IF(OR($B$3="",$B$4="",IFERROR($B$4<$B$3,TRUE),$A23=""),"",COUNTIFS('Call Log'!$B$2:$B$501,">="&$B$3,'Call Log'!$B$2:$B$501,"<="&$B$4,'Call Log'!$A$2:$A$501,"<>",'Call Log'!$D$2:$D$501,$A23)) | C23: =IF(OR($B$3="",$B$4="",IFERROR($B$4<$B$3,TRUE),$A23=""),"",COUNTIFS('Call Log'!$B$2:$B$501,">="&$B$3,'Call Log'!$B$2:$B$501,"<="&$B$4,'Call Log'!$A$2:$A$501,"<>",'Call Log'!$D$2:$D$501,$A23,'Call Log'!$G$2:$G$501,"Yes")) | D23: =IF(OR($B$3="",$B$4="",IFERROR($B$4<$B$3,TRUE),$A23=""),"",COUNTIFS('Call Log'!$B$2:$B$501,">="&$B$3,'Call Log'!$B$2:$B$501,"<="&$B$4,'Call Log'!$A$2:$A$501,"<>",'Call Log'!$D$2:$D$501,$A23,'Call Log'!$H$2:$H$501,"Yes")) | E23: =IF(OR($B$3="",$B$4="",IFERROR($B$4<$B$3,TRUE),$A23=""),"",COUNTIFS('Call Log'!$B$2:$B$501,">="&$B$3,'Call Log'!$B$2:$B$501,"<="&$B$4,'Call Log'!$A$2:$A$501,"<>",'Call Log'!$D$2:$D$501,$A23,'Call Log'!$I$2:$I$501,"Yes")) | F23: =IF(OR(B23="",B23=0),"",IFERROR(C23/B23,"")) | G23: =IF(OR(C23="",C23=0),"",IFERROR(D23/C23,"")) | H23: =IF(OR(D23="",D23=0),"",IFERROR(E23/D23,"")) | I23: =IF(OR($B$3="",$B$4="",IFERROR($B$4<$B$3,TRUE),$A23=""),"",SUMIFS('Call Log'!$K$2:$K$501,'Call Log'!$B$2:$B$501,">="&$B$3,'Call Log'!$B$2:$B$501,"<="&$B$4,'Call Log'!$A$2:$A$501,"<>",'Call Log'!$D$2:$D$501,$A23,'Call Log'!$I$2:$I$501,"Yes"))
A24: ='Lists & Setup'!A7 | B24: =IF(OR($B$3="",$B$4="",IFERROR($B$4<$B$3,TRUE),$A24=""),"",COUNTIFS('Call Log'!$B$2:$B$501,">="&$B$3,'Call Log'!$B$2:$B$501,"<="&$B$4,'Call Log'!$A$2:$A$501,"<>",'Call Log'!$D$2:$D$501,$A24)) | C24: =IF(OR($B$3="",$B$4="",IFERROR($B$4<$B$3,TRUE),$A24=""),"",COUNTIFS('Call Log'!$B$2:$B$501,">="&$B$3,'Call Log'!$B$2:$B$501,"<="&$B$4,'Call Log'!$A$2:$A$501,"<>",'Call Log'!$D$2:$D$501,$A24,'Call Log'!$G$2:$G$501,"Yes")) | D24: =IF(OR($B$3="",$B$4="",IFERROR($B$4<$B$3,TRUE),$A24=""),"",COUNTIFS('Call Log'!$B$2:$B$501,">="&$B$3,'Call Log'!$B$2:$B$501,"<="&$B$4,'Call Log'!$A$2:$A$501,"<>",'Call Log'!$D$2:$D$501,$A24,'Call Log'!$H$2:$H$501,"Yes")) | E24: =IF(OR($B$3="",$B$4="",IFERROR($B$4<$B$3,TRUE),$A24=""),"",COUNTIFS('Call Log'!$B$2:$B$501,">="&$B$3,'Call Log'!$B$2:$B$501,"<="&$B$4,'Call Log'!$A$2:$A$501,"<>",'Call Log'!$D$2:$D$501,$A24,'Call Log'!$I$2:$I$501,"Yes")) | F24: =IF(OR(B24="",B24=0),"",IFERROR(C24/B24,"")) | G24: =IF(OR(C24="",C24=0),"",IFERROR(D24/C24,"")) | H24: =IF(OR(D24="",D24=0),"",IFERROR(E24/D24,"")) | I24: =IF(OR($B$3="",$B$4="",IFERROR($B$4<$B$3,TRUE),$A24=""),"",SUMIFS('Call Log'!$K$2:$K$501,'Call Log'!$B$2:$B$501,">="&$B$3,'Call Log'!$B$2:$B$501,"<="&$B$4,'Call Log'!$A$2:$A$501,"<>",'Call Log'!$D$2:$D$501,$A24,'Call Log'!$I$2:$I$501,"Yes"))
A25: ='Lists & Setup'!A8 | B25: =IF(OR($B$3="",$B$4="",IFERROR($B$4<$B$3,TRUE),$A25=""),"",COUNTIFS('Call Log'!$B$2:$B$501,">="&$B$3,'Call Log'!$B$2:$B$501,"<="&$B$4,'Call Log'!$A$2:$A$501,"<>",'Call Log'!$D$2:$D$501,$A25)) | C25: =IF(OR($B$3="",$B$4="",IFERROR($B$4<$B$3,TRUE),$A25=""),"",COUNTIFS('Call Log'!$B$2:$B$501,">="&$B$3,'Call Log'!$B$2:$B$501,"<="&$B$4,'Call Log'!$A$2:$A$501,"<>",'Call Log'!$D$2:$D$501,$A25,'Call Log'!$G$2:$G$501,"Yes")) | D25: =IF(OR($B$3="",$B$4="",IFERROR($B$4<$B$3,TRUE),$A25=""),"",COUNTIFS('Call Log'!$B$2:$B$501,">="&$B$3,'Call Log'!$B$2:$B$501,"<="&$B$4,'Call Log'!$A$2:$A$501,"<>",'Call Log'!$D$2:$D$501,$A25,'Call Log'!$H$2:$H$501,"Yes")) | E25: =IF(OR($B$3="",$B$4="",IFERROR($B$4<$B$3,TRUE),$A25=""),"",COUNTIFS('Call Log'!$B$2:$B$501,">="&$B$3,'Call Log'!$B$2:$B$501,"<="&$B$4,'Call Log'!$A$2:$A$501,"<>",'Call Log'!$D$2:$D$501,$A25,'Call Log'!$I$2:$I$501,"Yes")) | F25: =IF(OR(B25="",B25=0),"",IFERROR(C25/B25,"")) | G25: =IF(OR(C25="",C25=0),"",IFERROR(D25/C25,"")) | H25: =IF(OR(D25="",D25=0),"",IFERROR(E25/D25,"")) | I25: =IF(OR($B$3="",$B$4="",IFERROR($B$4<$B$3,TRUE),$A25=""),"",SUMIFS('Call Log'!$K$2:$K$501,'Call Log'!$B$2:$B$501,">="&$B$3,'Call Log'!$B$2:$B$501,"<="&$B$4,'Call Log'!$A$2:$A$501,"<>",'Call Log'!$D$2:$D$501,$A25,'Call Log'!$I$2:$I$501,"Yes"))
A28: Handled By | B28: Calls | C28: Qualified | D28: Booked | E28: Sales | F28: Call to Qualified | G28: Qualified to Booked | H28: Booked to Sale | I28: Sales Value
A29: ='Lists & Setup'!B2 | B29: =IF(OR($B$3="",$B$4="",IFERROR($B$4<$B$3,TRUE),$A29=""),"",COUNTIFS('Call Log'!$B$2:$B$501,">="&$B$3,'Call Log'!$B$2:$B$501,"<="&$B$4,'Call Log'!$A$2:$A$501,"<>",'Call Log'!$E$2:$E$501,$A29)) | C29: =IF(OR($B$3="",$B$4="",IFERROR($B$4<$B$3,TRUE),$A29=""),"",COUNTIFS('Call Log'!$B$2:$B$501,">="&$B$3,'Call Log'!$B$2:$B$501,"<="&$B$4,'Call Log'!$A$2:$A$501,"<>",'Call Log'!$E$2:$E$501,$A29,'Call Log'!$G$2:$G$501,"Yes")) | D29: =IF(OR($B$3="",$B$4="",IFERROR($B$4<$B$3,TRUE),$A29=""),"",COUNTIFS('Call Log'!$B$2:$B$501,">="&$B$3,'Call Log'!$B$2:$B$501,"<="&$B$4,'Call Log'!$A$2:$A$501,"<>",'Call Log'!$E$2:$E$501,$A29,'Call Log'!$H$2:$H$501,"Yes")) | E29: =IF(OR($B$3="",$B$4="",IFERROR($B$4<$B$3,TRUE),$A29=""),"",COUNTIFS('Call Log'!$B$2:$B$501,">="&$B$3,'Call Log'!$B$2:$B$501,"<="&$B$4,'Call Log'!$A$2:$A$501,"<>",'Call Log'!$E$2:$E$501,$A29,'Call Log'!$I$2:$I$501,"Yes")) | F29: =IF(OR(B29="",B29=0),"",IFERROR(C29/B29,"")) | G29: =IF(OR(C29="",C29=0),"",IFERROR(D29/C29,"")) | H29: =IF(OR(D29="",D29=0),"",IFERROR(E29/D29,"")) | I29: =IF(OR($B$3="",$B$4="",IFERROR($B$4<$B$3,TRUE),$A29=""),"",SUMIFS('Call Log'!$K$2:$K$501,'Call Log'!$B$2:$B$501,">="&$B$3,'Call Log'!$B$2:$B$501,"<="&$B$4,'Call Log'!$A$2:$A$501,"<>",'Call Log'!$E$2:$E$501,$A29,'Call Log'!$I$2:$I$501,"Yes"))
A30: ='Lists & Setup'!B3 | B30: =IF(OR($B$3="",$B$4="",IFERROR($B$4<$B$3,TRUE),$A30=""),"",COUNTIFS('Call Log'!$B$2:$B$501,">="&$B$3,'Call Log'!$B$2:$B$501,"<="&$B$4,'Call Log'!$A$2:$A$501,"<>",'Call Log'!$E$2:$E$501,$A30)) | C30: =IF(OR($B$3="",$B$4="",IFERROR($B$4<$B$3,TRUE),$A30=""),"",COUNTIFS('Call Log'!$B$2:$B$501,">="&$B$3,'Call Log'!$B$2:$B$501,"<="&$B$4,'Call Log'!$A$2:$A$501,"<>",'Call Log'!$E$2:$E$501,$A30,'Call Log'!$G$2:$G$501,"Yes")) | D30: =IF(OR($B$3="",$B$4="",IFERROR($B$4<$B$3,TRUE),$A30=""),"",COUNTIFS('Call Log'!$B$2:$B$501,">="&$B$3,'Call Log'!$B$2:$B$501,"<="&$B$4,'Call Log'!$A$2:$A$501,"<>",'Call Log'!$E$2:$E$501,$A30,'Call Log'!$H$2:$H$501,"Yes")) | E30: =IF(OR($B$3="",$B$4="",IFERROR($B$4<$B$3,TRUE),$A30=""),"",COUNTIFS('Call Log'!$B$2:$B$501,">="&$B$3,'Call Log'!$B$2:$B$501,"<="&$B$4,'Call Log'!$A$2:$A$501,"<>",'Call Log'!$E$2:$E$501,$A30,'Call Log'!$I$2:$I$501,"Yes")) | F30: =IF(OR(B30="",B30=0),"",IFERROR(C30/B30,"")) | G30: =IF(OR(C30="",C30=0),"",IFERROR(D30/C30,"")) | H30: =IF(OR(D30="",D30=0),"",IFERROR(E30/D30,"")) | I30: =IF(OR($B$3="",$B$4="",IFERROR($B$4<$B$3,TRUE),$A30=""),"",SUMIFS('Call Log'!$K$2:$K$501,'Call Log'!$B$2:$B$501,">="&$B$3,'Call Log'!$B$2:$B$501,"<="&$B$4,'Call Log'!$A$2:$A$501,"<>",'Call Log'!$E$2:$E$501,$A30,'Call Log'!$I$2:$I$501,"Yes"))
A31: ='Lists & Setup'!B4 | B31: =IF(OR($B$3="",$B$4="",IFERROR($B$4<$B$3,TRUE),$A31=""),"",COUNTIFS('Call Log'!$B$2:$B$501,">="&$B$3,'Call Log'!$B$2:$B$501,"<="&$B$4,'Call Log'!$A$2:$A$501,"<>",'Call Log'!$E$2:$E$501,$A31)) | C31: =IF(OR($B$3="",$B$4="",IFERROR($B$4<$B$3,TRUE),$A31=""),"",COUNTIFS('Call Log'!$B$2:$B$501,">="&$B$3,'Call Log'!$B$2:$B$501,"<="&$B$4,'Call Log'!$A$2:$A$501,"<>",'Call Log'!$E$2:$E$501,$A31,'Call Log'!$G$2:$G$501,"Yes")) | D31: =IF(OR($B$3="",$B$4="",IFERROR($B$4<$B$3,TRUE),$A31=""),"",COUNTIFS('Call Log'!$B$2:$B$501,">="&$B$3,'Call Log'!$B$2:$B$501,"<="&$B$4,'Call Log'!$A$2:$A$501,"<>",'Call Log'!$E$2:$E$501,$A31,'Call Log'!$H$2:$H$501,"Yes")) | E31: =IF(OR($B$3="",$B$4="",IFERROR($B$4<$B$3,TRUE),$A31=""),"",COUNTIFS('Call Log'!$B$2:$B$501,">="&$B$3,'Call Log'!$B$2:$B$501,"<="&$B$4,'Call Log'!$A$2:$A$501,"<>",'Call Log'!$E$2:$E$501,$A31,'Call Log'!$I$2:$I$501,"Yes")) | F31: =IF(OR(B31="",B31=0),"",IFERROR(C31/B31,"")) | G31: =IF(OR(C31="",C31=0),"",IFERROR(D31/C31,"")) | H31: =IF(OR(D31="",D31=0),"",IFERROR(E31/D31,"")) | I31: =IF(OR($B$3="",$B$4="",IFERROR($B$4<$B$3,TRUE),$A31=""),"",SUMIFS('Call Log'!$K$2:$K$501,'Call Log'!$B$2:$B$501,">="&$B$3,'Call Log'!$B$2:$B$501,"<="&$B$4,'Call Log'!$A$2:$A$501,"<>",'Call Log'!$E$2:$E$501,$A31,'Call Log'!$I$2:$I$501,"Yes"))

Sheet Call Log
A1: Call ID | B1: Call Date | C1: Call Time | D1: Marketing Source | E1: Handled By | F1: Initial Call Disposition | G1: Qualified Lead? | H1: Booked Inspection? | I1: Sale? | J1: Sale Date | K1: Sale Value | L1: Follow-Up Status | M1: Non-Conversion Reason | N1: Record Alert | P1: Marketing Source Helper | Q1: Handler Helper | R1: Disposition Helper | S1: Yes No Helper | T1: Follow-Up Helper | U1: Reason Helper
A2: FIC-260901-01 | B2: 46266 | C2: 0.34375 | D2: Google Ads | E2: Rep A (Fictional) | F2: Answered | G2: Yes | H2: Yes | I2: Yes | J2: 46268 | K2: 485 | L2: Completed | N2: =IF(COUNTA(A2:M2)=0,"",IF(OR(A2="",B2="",C2="",D2="",E2="",F2="",G2="",H2="",I2="",L2=""),"Complete required fields",IF(COUNTIF($A$2:$A$501,A2)>1,"Duplicate Call ID",IF(OR(AND(H2="Yes",G2<>"Yes"),AND(I2="Yes",H2<>"Yes")),"Inconsistent funnel stages",IF(AND(I2="Yes",OR(J2="",K2="",IFERROR(K2<=0,TRUE))),"Enter valid sale date and value",IF(AND(I2="Yes",IFERROR(J2<B2,TRUE)),"Check sale date",IF(AND(I2<>"Yes",OR(J2<>"",K2<>"")),"Clear sale date and value",IF(AND(L2="Completed",I2="No",M2=""),"Add non-conversion reason",IF(AND(I2="Yes",M2<>""),"Clear non-conversion reason",""))))))))) | P2: ='Lists & Setup'!A2 | Q2: ='Lists & Setup'!B2 | R2: ='Lists & Setup'!C2 | S2: ='Lists & Setup'!D2 | T2: ='Lists & Setup'!E2 | U2: ='Lists & Setup'!F2
A3: FIC-260901-02 | B3: 46266 | C3: 0.44444444 | D3: Organic Search | E3: Rep B (Fictional) | F3: Answered | G3: Yes | H3: Yes | I3: No | L3: Open | M3: Pending Decision | N3: =IF(COUNTA(A3:M3)=0,"",IF(OR(A3="",B3="",C3="",D3="",E3="",F3="",G3="",H3="",I3="",L3=""),"Complete required fields",IF(COUNTIF($A$2:$A$501,A3)>1,"Duplicate Call ID",IF(OR(AND(H3="Yes",G3<>"Yes"),AND(I3="Yes",H3<>"Yes")),"Inconsistent funnel stages",IF(AND(I3="Yes",OR(J3="",K3="",IFERROR(K3<=0,TRUE))),"Enter valid sale date and value",IF(AND(I3="Yes",IFERROR(J3<B3,TRUE)),"Check sale date",IF(AND(I3<>"Yes",OR(J3<>"",K3<>"")),"Clear sale date and value",IF(AND(L3="Completed",I3="No",M3=""),"Add non-conversion reason",IF(AND(I3="Yes",M3<>""),"Clear non-conversion reason",""))))))))) | P3: ='Lists & Setup'!A3 | Q3: ='Lists & Setup'!B3 | R3: ='Lists & Setup'!C3 | S3: ='Lists & Setup'!D3 | T3: ='Lists & Setup'!E3 | U3: ='Lists & Setup'!F3
A4: FIC-260902-03 | B4: 46267 | C4: 0.54513889 | D4: Referral | E4: Rep C (Fictional) | F4: Answered | G4: Yes | H4: No | I4: No | L4: Open | M4: Timing | N4: =IF(COUNTA(A4:M4)=0,"",IF(OR(A4="",B4="",C4="",D4="",E4="",F4="",G4="",H4="",I4="",L4=""),"Complete required fields",IF(COUNTIF($A$2:$A$501,A4)>1,"Duplicate Call ID",IF(OR(AND(H4="Yes",G4<>"Yes"),AND(I4="Yes",H4<>"Yes")),"Inconsistent funnel stages",IF(AND(I4="Yes",OR(J4="",K4="",IFERROR(K4<=0,TRUE))),"Enter valid sale date and value",IF(AND(I4="Yes",IFERROR(J4<B4,TRUE)),"Check sale date",IF(AND(I4<>"Yes",OR(J4<>"",K4<>"")),"Clear sale date and value",IF(AND(L4="Completed",I4="No",M4=""),"Add non-conversion reason",IF(AND(I4="Yes",M4<>""),"Clear non-conversion reason",""))))))))) | P4: ='Lists & Setup'!A4 | Q4: ='Lists & Setup'!B4 | R4: ='Lists & Setup'!C4 | S4: ='Lists & Setup'!D4 | T4: ='Lists & Setup'!E4 | U4: ='Lists & Setup'!F4
A5: FIC-260903-04 | B5: 46268 | C5: 0.38888889 | D5: Direct Mail | E5: Rep A (Fictional) | F5: Missed | G5: No | H5: No | I5: No | L5: Completed | M5: No Contact | N5: =IF(COUNTA(A5:M5)=0,"",IF(OR(A5="",B5="",C5="",D5="",E5="",F5="",G5="",H5="",I5="",L5=""),"Complete required fields",IF(COUNTIF($A$2:$A$501,A5)>1,"Duplicate Call ID",IF(OR(AND(H5="Yes",G5<>"Yes"),AND(I5="Yes",H5<>"Yes")),"Inconsistent funnel stages",IF(AND(I5="Yes",OR(J5="",K5="",IFERROR(K5<=0,TRUE))),"Enter valid sale date and value",IF(AND(I5="Yes",IFERROR(J5<B5,TRUE)),"Check sale date",IF(AND(I5<>"Yes",OR(J5<>"",K5<>"")),"Clear sale date and value",IF(AND(L5="Completed",I5="No",M5=""),"Add non-conversion reason",IF(AND(I5="Yes",M5<>""),"Clear non-conversion reason",""))))))))) | P5: ='Lists & Setup'!A5 | Q5: ='Lists & Setup'!B5 | R5: ='Lists & Setup'!C5 | S5: ='Lists & Setup'!D5 | T5: ='Lists & Setup'!E5 | U5: ='Lists & Setup'!F5
A6: FIC-260904-05 | B6: 46269 | C6: 0.64930556 | D6: Social Media | E6: Rep B (Fictional) | F6: Answered | G6: No | H6: No | I6: No | L6: Completed | M6: Not Service Fit | N6: =IF(COUNTA(A6:M6)=0,"",IF(OR(A6="",B6="",C6="",D6="",E6="",F6="",G6="",H6="",I6="",L6=""),"Complete required fields",IF(COUNTIF($A$2:$A$501,A6)>1,"Duplicate Call ID",IF(OR(AND(H6="Yes",G6<>"Yes"),AND(I6="Yes",H6<>"Yes")),"Inconsistent funnel stages",IF(AND(I6="Yes",OR(J6="",K6="",IFERROR(K6<=0,TRUE))),"Enter valid sale date and value",IF(AND(I6="Yes",IFERROR(J6<B6,TRUE)),"Check sale date",IF(AND(I6<>"Yes",OR(J6<>"",K6<>"")),"Clear sale date and value",IF(AND(L6="Completed",I6="No",M6=""),"Add non-conversion reason",IF(AND(I6="Yes",M6<>""),"Clear non-conversion reason",""))))))))) | P6: ='Lists & Setup'!A6 | Q6: ='Lists & Setup'!B6 | R6: ='Lists & Setup'!C6 | S6: ='Lists & Setup'!D6 | T6: ='Lists & Setup'!E6 | U6: ='Lists & Setup'!F6
A7: FIC-260905-06 | B7: 46270 | C7: 0.46527778 | D7: Repeat Customer | E7: Rep C (Fictional) | F7: Answered | G7: Yes | H7: Yes | I7: Yes | J7: 46272 | K7: 650 | L7: Completed | N7: =IF(COUNTA(A7:M7)=0,"",IF(OR(A7="",B7="",C7="",D7="",E7="",F7="",G7="",H7="",I7="",L7=""),"Complete required fields",IF(COUNTIF($A$2:$A$501,A7)>1,"Duplicate Call ID",IF(OR(AND(H7="Yes",G7<>"Yes"),AND(I7="Yes",H7<>"Yes")),"Inconsistent funnel stages",IF(AND(I7="Yes",OR(J7="",K7="",IFERROR(K7<=0,TRUE))),"Enter valid sale date and value",IF(AND(I7="Yes",IFERROR(J7<B7,TRUE)),"Check sale date",IF(AND(I7<>"Yes",OR(J7<>"",K7<>"")),"Clear sale date and value",IF(AND(L7="Completed",I7="No",M7=""),"Add non-conversion reason",IF(AND(I7="Yes",M7<>""),"Clear non-conversion reason",""))))))))) | P7: ='Lists & Setup'!A7 | Q7: ='Lists & Setup'!B7 | R7: ='Lists & Setup'!C7 | S7: ='Lists & Setup'!D7 | T7: ='Lists & Setup'!E7 | U7: ='Lists & Setup'!F7
A8: FIC-260906-07 | B8: 46271 | C8: 0.68402778 | D8: Google Ads | E8: Rep A (Fictional) | F8: Voicemail | G8: Yes | H8: No | I8: No | L8: Open | M8: No Contact | N8: =IF(COUNTA(A8:M8)=0,"",IF(OR(A8="",B8="",C8="",D8="",E8="",F8="",G8="",H8="",I8="",L8=""),"Complete required fields",IF(COUNTIF($A$2:$A$501,A8)>1,"Duplicate Call ID",IF(OR(AND(H8="Yes",G8<>"Yes"),AND(I8="Yes",H8<>"Yes")),"Inconsistent funnel stages",IF(AND(I8="Yes",OR(J8="",K8="",IFERROR(K8<=0,TRUE))),"Enter valid sale date and value",IF(AND(I8="Yes",IFERROR(J8<B8,TRUE)),"Check sale date",IF(AND(I8<>"Yes",OR(J8<>"",K8<>"")),"Clear sale date and value",IF(AND(L8="Completed",I8="No",M8=""),"Add non-conversion reason",IF(AND(I8="Yes",M8<>""),"Clear non-conversion reason",""))))))))) | P8: ='Lists & Setup'!A8 | Q8: ='Lists & Setup'!B8 | R8: ='Lists & Setup'!C8 | S8: ='Lists & Setup'!D8 | T8: ='Lists & Setup'!E8 | U8: ='Lists & Setup'!F8
A9: FIC-260908-08 | B9: 46273 | C9: 0.36805556 | D9: Organic Search | E9: Rep B (Fictional) | F9: Answered | G9: Yes | H9: Yes | I9: Yes | J9: 46275 | K9: 325 | L9: Completed | N9: =IF(COUNTA(A9:M9)=0,"",IF(OR(A9="",B9="",C9="",D9="",E9="",F9="",G9="",H9="",I9="",L9=""),"Complete required fields",IF(COUNTIF($A$2:$A$501,A9)>1,"Duplicate Call ID",IF(OR(AND(H9="Yes",G9<>"Yes"),AND(I9="Yes",H9<>"Yes")),"Inconsistent funnel stages",IF(AND(I9="Yes",OR(J9="",K9="",IFERROR(K9<=0,TRUE))),"Enter valid sale date and value",IF(AND(I9="Yes",IFERROR(J9<B9,TRUE)),"Check sale date",IF(AND(I9<>"Yes",OR(J9<>"",K9<>"")),"Clear sale date and value",IF(AND(L9="Completed",I9="No",M9=""),"Add non-conversion reason",IF(AND(I9="Yes",M9<>""),"Clear non-conversion reason",""))))))))) | P9: ='Lists & Setup'!A9 | Q9: ='Lists & Setup'!B9 | R9: ='Lists & Setup'!C9 | S9: ='Lists & Setup'!D9 | T9: ='Lists & Setup'!E9 | U9: ='Lists & Setup'!F9
A10: FIC-260909-09 | B10: 46274 | C10: 0.52083333 | D10: Referral | E10: Rep C (Fictional) | F10: Abandoned | G10: No | H10: No | I10: No | L10: Completed | M10: No Contact | N10: =IF(COUNTA(A10:M10)=0,"",IF(OR(A10="",B10="",C10="",D10="",E10="",F10="",G10="",H10="",I10="",L10=""),"Complete required fields",IF(COUNTIF($A$2:$A$501,A10)>1,"Duplicate Call ID",IF(OR(AND(H10="Yes",G10<>"Yes"),AND(I10="Yes",H10<>"Yes")),"Inconsistent funnel stages",IF(AND(I10="Yes",OR(J10="",K10="",IFERROR(K10<=0,TRUE))),"Enter valid sale date and value",IF(AND(I10="Yes",IFERROR(J10<B10,TRUE)),"Check sale date",IF(AND(I10<>"Yes",OR(J10<>"",K10<>"")),"Clear sale date and value",IF(AND(L10="Completed",I10="No",M10=""),"Add non-conversion reason",IF(AND(I10="Yes",M10<>""),"Clear non-conversion reason",""))))))))) | P10: ='Lists & Setup'!A10 | Q10: ='Lists & Setup'!B10 | R10: ='Lists & Setup'!C10 | S10: ='Lists & Setup'!D10 | T10: ='Lists & Setup'!E10 | U10: ='Lists & Setup'!F10
A11: FIC-260910-10 | B11: 46275 | C11: 0.59375 | D11: Other | E11: Rep A (Fictional) | F11: Answered | G11: Yes | H11: No | I11: No | L11: Completed | M11: Price Concern | N11: =IF(COUNTA(A11:M11)=0,"",IF(OR(A11="",B11="",C11="",D11="",E11="",F11="",G11="",H11="",I11="",L11=""),"Complete required fields",IF(COUNTIF($A$2:$A$501,A11)>1,"Duplicate Call ID",IF(OR(AND(H11="Yes",G11<>"Yes"),AND(I11="Yes",H11<>"Yes")),"Inconsistent funnel stages",IF(AND(I11="Yes",OR(J11="",K11="",IFERROR(K11<=0,TRUE))),"Enter valid sale date and value",IF(AND(I11="Yes",IFERROR(J11<B11,TRUE)),"Check sale date",IF(AND(I11<>"Yes",OR(J11<>"",K11<>"")),"Clear sale date and value",IF(AND(L11="Completed",I11="No",M11=""),"Add non-conversion reason",IF(AND(I11="Yes",M11<>""),"Clear non-conversion reason",""))))))))) | P11: ='Lists & Setup'!A11 | Q11: ='Lists & Setup'!B11 | R11: ='Lists & Setup'!C11 | S11: ='Lists & Setup'!D11 | T11: ='Lists & Setup'!E11 | U11: ='Lists & Setup'!F11
N12: =IF(COUNTA(A12:M12)=0,"",IF(OR(A12="",B12="",C12="",D12="",E12="",F12="",G12="",H12="",I12="",L12=""),"Complete required fields",IF(COUNTIF($A$2:$A$501,A12)>1,"Duplicate Call ID",IF(OR(AND(H12="Yes",G12<>"Yes"),AND(I12="Yes",H12<>"Yes")),"Inconsistent funnel stages",IF(AND(I12="Yes",OR(J12="",K12="",IFERROR(K12<=0,TRUE))),"Enter valid sale date and value",IF(AND(I12="Yes",IFERROR(J12<B12,TRUE)),"Check sale date",IF(AND(I12<>"Yes",OR(J12<>"",K12<>"")),"Clear sale date and value",IF(AND(L12="Completed",I12="No",M12=""),"Add non-conversion reason",IF(AND(I12="Yes",M12<>""),"Clear non-conversion reason",""))))))))) | P12: ='Lists & Setup'!A12 | Q12: ='Lists & Setup'!B12 | R12: ='Lists & Setup'!C12 | S12: ='Lists & Setup'!D12 | T12: ='Lists & Setup'!E12 | U12: ='Lists & Setup'!F12
N13: =IF(COUNTA(A13:M13)=0,"",IF(OR(A13="",B13="",C13="",D13="",E13="",F13="",G13="",H13="",I13="",L13=""),"Complete required fields",IF(COUNTIF($A$2:$A$501,A13)>1,"Duplicate Call ID",IF(OR(AND(H13="Yes",G13<>"Yes"),AND(I13="Yes",H13<>"Yes")),"Inconsistent funnel stages",IF(AND(I13="Yes",OR(J13="",K13="",IFERROR(K13<=0,TRUE))),"Enter valid sale date and value",IF(AND(I13="Yes",IFERROR(J13<B13,TRUE)),"Check sale date",IF(AND(I13<>"Yes",OR(J13<>"",K13<>"")),"Clear sale date and value",IF(AND(L13="Completed",I13="No",M13=""),"Add non-conversion reason",IF(AND(I13="Yes",M13<>""),"Clear non-conversion reason",""))))))))) | P13: ='Lists & Setup'!A13 | Q13: ='Lists & Setup'!B13 | R13: ='Lists & Setup'!C13 | S13: ='Lists & Setup'!D13 | T13: ='Lists & Setup'!E13 | U13: ='Lists & Setup'!F13
N14: =IF(COUNTA(A14:M14)=0,"",IF(OR(A14="",B14="",C14="",D14="",E14="",F14="",G14="",H14="",I14="",L14=""),"Complete required fields",IF(COUNTIF($A$2:$A$501,A14)>1,"Duplicate Call ID",IF(OR(AND(H14="Yes",G14<>"Yes"),AND(I14="Yes",H14<>"Yes")),"Inconsistent funnel stages",IF(AND(I14="Yes",OR(J14="",K14="",IFERROR(K14<=0,TRUE))),"Enter valid sale date and value",IF(AND(I14="Yes",IFERROR(J14<B14,TRUE)),"Check sale date",IF(AND(I14<>"Yes",OR(J14<>"",K14<>"")),"Clear sale date and value",IF(AND(L14="Completed",I14="No",M14=""),"Add non-conversion reason",IF(AND(I14="Yes",M14<>""),"Clear non-conversion reason",""))))))))) | P14: ='Lists & Setup'!A14 | Q14: ='Lists & Setup'!B14 | R14: ='Lists & Setup'!C14 | S14: ='Lists & Setup'!D14 | T14: ='Lists & Setup'!E14 | U14: ='Lists & Setup'!F14
N15: =IF(COUNTA(A15:M15)=0,"",IF(OR(A15="",B15="",C15="",D15="",E15="",F15="",G15="",H15="",I15="",L15=""),"Complete required fields",IF(COUNTIF($A$2:$A$501,A15)>1,"Duplicate Call ID",IF(OR(AND(H15="Yes",G15<>"Yes"),AND(I15="Yes",H15<>"Yes")),"Inconsistent funnel stages",IF(AND(I15="Yes",OR(J15="",K15="",IFERROR(K15<=0,TRUE))),"Enter valid sale date and value",IF(AND(I15="Yes",IFERROR(J15<B15,TRUE)),"Check sale date",IF(AND(I15<>"Yes",OR(J15<>"",K15<>"")),"Clear sale date and value",IF(AND(L15="Completed",I15="No",M15=""),"Add non-conversion reason",IF(AND(I15="Yes",M15<>""),"Clear non-conversion reason",""))))))))) | P15: ='Lists & Setup'!A15 | Q15: ='Lists & Setup'!B15 | R15: ='Lists & Setup'!C15 | S15: ='Lists & Setup'!D15 | T15: ='Lists & Setup'!E15 | U15: ='Lists & Setup'!F15
N16: =IF(COUNTA(A16:M16)=0,"",IF(OR(A16="",B16="",C16="",D16="",E16="",F16="",G16="",H16="",I16="",L16=""),"Complete required fields",IF(COUNTIF($A$2:$A$501,A16)>1,"Duplicate Call ID",IF(OR(AND(H16="Yes",G16<>"Yes"),AND(I16="Yes",H16<>"Yes")),"Inconsistent funnel stages",IF(AND(I16="Yes",OR(J16="",K16="",IFERROR(K16<=0,TRUE))),"Enter valid sale date and value",IF(AND(I16="Yes",IFERROR(J16<B16,TRUE)),"Check sale date",IF(AND(I16<>"Yes",OR(J16<>"",K16<>"")),"Clear sale date and value",IF(AND(L16="Completed",I16="No",M16=""),"Add non-conversion reason",IF(AND(I16="Yes",M16<>""),"Clear non-conversion reason",""))))))))) | P16: ='Lists & Setup'!A16 | Q16: ='Lists & Setup'!B16 | R16: ='Lists & Setup'!C16 | S16: ='Lists & Setup'!D16 | T16: ='Lists & Setup'!E16 | U16: ='Lists & Setup'!F16
N17: =IF(COUNTA(A17:M17)=0,"",IF(OR(A17="",B17="",C17="",D17="",E17="",F17="",G17="",H17="",I17="",L17=""),"Complete required fields",IF(COUNTIF($A$2:$A$501,A17)>1,"Duplicate Call ID",IF(OR(AND(H17="Yes",G17<>"Yes"),AND(I17="Yes",H17<>"Yes")),"Inconsistent funnel stages",IF(AND(I17="Yes",OR(J17="",K17="",IFERROR(K17<=0,TRUE))),"Enter valid sale date and value",IF(AND(I17="Yes",IFERROR(J17<B17,TRUE)),"Check sale date",IF(AND(I17<>"Yes",OR(J17<>"",K17<>"")),"Clear sale date and value",IF(AND(L17="Completed",I17="No",M17=""),"Add non-conversion reason",IF(AND(I17="Yes",M17<>""),"Clear non-conversion reason",""))))))))) | P17: ='Lists & Setup'!A17 | Q17: ='Lists & Setup'!B17 | R17: ='Lists & Setup'!C17 | S17: ='Lists & Setup'!D17 | T17: ='Lists & Setup'!E17 | U17: ='Lists & Setup'!F17
N18: =IF(COUNTA(A18:M18)=0,"",IF(OR(A18="",B18="",C18="",D18="",E18="",F18="",G18="",H18="",I18="",L18=""),"Complete required fields",IF(COUNTIF($A$2:$A$501,A18)>1,"Duplicate Call ID",IF(OR(AND(H18="Yes",G18<>"Yes"),AND(I18="Yes",H18<>"Yes")),"Inconsistent funnel stages",IF(AND(I18="Yes",OR(J18="",K18="",IFERROR(K18<=0,TRUE))),"Enter valid sale date and value",IF(AND(I18="Yes",IFERROR(J18<B18,TRUE)),"Check sale date",IF(AND(I18<>"Yes",OR(J18<>"",K18<>"")),"Clear sale date and value",IF(AND(L18="Completed",I18="No",M18=""),"Add non-conversion reason",IF(AND(I18="Yes",M18<>""),"Clear non-conversion reason",""))))))))) | P18: ='Lists & Setup'!A18 | Q18: ='Lists & Setup'!B18 | R18: ='Lists & Setup'!C18 | S18: ='Lists & Setup'!D18 | T18: ='Lists & Setup'!E18 | U18: ='Lists & Setup'!F18
N19: =IF(COUNTA(A19:M19)=0,"",IF(OR(A19="",B19="",C19="",D19="",E19="",F19="",G19="",H19="",I19="",L19=""),"Complete required fields",IF(COUNTIF($A$2:$A$501,A19)>1,"Duplicate Call ID",IF(OR(AND(H19="Yes",G19<>"Yes"),AND(I19="Yes",H19<>"Yes")),"Inconsistent funnel stages",IF(AND(I19="Yes",OR(J19="",K19="",IFERROR(K19<=0,TRUE))),"Enter valid sale date and value",IF(AND(I19="Yes",IFERROR(J19<B19,TRUE)),"Check sale date",IF(AND(I19<>"Yes",OR(J19<>"",K19<>"")),"Clear sale date and value",IF(AND(L19="Completed",I19="No",M19=""),"Add non-conversion reason",IF(AND(I19="Yes",M19<>""),"Clear non-conversion reason",""))))))))) | P19: ='Lists & Setup'!A19 | Q19: ='Lists & Setup'!B19 | R19: ='Lists & Setup'!C19 | S19: ='Lists & Setup'!D19 | T19: ='Lists & Setup'!E19 | U19: ='Lists & Setup'!F19
N20: =IF(COUNTA(A20:M20)=0,"",IF(OR(A20="",B20="",C20="",D20="",E20="",F20="",G20="",H20="",I20="",L20=""),"Complete required fields",IF(COUNTIF($A$2:$A$501,A20)>1,"Duplicate Call ID",IF(OR(AND(H20="Yes",G20<>"Yes"),AND(I20="Yes",H20<>"Yes")),"Inconsistent funnel stages",IF(AND(I20="Yes",OR(J20="",K20="",IFERROR(K20<=0,TRUE))),"Enter valid sale date and value",IF(AND(I20="Yes",IFERROR(J20<B20,TRUE)),"Check sale date",IF(AND(I20<>"Yes",OR(J20<>"",K20<>"")),"Clear sale date and value",IF(AND(L20="Completed",I20="No",M20=""),"Add non-conversion reason",IF(AND(I20="Yes",M20<>""),"Clear non-conversion reason",""))))))))) | P20: ='Lists & Setup'!A20 | Q20: ='Lists & Setup'!B20 | R20: ='Lists & Setup'!C20 | S20: ='Lists & Setup'!D20 | T20: ='Lists & Setup'!E20 | U20: ='Lists & Setup'!F20
N21: =IF(COUNTA(A21:M21)=0,"",IF(OR(A21="",B21="",C21="",D21="",E21="",F21="",G21="",H21="",I21="",L21=""),"Complete required fields",IF(COUNTIF($A$2:$A$501,A21)>1,"Duplicate Call ID",IF(OR(AND(H21="Yes",G21<>"Yes"),AND(I21="Yes",H21<>"Yes")),"Inconsistent funnel stages",IF(AND(I21="Yes",OR(J21="",K21="",IFERROR(K21<=0,TRUE))),"Enter valid sale date and value",IF(AND(I21="Yes",IFERROR(J21<B21,TRUE)),"Check sale date",IF(AND(I21<>"Yes",OR(J21<>"",K21<>"")),"Clear sale date and value",IF(AND(L21="Completed",I21="No",M21=""),"Add non-conversion reason",IF(AND(I21="Yes",M21<>""),"Clear non-conversion reason",""))))))))) | P21: ='Lists & Setup'!A21 | Q21: ='Lists & Setup'!B21 | R21: ='Lists & Setup'!C21 | S21: ='Lists & Setup'!D21 | T21: ='Lists & Setup'!E21 | U21: ='Lists & Setup'!F21
N22: =IF(COUNTA(A22:M22)=0,"",IF(OR(A22="",B22="",C22="",D22="",E22="",F22="",G22="",H22="",I22="",L22=""),"Complete required fields",IF(COUNTIF($A$2:$A$501,A22)>1,"Duplicate Call ID",IF(OR(AND(H22="Yes",G22<>"Yes"),AND(I22="Yes",H22<>"Yes")),"Inconsistent funnel stages",IF(AND(I22="Yes",OR(J22="",K22="",IFERROR(K22<=0,TRUE))),"Enter valid sale date and value",IF(AND(I22="Yes",IFERROR(J22<B22,TRUE)),"Check sale date",IF(AND(I22<>"Yes",OR(J22<>"",K22<>"")),"Clear sale date and value",IF(AND(L22="Completed",I22="No",M22=""),"Add non-conversion reason",IF(AND(I22="Yes",M22<>""),"Clear non-conversion reason",""))))))))) | P22: ='Lists & Setup'!A22 | Q22: ='Lists & Setup'!B22 | R22: ='Lists & Setup'!C22 | S22: ='Lists & Setup'!D22 | T22: ='Lists & Setup'!E22 | U22: ='Lists & Setup'!F22
N23: =IF(COUNTA(A23:M23)=0,"",IF(OR(A23="",B23="",C23="",D23="",E23="",F23="",G23="",H23="",I23="",L23=""),"Complete required fields",IF(COUNTIF($A$2:$A$501,A23)>1,"Duplicate Call ID",IF(OR(AND(H23="Yes",G23<>"Yes"),AND(I23="Yes",H23<>"Yes")),"Inconsistent funnel stages",IF(AND(I23="Yes",OR(J23="",K23="",IFERROR(K23<=0,TRUE))),"Enter valid sale date and value",IF(AND(I23="Yes",IFERROR(J23<B23,TRUE)),"Check sale date",IF(AND(I23<>"Yes",OR(J23<>"",K23<>"")),"Clear sale date and value",IF(AND(L23="Completed",I23="No",M23=""),"Add non-conversion reason",IF(AND(I23="Yes",M23<>""),"Clear non-conversion reason",""))))))))) | P23: ='Lists & Setup'!A23 | Q23: ='Lists & Setup'!B23 | R23: ='Lists & Setup'!C23 | S23: ='Lists & Setup'!D23 | T23: ='Lists & Setup'!E23 | U23: ='Lists & Setup'!F23
... N501: =IF(COUNTA(A501:M501)=0,"",IF(OR(A501="",B501="",C501="",D501="",E501="",F501="",G501="",H501="",I501="",L501=""),"Complete required fields",IF(COUNTIF($A$2:$A$501,A501)>1,"Duplicate Call ID",IF(OR(AND(H501="Yes",G501<>"Yes"),AND(I501="Yes",H501<>"Yes")),"Inconsistent funnel stages",IF(AND(I501="Yes",OR(J501="",K501="",IFERROR(K501<=0,TRUE))),"Enter valid sale date and value",IF(AND(I501="Yes",IFERROR(J501<B501,TRUE)),"Check sale date",IF(AND(I501<>"Yes",OR(J501<>"",K501<>"")),"Clear sale date and value",IF(AND(L501="Completed",I501="No",M501=""),"Add non-conversion reason",IF(AND(I501="Yes",M501<>""),"Clear non-conversion reason",""))))))))) | P501: ='Lists & Setup'!A501 | Q501: ='Lists & Setup'!B501 | R501: ='Lists & Setup'!C501 | S501: ='Lists & Setup'!D501 | T501: ='Lists & Setup'!E501 | U501: ='Lists & Setup'!F501

Sheet Lists & Setup
A1: Marketing Sources | B1: Handler Aliases | C1: Initial Call Dispositions | D1: Yes / No | E1: Follow-Up Statuses | F1: Non-Conversion Reasons
A2: Google Ads | B2: Rep A (Fictional) | C2: Answered | D2: Yes | E2: Open | F2: Pending Decision
A3: Organic Search | B3: Rep B (Fictional) | C3: Missed | D3: No | E3: Completed | F3: Price Concern
A4: Referral | B4: Rep C (Fictional) | C4: Voicemail | E4: Not Needed | F4: Timing
A5: Direct Mail | C5: Abandoned | F5: Not Service Fit
A6: Social Media | F6: No Contact
A7: Repeat Customer | F7: Chose Another Provider
A8: Other | F8: Other
