Workbook

Sheet Summary
A1: Contract Renewal Summary
A2: Indicators are calculated from entered renewal records. Alerts are planning prompts for human follow-up.
A4: Indicator | B4: Calculated Value | D4: Review Band | E4: Contract Count
A5: Contracts entered | B5: =COUNTIF(Renewals!$A$5:$A$154,"<>") | D5: Completed | E5: =COUNTIF(Renewals!$U$5:$U$154,D5)
A6: Open renewal records | B6: =COUNTIFS(Renewals!$A$5:$A$154,"<>",Renewals!$O$5:$O$154,"<>Renewed",Renewals!$O$5:$O$154,"<>Lost") | D6: Closed | E6: =COUNTIF(Renewals!$U$5:$U$154,D6)
A7: Expiring within review horizon | B7: =IFERROR(SUMPRODUCT(--(Renewals!$A$5:$A$154<>""),--(Renewals!$I$5:$I$154>=TODAY()),--(Renewals!$I$5:$I$154<=TODAY()+Assumptions!$B$5),--(Renewals!$O$5:$O$154<>"Renewed"),--(Renewals!$O$5:$O$154<>"Lost")),0) | D7: Expired - Check | E7: =COUNTIF(Renewals!$U$5:$U$154,D7)
A8: Urgent future expirations | B8: =IFERROR(SUMPRODUCT(--(Renewals!$A$5:$A$154<>""),--(Renewals!$I$5:$I$154>=TODAY()),--(Renewals!$I$5:$I$154<=TODAY()+Assumptions!$B$7),--(Renewals!$O$5:$O$154<>"Renewed"),--(Renewals!$O$5:$O$154<>"Lost")),0) | D8: Urgent | E8: =COUNTIF(Renewals!$U$5:$U$154,D8)
A9: Expired agreements needing a check | B9: =IFERROR(SUMPRODUCT(--(Renewals!$A$5:$A$154<>""),--(Renewals!$I$5:$I$154<>""),--(Renewals!$I$5:$I$154<TODAY()),--(Renewals!$O$5:$O$154<>"Renewed"),--(Renewals!$O$5:$O$154<>"Lost")),0) | D9: Review Window | E9: =COUNTIF(Renewals!$U$5:$U$154,D9)
A10: Outreach not recorded within horizon | B10: =IFERROR(SUMPRODUCT(--(Renewals!$A$5:$A$154<>""),--(Renewals!$I$5:$I$154>=TODAY()),--(Renewals!$I$5:$I$154<=TODAY()+Assumptions!$B$5),--(Renewals!$M$5:$M$154=""),--(Renewals!$O$5:$O$154<>"Renewed"),--(Renewals!$O$5:$O$154<>"Lost")),0) | D10: Later | E10: =COUNTIF(Renewals!$U$5:$U$154,D10)
A11: Decisions past due | B11: =IFERROR(SUMPRODUCT(--(Renewals!$A$5:$A$154<>""),--(Renewals!$N$5:$N$154<>""),--(Renewals!$N$5:$N$154<TODAY()),--(Renewals!$P$5:$P$154=""),--(Renewals!$O$5:$O$154<>"Renewed"),--(Renewals!$O$5:$O$154<>"Lost")),0) | D11: Missing Date | E11: =COUNTIF(Renewals!$U$5:$U$154,D11)
A12: Current annual amount | B12: =SUM(Renewals!$J$5:$J$154)
A13: Open proposed annual amount | B13: =IFERROR(SUMIFS(Renewals!$L$5:$L$154,Renewals!$A$5:$A$154,"<>",Renewals!$O$5:$O$154,"<>Renewed",Renewals!$O$5:$O$154,"<>Lost"),0)
A14: Renewed annual amount | B14: =IFERROR(SUMIF(Renewals!$O$5:$O$154,"Renewed",Renewals!$S$5:$S$154),0)
A15: Closed decisions | B15: =COUNTIF(Renewals!$O$5:$O$154,"Renewed")+COUNTIF(Renewals!$O$5:$O$154,"Lost")
A16: Renewal decision rate | B16: =IFERROR(COUNTIF(Renewals!$O$5:$O$154,"Renewed")/(COUNTIF(Renewals!$O$5:$O$154,"Renewed")+COUNTIF(Renewals!$O$5:$O$154,"Lost")),"")

Sheet Renewals
A1: Pest Control Contract Renewal Tracker
A2: Yellow cells are editable. Calculated alerts prompt human review. All sample customers, sites, employees, routes, and records are fictional.
A4: Customer | B4: Service Site | C4: Pest Concern | D4: Service | E4: Route | F4: Technician | G4: Renewal Owner | H4: Contract Start | I4: Contract Expiration | J4: Current Annual Amount | K4: Price Review % | L4: Proposed Annual Amount | M4: Outreach Date | N4: Decision Due | O4: Renewal Status | P4: Decision Date | Q4: Renewed Start | R4: Renewed Expiration | S4: Renewed Annual Amount | T4: Days to Expiration | U4: Review Band | V4: Next Action
A5: Fictional Acorn Bakery LLC | B5: Fictional Acorn Site — Sampletown, TX | C5: Stored product insects | D5: Commercial pest monitoring | E5: Fictional Route North | F5: Fictional Tech Rowan | G5: Fictional Owner Avery | H5: 45922 | I5: 46286 | J5: 2400 | K5: 0.04 | L5: =IF(OR($A5="",$J5="",$K5=""),"",IFERROR($J5*(1+$K5),"")) | N5: =IF(OR($A5="",$I5=""),"",IFERROR($I5-Assumptions!$B$6,"")) | O5: Not Started | T5: =IF(OR($A5="",$I5=""),"",IFERROR($I5-TODAY(),"")) | U5: =IF($A5="","",IF($O5="Renewed","Completed",IF($O5="Lost","Closed",IF($I5="","Missing Date",IF($T5<0,"Expired - Check",IF($T5<=Assumptions!$B$7,"Urgent",IF($T5<=Assumptions!$B$5,"Review Window","Later"))))))) | V5: =IF($A5="","",IF($O5="Renewed",IF(OR($Q5="",$R5="",$S5=""),"Complete renewed terms","No open renewal action"),IF($O5="Lost","No open renewal action",IF($I5="","Enter expiration date",IF($I5<TODAY(),"Human check: expired agreement",IF(AND($M5="",$T5<=Assumptions!$B$5),"Plan customer outreach",IF(AND($N5<TODAY(),$P5=""),"Human check: decision overdue",IF($T5<=Assumptions!$B$7,"Human check: urgent renewal",IF($T5<=Assumptions!$B$5,"Review pricing and next step","Monitor"))))))))) | X5: =IFERROR(IF(Assumptions!D5="","",Assumptions!D5),"") | Y5: =IFERROR(IF(Assumptions!E5="","",Assumptions!E5),"") | Z5: =IFERROR(IF(Assumptions!F5="","",Assumptions!F5),"") | AA5: =IFERROR(IF(Assumptions!G5="","",Assumptions!G5),"") | AB5: =IFERROR(IF(Assumptions!H5="","",Assumptions!H5),"") | AC5: =IFERROR(IF(Assumptions!I5="","",Assumptions!I5),"") | AD5: =Assumptions!$B$10
A6: Fictional Blue Lantern Cafe LLC | B6: Fictional Blue Lantern Site — Example City, FL | C6: Fly activity | D6: Recurring interior and exterior | E6: Fictional Route South | F6: Fictional Tech Casey | G6: Fictional Owner Riley | H6: 45942 | I6: 46306 | J6: 1800 | K6: 0.25 | L6: =IF(OR($A6="",$J6="",$K6=""),"",IFERROR($J6*(1+$K6),"")) | N6: =IF(OR($A6="",$I6=""),"",IFERROR($I6-Assumptions!$B$6,"")) | O6: Outreach Planned | T6: =IF(OR($A6="",$I6=""),"",IFERROR($I6-TODAY(),"")) | U6: =IF($A6="","",IF($O6="Renewed","Completed",IF($O6="Lost","Closed",IF($I6="","Missing Date",IF($T6<0,"Expired - Check",IF($T6<=Assumptions!$B$7,"Urgent",IF($T6<=Assumptions!$B$5,"Review Window","Later"))))))) | V6: =IF($A6="","",IF($O6="Renewed",IF(OR($Q6="",$R6="",$S6=""),"Complete renewed terms","No open renewal action"),IF($O6="Lost","No open renewal action",IF($I6="","Enter expiration date",IF($I6<TODAY(),"Human check: expired agreement",IF(AND($M6="",$T6<=Assumptions!$B$5),"Plan customer outreach",IF(AND($N6<TODAY(),$P6=""),"Human check: decision overdue",IF($T6<=Assumptions!$B$7,"Human check: urgent renewal",IF($T6<=Assumptions!$B$5,"Review pricing and next step","Monitor"))))))))) | X6: =IFERROR(IF(Assumptions!D6="","",Assumptions!D6),"") | Y6: =IFERROR(IF(Assumptions!E6="","",Assumptions!E6),"") | Z6: =IFERROR(IF(Assumptions!F6="","",Assumptions!F6),"") | AA6: =IFERROR(IF(Assumptions!G6="","",Assumptions!G6),"") | AB6: =IFERROR(IF(Assumptions!H6="","",Assumptions!H6),"") | AC6: =IFERROR(IF(Assumptions!I6="","",Assumptions!I6),"") | AD6: =Assumptions!$B$11
A7: Fictional Copper Kite Storage LLC | B7: Fictional Copper Kite Site — Testville, AZ | C7: Rodent activity | D7: Rodent monitoring service | E7: Fictional Route West | F7: Fictional Tech Morgan | G7: Fictional Owner Cameron | H7: 46002 | I7: 46366 | J7: 3600 | K7: 0.03 | L7: =IF(OR($A7="",$J7="",$K7=""),"",IFERROR($J7*(1+$K7),"")) | M7: 46271 | N7: =IF(OR($A7="",$I7=""),"",IFERROR($I7-Assumptions!$B$6,"")) | O7: Outreach Sent | T7: =IF(OR($A7="",$I7=""),"",IFERROR($I7-TODAY(),"")) | U7: =IF($A7="","",IF($O7="Renewed","Completed",IF($O7="Lost","Closed",IF($I7="","Missing Date",IF($T7<0,"Expired - Check",IF($T7<=Assumptions!$B$7,"Urgent",IF($T7<=Assumptions!$B$5,"Review Window","Later"))))))) | V7: =IF($A7="","",IF($O7="Renewed",IF(OR($Q7="",$R7="",$S7=""),"Complete renewed terms","No open renewal action"),IF($O7="Lost","No open renewal action",IF($I7="","Enter expiration date",IF($I7<TODAY(),"Human check: expired agreement",IF(AND($M7="",$T7<=Assumptions!$B$5),"Plan customer outreach",IF(AND($N7<TODAY(),$P7=""),"Human check: decision overdue",IF($T7<=Assumptions!$B$7,"Human check: urgent renewal",IF($T7<=Assumptions!$B$5,"Review pricing and next step","Monitor"))))))))) | X7: =IFERROR(IF(Assumptions!D7="","",Assumptions!D7),"") | Y7: =IFERROR(IF(Assumptions!E7="","",Assumptions!E7),"") | Z7: =IFERROR(IF(Assumptions!F7="","",Assumptions!F7),"") | AA7: =IFERROR(IF(Assumptions!G7="","",Assumptions!G7),"") | AB7: =IFERROR(IF(Assumptions!H7="","",Assumptions!H7),"") | AC7: =IFERROR(IF(Assumptions!I7="","",Assumptions!I7),"") | AD7: =Assumptions!$B$8
A8: Fictional Dappled Oak Offices LLC | B8: Fictional Dappled Oak Site — Demo Springs, CO | C8: General pest monitoring | D8: Recurring exterior service | E8: Fictional Route Central | F8: Fictional Tech Taylor | G8: Fictional Owner Quinn | H8: 46003 | I8: 46367 | J8: 4200 | K8: -0.25 | L8: =IF(OR($A8="",$J8="",$K8=""),"",IFERROR($J8*(1+$K8),"")) | N8: =IF(OR($A8="",$I8=""),"",IFERROR($I8-Assumptions!$B$6,"")) | O8: Not Started | T8: =IF(OR($A8="",$I8=""),"",IFERROR($I8-TODAY(),"")) | U8: =IF($A8="","",IF($O8="Renewed","Completed",IF($O8="Lost","Closed",IF($I8="","Missing Date",IF($T8<0,"Expired - Check",IF($T8<=Assumptions!$B$7,"Urgent",IF($T8<=Assumptions!$B$5,"Review Window","Later"))))))) | V8: =IF($A8="","",IF($O8="Renewed",IF(OR($Q8="",$R8="",$S8=""),"Complete renewed terms","No open renewal action"),IF($O8="Lost","No open renewal action",IF($I8="","Enter expiration date",IF($I8<TODAY(),"Human check: expired agreement",IF(AND($M8="",$T8<=Assumptions!$B$5),"Plan customer outreach",IF(AND($N8<TODAY(),$P8=""),"Human check: decision overdue",IF($T8<=Assumptions!$B$7,"Human check: urgent renewal",IF($T8<=Assumptions!$B$5,"Review pricing and next step","Monitor"))))))))) | X8: =IFERROR(IF(Assumptions!D8="","",Assumptions!D8),"") | Y8: =IFERROR(IF(Assumptions!E8="","",Assumptions!E8),"") | Z8: =IFERROR(IF(Assumptions!F8="","",Assumptions!F8),"") | AA8: =IFERROR(IF(Assumptions!G8="","",Assumptions!G8),"") | AB8: =IFERROR(IF(Assumptions!H8="","",Assumptions!H8),"") | AC8: =IFERROR(IF(Assumptions!I8="","",Assumptions!I8),"") | AD8: =Assumptions!$B$9
A9: Fictional Ember Clock Market LLC | B9: Fictional Ember Clock Site — Sample Harbor, WA | C9: Cockroach activity | D9: Recurring interior and exterior | E9: Fictional Route East | F9: Fictional Tech Jordan | G9: Fictional Owner Skyler | H9: 45912 | I9: 46276 | J9: 5100 | K9: 0.05 | L9: =IF(OR($A9="",$J9="",$K9=""),"",IFERROR($J9*(1+$K9),"")) | M9: 46261 | N9: =IF(OR($A9="",$I9=""),"",IFERROR($I9-Assumptions!$B$6,"")) | O9: Considering | T9: =IF(OR($A9="",$I9=""),"",IFERROR($I9-TODAY(),"")) | U9: =IF($A9="","",IF($O9="Renewed","Completed",IF($O9="Lost","Closed",IF($I9="","Missing Date",IF($T9<0,"Expired - Check",IF($T9<=Assumptions!$B$7,"Urgent",IF($T9<=Assumptions!$B$5,"Review Window","Later"))))))) | V9: =IF($A9="","",IF($O9="Renewed",IF(OR($Q9="",$R9="",$S9=""),"Complete renewed terms","No open renewal action"),IF($O9="Lost","No open renewal action",IF($I9="","Enter expiration date",IF($I9<TODAY(),"Human check: expired agreement",IF(AND($M9="",$T9<=Assumptions!$B$5),"Plan customer outreach",IF(AND($N9<TODAY(),$P9=""),"Human check: decision overdue",IF($T9<=Assumptions!$B$7,"Human check: urgent renewal",IF($T9<=Assumptions!$B$5,"Review pricing and next step","Monitor"))))))))) | X9: =IFERROR(IF(Assumptions!D9="","",Assumptions!D9),"") | Y9: =IFERROR(IF(Assumptions!E9="","",Assumptions!E9),"") | Z9: =IFERROR(IF(Assumptions!F9="","",Assumptions!F9),"") | AA9: =IFERROR(IF(Assumptions!G9="","",Assumptions!G9),"") | AB9: =IFERROR(IF(Assumptions!H9="","",Assumptions!H9),"") | AC9: =IFERROR(IF(Assumptions!I9="","",Assumptions!I9),"")
A10: Fictional Fern Compass Studios LLC | B10: Fictional Fern Compass Site — Example Ridge, GA | C10: Occasional invaders | D10: Perimeter inspection service | E10: Fictional Route North | F10: Fictional Tech Rowan | G10: Fictional Owner Riley | H10: 45911 | I10: 46275 | J10: 1500 | K10: 0 | L10: =IF(OR($A10="",$J10="",$K10=""),"",IFERROR($J10*(1+$K10),"")) | M10: 46246 | N10: =IF(OR($A10="",$I10=""),"",IFERROR($I10-Assumptions!$B$6,"")) | O10: Month-to-Month | T10: =IF(OR($A10="",$I10=""),"",IFERROR($I10-TODAY(),"")) | U10: =IF($A10="","",IF($O10="Renewed","Completed",IF($O10="Lost","Closed",IF($I10="","Missing Date",IF($T10<0,"Expired - Check",IF($T10<=Assumptions!$B$7,"Urgent",IF($T10<=Assumptions!$B$5,"Review Window","Later"))))))) | V10: =IF($A10="","",IF($O10="Renewed",IF(OR($Q10="",$R10="",$S10=""),"Complete renewed terms","No open renewal action"),IF($O10="Lost","No open renewal action",IF($I10="","Enter expiration date",IF($I10<TODAY(),"Human check: expired agreement",IF(AND($M10="",$T10<=Assumptions!$B$5),"Plan customer outreach",IF(AND($N10<TODAY(),$P10=""),"Human check: decision overdue",IF($T10<=Assumptions!$B$7,"Human check: urgent renewal",IF($T10<=Assumptions!$B$5,"Review pricing and next step","Monitor"))))))))) | X10: =IFERROR(IF(Assumptions!D10="","",Assumptions!D10),"") | Y10: =IFERROR(IF(Assumptions!E10="","",Assumptions!E10),"") | Z10: =IFERROR(IF(Assumptions!F10="","",Assumptions!F10),"") | AA10: =IFERROR(IF(Assumptions!G10="","",Assumptions!G10),"") | AB10: =IFERROR(IF(Assumptions!H10="","",Assumptions!H10),"") | AC10: =IFERROR(IF(Assumptions!I10="","",Assumptions!I10),"")
A11: Fictional Golden Thimble Inn LLC | B11: Fictional Golden Thimble Site — Test Crossing, OH | C11: Ant activity | D11: Seasonal pest service | E11: Fictional Route South | F11: Fictional Tech Casey | G11: Fictional Owner Avery | H11: 45972 | I11: 46336 | J11: 2750 | K11: 0.03 | L11: =IF(OR($A11="",$J11="",$K11=""),"",IFERROR($J11*(1+$K11),"")) | M11: 46256 | N11: =IF(OR($A11="",$I11=""),"",IFERROR($I11-Assumptions!$B$6,"")) | O11: Renewed | P11: 46264 | Q11: 46337 | R11: 46701 | S11: 2832.5 | T11: =IF(OR($A11="",$I11=""),"",IFERROR($I11-TODAY(),"")) | U11: =IF($A11="","",IF($O11="Renewed","Completed",IF($O11="Lost","Closed",IF($I11="","Missing Date",IF($T11<0,"Expired - Check",IF($T11<=Assumptions!$B$7,"Urgent",IF($T11<=Assumptions!$B$5,"Review Window","Later"))))))) | V11: =IF($A11="","",IF($O11="Renewed",IF(OR($Q11="",$R11="",$S11=""),"Complete renewed terms","No open renewal action"),IF($O11="Lost","No open renewal action",IF($I11="","Enter expiration date",IF($I11<TODAY(),"Human check: expired agreement",IF(AND($M11="",$T11<=Assumptions!$B$5),"Plan customer outreach",IF(AND($N11<TODAY(),$P11=""),"Human check: decision overdue",IF($T11<=Assumptions!$B$7,"Human check: urgent renewal",IF($T11<=Assumptions!$B$5,"Review pricing and next step","Monitor"))))))))) | X11: =IFERROR(IF(Assumptions!D11="","",Assumptions!D11),"") | Y11: =IFERROR(IF(Assumptions!E11="","",Assumptions!E11),"") | Z11: =IFERROR(IF(Assumptions!F11="","",Assumptions!F11),"") | AA11: =IFERROR(IF(Assumptions!G11="","",Assumptions!G11),"") | AB11: =IFERROR(IF(Assumptions!H11="","",Assumptions!H11),"") | AC11: =IFERROR(IF(Assumptions!I11="","",Assumptions!I11),"")
A12: Fictional Harbor Marble Shop LLC | B12: Fictional Harbor Marble Site — Demo Point, NC | C12: Stinging insects | D12: Recurring exterior service | E12: Fictional Route East | F12: Fictional Tech Morgan | G12: Fictional Owner Cameron | H12: 46032 | I12: 46396 | J12: 1950 | K12: 0.02 | L12: =IF(OR($A12="",$J12="",$K12=""),"",IFERROR($J12*(1+$K12),"")) | M12: 46258 | N12: =IF(OR($A12="",$I12=""),"",IFERROR($I12-Assumptions!$B$6,"")) | O12: Lost | P12: 46272 | T12: =IF(OR($A12="",$I12=""),"",IFERROR($I12-TODAY(),"")) | U12: =IF($A12="","",IF($O12="Renewed","Completed",IF($O12="Lost","Closed",IF($I12="","Missing Date",IF($T12<0,"Expired - Check",IF($T12<=Assumptions!$B$7,"Urgent",IF($T12<=Assumptions!$B$5,"Review Window","Later"))))))) | V12: =IF($A12="","",IF($O12="Renewed",IF(OR($Q12="",$R12="",$S12=""),"Complete renewed terms","No open renewal action"),IF($O12="Lost","No open renewal action",IF($I12="","Enter expiration date",IF($I12<TODAY(),"Human check: expired agreement",IF(AND($M12="",$T12<=Assumptions!$B$5),"Plan customer outreach",IF(AND($N12<TODAY(),$P12=""),"Human check: decision overdue",IF($T12<=Assumptions!$B$7,"Human check: urgent renewal",IF($T12<=Assumptions!$B$5,"Review pricing and next step","Monitor"))))))))) | X12: =IFERROR(IF(Assumptions!D12="","",Assumptions!D12),"") | Y12: =IFERROR(IF(Assumptions!E12="","",Assumptions!E12),"") | Z12: =IFERROR(IF(Assumptions!F12="","",Assumptions!F12),"") | AA12: =IFERROR(IF(Assumptions!G12="","",Assumptions!G12),"") | AB12: =IFERROR(IF(Assumptions!H12="","",Assumptions!H12),"") | AC12: =IFERROR(IF(Assumptions!I12="","",Assumptions!I12),"")
A13: Fictional Indigo Spoon Hall LLC | B13: Fictional Indigo Spoon Site — Sample Glen, IL | C13: Rodent activity | D13: Rodent monitoring service | E13: Fictional Route West | F13: Fictional Tech Taylor | G13: Fictional Owner Quinn | H13: 45937 | I13: 46301 | J13: 3250 | K13: 0.06 | L13: =IF(OR($A13="",$J13="",$K13=""),"",IFERROR($J13*(1+$K13),"")) | M13: 46273 | N13: =IF(OR($A13="",$I13=""),"",IFERROR($I13-Assumptions!$B$6,"")) | O13: Outreach Sent | T13: =IF(OR($A13="",$I13=""),"",IFERROR($I13-TODAY(),"")) | U13: =IF($A13="","",IF($O13="Renewed","Completed",IF($O13="Lost","Closed",IF($I13="","Missing Date",IF($T13<0,"Expired - Check",IF($T13<=Assumptions!$B$7,"Urgent",IF($T13<=Assumptions!$B$5,"Review Window","Later"))))))) | V13: =IF($A13="","",IF($O13="Renewed",IF(OR($Q13="",$R13="",$S13=""),"Complete renewed terms","No open renewal action"),IF($O13="Lost","No open renewal action",IF($I13="","Enter expiration date",IF($I13<TODAY(),"Human check: expired agreement",IF(AND($M13="",$T13<=Assumptions!$B$5),"Plan customer outreach",IF(AND($N13<TODAY(),$P13=""),"Human check: decision overdue",IF($T13<=Assumptions!$B$7,"Human check: urgent renewal",IF($T13<=Assumptions!$B$5,"Review pricing and next step","Monitor"))))))))) | X13: =IFERROR(IF(Assumptions!D13="","",Assumptions!D13),"") | Y13: =IFERROR(IF(Assumptions!E13="","",Assumptions!E13),"") | Z13: =IFERROR(IF(Assumptions!F13="","",Assumptions!F13),"") | AA13: =IFERROR(IF(Assumptions!G13="","",Assumptions!G13),"") | AB13: =IFERROR(IF(Assumptions!H13="","",Assumptions!H13),"") | AC13: =IFERROR(IF(Assumptions!I13="","",Assumptions!I13),"")
A14: Fictional Juniper Wheel Works LLC | B14: Fictional Juniper Wheel Site — Example Bend, OR | C14: General pest monitoring | D14: Commercial pest monitoring | E14: Fictional Route Central | F14: Fictional Tech Jordan | G14: Fictional Owner Skyler | H14: 45957 | I14: 46321 | J14: 4800 | K14: -0.02 | L14: =IF(OR($A14="",$J14="",$K14=""),"",IFERROR($J14*(1+$K14),"")) | M14: 46251 | N14: =IF(OR($A14="",$I14=""),"",IFERROR($I14-Assumptions!$B$6,"")) | O14: Renewed | P14: 46267 | Q14: 46322 | R14: 46686 | S14: 4704 | T14: =IF(OR($A14="",$I14=""),"",IFERROR($I14-TODAY(),"")) | U14: =IF($A14="","",IF($O14="Renewed","Completed",IF($O14="Lost","Closed",IF($I14="","Missing Date",IF($T14<0,"Expired - Check",IF($T14<=Assumptions!$B$7,"Urgent",IF($T14<=Assumptions!$B$5,"Review Window","Later"))))))) | V14: =IF($A14="","",IF($O14="Renewed",IF(OR($Q14="",$R14="",$S14=""),"Complete renewed terms","No open renewal action"),IF($O14="Lost","No open renewal action",IF($I14="","Enter expiration date",IF($I14<TODAY(),"Human check: expired agreement",IF(AND($M14="",$T14<=Assumptions!$B$5),"Plan customer outreach",IF(AND($N14<TODAY(),$P14=""),"Human check: decision overdue",IF($T14<=Assumptions!$B$7,"Human check: urgent renewal",IF($T14<=Assumptions!$B$5,"Review pricing and next step","Monitor"))))))))) | X14: =IFERROR(IF(Assumptions!D14="","",Assumptions!D14),"") | Y14: =IFERROR(IF(Assumptions!E14="","",Assumptions!E14),"") | Z14: =IFERROR(IF(Assumptions!F14="","",Assumptions!F14),"") | AA14: =IFERROR(IF(Assumptions!G14="","",Assumptions!G14),"") | AB14: =IFERROR(IF(Assumptions!H14="","",Assumptions!H14),"") | AC14: =IFERROR(IF(Assumptions!I14="","",Assumptions!I14),"")
L15: =IF(OR($A15="",$J15="",$K15=""),"",IFERROR($J15*(1+$K15),"")) | N15: =IF(OR($A15="",$I15=""),"",IFERROR($I15-Assumptions!$B$6,"")) | T15: =IF(OR($A15="",$I15=""),"",IFERROR($I15-TODAY(),"")) | U15: =IF($A15="","",IF($O15="Renewed","Completed",IF($O15="Lost","Closed",IF($I15="","Missing Date",IF($T15<0,"Expired - Check",IF($T15<=Assumptions!$B$7,"Urgent",IF($T15<=Assumptions!$B$5,"Review Window","Later"))))))) | V15: =IF($A15="","",IF($O15="Renewed",IF(OR($Q15="",$R15="",$S15=""),"Complete renewed terms","No open renewal action"),IF($O15="Lost","No open renewal action",IF($I15="","Enter expiration date",IF($I15<TODAY(),"Human check: expired agreement",IF(AND($M15="",$T15<=Assumptions!$B$5),"Plan customer outreach",IF(AND($N15<TODAY(),$P15=""),"Human check: decision overdue",IF($T15<=Assumptions!$B$7,"Human check: urgent renewal",IF($T15<=Assumptions!$B$5,"Review pricing and next step","Monitor"))))))))) | X15: =IFERROR(IF(Assumptions!D15="","",Assumptions!D15),"") | Y15: =IFERROR(IF(Assumptions!E15="","",Assumptions!E15),"") | Z15: =IFERROR(IF(Assumptions!F15="","",Assumptions!F15),"") | AA15: =IFERROR(IF(Assumptions!G15="","",Assumptions!G15),"") | AB15: =IFERROR(IF(Assumptions!H15="","",Assumptions!H15),"") | AC15: =IFERROR(IF(Assumptions!I15="","",Assumptions!I15),"")
L16: =IF(OR($A16="",$J16="",$K16=""),"",IFERROR($J16*(1+$K16),"")) | N16: =IF(OR($A16="",$I16=""),"",IFERROR($I16-Assumptions!$B$6,"")) | T16: =IF(OR($A16="",$I16=""),"",IFERROR($I16-TODAY(),"")) | U16: =IF($A16="","",IF($O16="Renewed","Completed",IF($O16="Lost","Closed",IF($I16="","Missing Date",IF($T16<0,"Expired - Check",IF($T16<=Assumptions!$B$7,"Urgent",IF($T16<=Assumptions!$B$5,"Review Window","Later"))))))) | V16: =IF($A16="","",IF($O16="Renewed",IF(OR($Q16="",$R16="",$S16=""),"Complete renewed terms","No open renewal action"),IF($O16="Lost","No open renewal action",IF($I16="","Enter expiration date",IF($I16<TODAY(),"Human check: expired agreement",IF(AND($M16="",$T16<=Assumptions!$B$5),"Plan customer outreach",IF(AND($N16<TODAY(),$P16=""),"Human check: decision overdue",IF($T16<=Assumptions!$B$7,"Human check: urgent renewal",IF($T16<=Assumptions!$B$5,"Review pricing and next step","Monitor"))))))))) | X16: =IFERROR(IF(Assumptions!D16="","",Assumptions!D16),"") | Y16: =IFERROR(IF(Assumptions!E16="","",Assumptions!E16),"") | Z16: =IFERROR(IF(Assumptions!F16="","",Assumptions!F16),"") | AA16: =IFERROR(IF(Assumptions!G16="","",Assumptions!G16),"") | AB16: =IFERROR(IF(Assumptions!H16="","",Assumptions!H16),"") | AC16: =IFERROR(IF(Assumptions!I16="","",Assumptions!I16),"")
L17: =IF(OR($A17="",$J17="",$K17=""),"",IFERROR($J17*(1+$K17),"")) | N17: =IF(OR($A17="",$I17=""),"",IFERROR($I17-Assumptions!$B$6,"")) | T17: =IF(OR($A17="",$I17=""),"",IFERROR($I17-TODAY(),"")) | U17: =IF($A17="","",IF($O17="Renewed","Completed",IF($O17="Lost","Closed",IF($I17="","Missing Date",IF($T17<0,"Expired - Check",IF($T17<=Assumptions!$B$7,"Urgent",IF($T17<=Assumptions!$B$5,"Review Window","Later"))))))) | V17: =IF($A17="","",IF($O17="Renewed",IF(OR($Q17="",$R17="",$S17=""),"Complete renewed terms","No open renewal action"),IF($O17="Lost","No open renewal action",IF($I17="","Enter expiration date",IF($I17<TODAY(),"Human check: expired agreement",IF(AND($M17="",$T17<=Assumptions!$B$5),"Plan customer outreach",IF(AND($N17<TODAY(),$P17=""),"Human check: decision overdue",IF($T17<=Assumptions!$B$7,"Human check: urgent renewal",IF($T17<=Assumptions!$B$5,"Review pricing and next step","Monitor"))))))))) | X17: =IFERROR(IF(Assumptions!D17="","",Assumptions!D17),"") | Y17: =IFERROR(IF(Assumptions!E17="","",Assumptions!E17),"") | Z17: =IFERROR(IF(Assumptions!F17="","",Assumptions!F17),"") | AA17: =IFERROR(IF(Assumptions!G17="","",Assumptions!G17),"") | AB17: =IFERROR(IF(Assumptions!H17="","",Assumptions!H17),"") | AC17: =IFERROR(IF(Assumptions!I17="","",Assumptions!I17),"")
L18: =IF(OR($A18="",$J18="",$K18=""),"",IFERROR($J18*(1+$K18),"")) | N18: =IF(OR($A18="",$I18=""),"",IFERROR($I18-Assumptions!$B$6,"")) | T18: =IF(OR($A18="",$I18=""),"",IFERROR($I18-TODAY(),"")) | U18: =IF($A18="","",IF($O18="Renewed","Completed",IF($O18="Lost","Closed",IF($I18="","Missing Date",IF($T18<0,"Expired - Check",IF($T18<=Assumptions!$B$7,"Urgent",IF($T18<=Assumptions!$B$5,"Review Window","Later"))))))) | V18: =IF($A18="","",IF($O18="Renewed",IF(OR($Q18="",$R18="",$S18=""),"Complete renewed terms","No open renewal action"),IF($O18="Lost","No open renewal action",IF($I18="","Enter expiration date",IF($I18<TODAY(),"Human check: expired agreement",IF(AND($M18="",$T18<=Assumptions!$B$5),"Plan customer outreach",IF(AND($N18<TODAY(),$P18=""),"Human check: decision overdue",IF($T18<=Assumptions!$B$7,"Human check: urgent renewal",IF($T18<=Assumptions!$B$5,"Review pricing and next step","Monitor"))))))))) | X18: =IFERROR(IF(Assumptions!D18="","",Assumptions!D18),"") | Y18: =IFERROR(IF(Assumptions!E18="","",Assumptions!E18),"") | Z18: =IFERROR(IF(Assumptions!F18="","",Assumptions!F18),"") | AA18: =IFERROR(IF(Assumptions!G18="","",Assumptions!G18),"") | AB18: =IFERROR(IF(Assumptions!H18="","",Assumptions!H18),"") | AC18: =IFERROR(IF(Assumptions!I18="","",Assumptions!I18),"")
L19: =IF(OR($A19="",$J19="",$K19=""),"",IFERROR($J19*(1+$K19),"")) | N19: =IF(OR($A19="",$I19=""),"",IFERROR($I19-Assumptions!$B$6,"")) | T19: =IF(OR($A19="",$I19=""),"",IFERROR($I19-TODAY(),"")) | U19: =IF($A19="","",IF($O19="Renewed","Completed",IF($O19="Lost","Closed",IF($I19="","Missing Date",IF($T19<0,"Expired - Check",IF($T19<=Assumptions!$B$7,"Urgent",IF($T19<=Assumptions!$B$5,"Review Window","Later"))))))) | V19: =IF($A19="","",IF($O19="Renewed",IF(OR($Q19="",$R19="",$S19=""),"Complete renewed terms","No open renewal action"),IF($O19="Lost","No open renewal action",IF($I19="","Enter expiration date",IF($I19<TODAY(),"Human check: expired agreement",IF(AND($M19="",$T19<=Assumptions!$B$5),"Plan customer outreach",IF(AND($N19<TODAY(),$P19=""),"Human check: decision overdue",IF($T19<=Assumptions!$B$7,"Human check: urgent renewal",IF($T19<=Assumptions!$B$5,"Review pricing and next step","Monitor"))))))))) | X19: =IFERROR(IF(Assumptions!D19="","",Assumptions!D19),"") | Y19: =IFERROR(IF(Assumptions!E19="","",Assumptions!E19),"") | Z19: =IFERROR(IF(Assumptions!F19="","",Assumptions!F19),"") | AA19: =IFERROR(IF(Assumptions!G19="","",Assumptions!G19),"") | AB19: =IFERROR(IF(Assumptions!H19="","",Assumptions!H19),"") | AC19: =IFERROR(IF(Assumptions!I19="","",Assumptions!I19),"")
L20: =IF(OR($A20="",$J20="",$K20=""),"",IFERROR($J20*(1+$K20),"")) | N20: =IF(OR($A20="",$I20=""),"",IFERROR($I20-Assumptions!$B$6,"")) | T20: =IF(OR($A20="",$I20=""),"",IFERROR($I20-TODAY(),"")) | U20: =IF($A20="","",IF($O20="Renewed","Completed",IF($O20="Lost","Closed",IF($I20="","Missing Date",IF($T20<0,"Expired - Check",IF($T20<=Assumptions!$B$7,"Urgent",IF($T20<=Assumptions!$B$5,"Review Window","Later"))))))) | V20: =IF($A20="","",IF($O20="Renewed",IF(OR($Q20="",$R20="",$S20=""),"Complete renewed terms","No open renewal action"),IF($O20="Lost","No open renewal action",IF($I20="","Enter expiration date",IF($I20<TODAY(),"Human check: expired agreement",IF(AND($M20="",$T20<=Assumptions!$B$5),"Plan customer outreach",IF(AND($N20<TODAY(),$P20=""),"Human check: decision overdue",IF($T20<=Assumptions!$B$7,"Human check: urgent renewal",IF($T20<=Assumptions!$B$5,"Review pricing and next step","Monitor"))))))))) | X20: =IFERROR(IF(Assumptions!D20="","",Assumptions!D20),"") | Y20: =IFERROR(IF(Assumptions!E20="","",Assumptions!E20),"") | Z20: =IFERROR(IF(Assumptions!F20="","",Assumptions!F20),"") | AA20: =IFERROR(IF(Assumptions!G20="","",Assumptions!G20),"") | AB20: =IFERROR(IF(Assumptions!H20="","",Assumptions!H20),"") | AC20: =IFERROR(IF(Assumptions!I20="","",Assumptions!I20),"")
L21: =IF(OR($A21="",$J21="",$K21=""),"",IFERROR($J21*(1+$K21),"")) | N21: =IF(OR($A21="",$I21=""),"",IFERROR($I21-Assumptions!$B$6,"")) | T21: =IF(OR($A21="",$I21=""),"",IFERROR($I21-TODAY(),"")) | U21: =IF($A21="","",IF($O21="Renewed","Completed",IF($O21="Lost","Closed",IF($I21="","Missing Date",IF($T21<0,"Expired - Check",IF($T21<=Assumptions!$B$7,"Urgent",IF($T21<=Assumptions!$B$5,"Review Window","Later"))))))) | V21: =IF($A21="","",IF($O21="Renewed",IF(OR($Q21="",$R21="",$S21=""),"Complete renewed terms","No open renewal action"),IF($O21="Lost","No open renewal action",IF($I21="","Enter expiration date",IF($I21<TODAY(),"Human check: expired agreement",IF(AND($M21="",$T21<=Assumptions!$B$5),"Plan customer outreach",IF(AND($N21<TODAY(),$P21=""),"Human check: decision overdue",IF($T21<=Assumptions!$B$7,"Human check: urgent renewal",IF($T21<=Assumptions!$B$5,"Review pricing and next step","Monitor"))))))))) | X21: =IFERROR(IF(Assumptions!D21="","",Assumptions!D21),"") | Y21: =IFERROR(IF(Assumptions!E21="","",Assumptions!E21),"") | Z21: =IFERROR(IF(Assumptions!F21="","",Assumptions!F21),"") | AA21: =IFERROR(IF(Assumptions!G21="","",Assumptions!G21),"") | AB21: =IFERROR(IF(Assumptions!H21="","",Assumptions!H21),"") | AC21: =IFERROR(IF(Assumptions!I21="","",Assumptions!I21),"")
L22: =IF(OR($A22="",$J22="",$K22=""),"",IFERROR($J22*(1+$K22),"")) | N22: =IF(OR($A22="",$I22=""),"",IFERROR($I22-Assumptions!$B$6,"")) | T22: =IF(OR($A22="",$I22=""),"",IFERROR($I22-TODAY(),"")) | U22: =IF($A22="","",IF($O22="Renewed","Completed",IF($O22="Lost","Closed",IF($I22="","Missing Date",IF($T22<0,"Expired - Check",IF($T22<=Assumptions!$B$7,"Urgent",IF($T22<=Assumptions!$B$5,"Review Window","Later"))))))) | V22: =IF($A22="","",IF($O22="Renewed",IF(OR($Q22="",$R22="",$S22=""),"Complete renewed terms","No open renewal action"),IF($O22="Lost","No open renewal action",IF($I22="","Enter expiration date",IF($I22<TODAY(),"Human check: expired agreement",IF(AND($M22="",$T22<=Assumptions!$B$5),"Plan customer outreach",IF(AND($N22<TODAY(),$P22=""),"Human check: decision overdue",IF($T22<=Assumptions!$B$7,"Human check: urgent renewal",IF($T22<=Assumptions!$B$5,"Review pricing and next step","Monitor"))))))))) | X22: =IFERROR(IF(Assumptions!D22="","",Assumptions!D22),"") | Y22: =IFERROR(IF(Assumptions!E22="","",Assumptions!E22),"") | Z22: =IFERROR(IF(Assumptions!F22="","",Assumptions!F22),"") | AA22: =IFERROR(IF(Assumptions!G22="","",Assumptions!G22),"") | AB22: =IFERROR(IF(Assumptions!H22="","",Assumptions!H22),"") | AC22: =IFERROR(IF(Assumptions!I22="","",Assumptions!I22),"")
L23: =IF(OR($A23="",$J23="",$K23=""),"",IFERROR($J23*(1+$K23),"")) | N23: =IF(OR($A23="",$I23=""),"",IFERROR($I23-Assumptions!$B$6,"")) | T23: =IF(OR($A23="",$I23=""),"",IFERROR($I23-TODAY(),"")) | U23: =IF($A23="","",IF($O23="Renewed","Completed",IF($O23="Lost","Closed",IF($I23="","Missing Date",IF($T23<0,"Expired - Check",IF($T23<=Assumptions!$B$7,"Urgent",IF($T23<=Assumptions!$B$5,"Review Window","Later"))))))) | V23: =IF($A23="","",IF($O23="Renewed",IF(OR($Q23="",$R23="",$S23=""),"Complete renewed terms","No open renewal action"),IF($O23="Lost","No open renewal action",IF($I23="","Enter expiration date",IF($I23<TODAY(),"Human check: expired agreement",IF(AND($M23="",$T23<=Assumptions!$B$5),"Plan customer outreach",IF(AND($N23<TODAY(),$P23=""),"Human check: decision overdue",IF($T23<=Assumptions!$B$7,"Human check: urgent renewal",IF($T23<=Assumptions!$B$5,"Review pricing and next step","Monitor"))))))))) | X23: =IFERROR(IF(Assumptions!D23="","",Assumptions!D23),"") | Y23: =IFERROR(IF(Assumptions!E23="","",Assumptions!E23),"") | Z23: =IFERROR(IF(Assumptions!F23="","",Assumptions!F23),"") | AA23: =IFERROR(IF(Assumptions!G23="","",Assumptions!G23),"") | AB23: =IFERROR(IF(Assumptions!H23="","",Assumptions!H23),"") | AC23: =IFERROR(IF(Assumptions!I23="","",Assumptions!I23),"")
L24: =IF(OR($A24="",$J24="",$K24=""),"",IFERROR($J24*(1+$K24),"")) | N24: =IF(OR($A24="",$I24=""),"",IFERROR($I24-Assumptions!$B$6,"")) | T24: =IF(OR($A24="",$I24=""),"",IFERROR($I24-TODAY(),"")) | U24: =IF($A24="","",IF($O24="Renewed","Completed",IF($O24="Lost","Closed",IF($I24="","Missing Date",IF($T24<0,"Expired - Check",IF($T24<=Assumptions!$B$7,"Urgent",IF($T24<=Assumptions!$B$5,"Review Window","Later"))))))) | V24: =IF($A24="","",IF($O24="Renewed",IF(OR($Q24="",$R24="",$S24=""),"Complete renewed terms","No open renewal action"),IF($O24="Lost","No open renewal action",IF($I24="","Enter expiration date",IF($I24<TODAY(),"Human check: expired agreement",IF(AND($M24="",$T24<=Assumptions!$B$5),"Plan customer outreach",IF(AND($N24<TODAY(),$P24=""),"Human check: decision overdue",IF($T24<=Assumptions!$B$7,"Human check: urgent renewal",IF($T24<=Assumptions!$B$5,"Review pricing and next step","Monitor"))))))))) | X24: =IFERROR(IF(Assumptions!D24="","",Assumptions!D24),"") | Y24: =IFERROR(IF(Assumptions!E24="","",Assumptions!E24),"") | Z24: =IFERROR(IF(Assumptions!F24="","",Assumptions!F24),"") | AA24: =IFERROR(IF(Assumptions!G24="","",Assumptions!G24),"") | AB24: =IFERROR(IF(Assumptions!H24="","",Assumptions!H24),"") | AC24: =IFERROR(IF(Assumptions!I24="","",Assumptions!I24),"")
L25: =IF(OR($A25="",$J25="",$K25=""),"",IFERROR($J25*(1+$K25),"")) | N25: =IF(OR($A25="",$I25=""),"",IFERROR($I25-Assumptions!$B$6,"")) | T25: =IF(OR($A25="",$I25=""),"",IFERROR($I25-TODAY(),"")) | U25: =IF($A25="","",IF($O25="Renewed","Completed",IF($O25="Lost","Closed",IF($I25="","Missing Date",IF($T25<0,"Expired - Check",IF($T25<=Assumptions!$B$7,"Urgent",IF($T25<=Assumptions!$B$5,"Review Window","Later"))))))) | V25: =IF($A25="","",IF($O25="Renewed",IF(OR($Q25="",$R25="",$S25=""),"Complete renewed terms","No open renewal action"),IF($O25="Lost","No open renewal action",IF($I25="","Enter expiration date",IF($I25<TODAY(),"Human check: expired agreement",IF(AND($M25="",$T25<=Assumptions!$B$5),"Plan customer outreach",IF(AND($N25<TODAY(),$P25=""),"Human check: decision overdue",IF($T25<=Assumptions!$B$7,"Human check: urgent renewal",IF($T25<=Assumptions!$B$5,"Review pricing and next step","Monitor"))))))))) | X25: =IFERROR(IF(Assumptions!D25="","",Assumptions!D25),"") | Y25: =IFERROR(IF(Assumptions!E25="","",Assumptions!E25),"") | Z25: =IFERROR(IF(Assumptions!F25="","",Assumptions!F25),"") | AA25: =IFERROR(IF(Assumptions!G25="","",Assumptions!G25),"") | AB25: =IFERROR(IF(Assumptions!H25="","",Assumptions!H25),"") | AC25: =IFERROR(IF(Assumptions!I25="","",Assumptions!I25),"")
L26: =IF(OR($A26="",$J26="",$K26=""),"",IFERROR($J26*(1+$K26),"")) | N26: =IF(OR($A26="",$I26=""),"",IFERROR($I26-Assumptions!$B$6,"")) | T26: =IF(OR($A26="",$I26=""),"",IFERROR($I26-TODAY(),"")) | U26: =IF($A26="","",IF($O26="Renewed","Completed",IF($O26="Lost","Closed",IF($I26="","Missing Date",IF($T26<0,"Expired - Check",IF($T26<=Assumptions!$B$7,"Urgent",IF($T26<=Assumptions!$B$5,"Review Window","Later"))))))) | V26: =IF($A26="","",IF($O26="Renewed",IF(OR($Q26="",$R26="",$S26=""),"Complete renewed terms","No open renewal action"),IF($O26="Lost","No open renewal action",IF($I26="","Enter expiration date",IF($I26<TODAY(),"Human check: expired agreement",IF(AND($M26="",$T26<=Assumptions!$B$5),"Plan customer outreach",IF(AND($N26<TODAY(),$P26=""),"Human check: decision overdue",IF($T26<=Assumptions!$B$7,"Human check: urgent renewal",IF($T26<=Assumptions!$B$5,"Review pricing and next step","Monitor"))))))))) | X26: =IFERROR(IF(Assumptions!D26="","",Assumptions!D26),"") | Y26: =IFERROR(IF(Assumptions!E26="","",Assumptions!E26),"") | Z26: =IFERROR(IF(Assumptions!F26="","",Assumptions!F26),"") | AA26: =IFERROR(IF(Assumptions!G26="","",Assumptions!G26),"") | AB26: =IFERROR(IF(Assumptions!H26="","",Assumptions!H26),"") | AC26: =IFERROR(IF(Assumptions!I26="","",Assumptions!I26),"")
... L154: =IF(OR($A154="",$J154="",$K154=""),"",IFERROR($J154*(1+$K154),"")) | N154: =IF(OR($A154="",$I154=""),"",IFERROR($I154-Assumptions!$B$6,"")) | T154: =IF(OR($A154="",$I154=""),"",IFERROR($I154-TODAY(),"")) | U154: =IF($A154="","",IF($O154="Renewed","Completed",IF($O154="Lost","Closed",IF($I154="","Missing Date",IF($T154<0,"Expired - Check",IF($T154<=Assumptions!$B$7,"Urgent",IF($T154<=Assumptions!$B$5,"Review Window","Later"))))))) | V154: =IF($A154="","",IF($O154="Renewed",IF(OR($Q154="",$R154="",$S154=""),"Complete renewed terms","No open renewal action"),IF($O154="Lost","No open renewal action",IF($I154="","Enter expiration date",IF($I154<TODAY(),"Human check: expired agreement",IF(AND($M154="",$T154<=Assumptions!$B$5),"Plan customer outreach",IF(AND($N154<TODAY(),$P154=""),"Human check: decision overdue",IF($T154<=Assumptions!$B$7,"Human check: urgent renewal",IF($T154<=Assumptions!$B$5,"Review pricing and next step","Monitor"))))))))) | X154: =IFERROR(IF(Assumptions!D154="","",Assumptions!D154),"") | Y154: =IFERROR(IF(Assumptions!E154="","",Assumptions!E154),"") | Z154: =IFERROR(IF(Assumptions!F154="","",Assumptions!F154),"") | AA154: =IFERROR(IF(Assumptions!G154="","",Assumptions!G154),"") | AB154: =IFERROR(IF(Assumptions!H154="","",Assumptions!H154),"") | AC154: =IFERROR(IF(Assumptions!I154="","",Assumptions!I154),"")

Sheet Assumptions
A1: Contract Renewal Tracker Assumptions
A2: Edit yellow limits and stable lists for internal planning. They are not pricing, legal, safety, or regulatory advice.
A4: Setting | B4: Value | C4: Unit / Guidance | D4: Renewal Status | E4: Pest Concern | F4: Service | G4: Technician | H4: Route | I4: Renewal Owner
A5: Review horizon | B5: 90 | C5: Days before expiration | D5: Not Started | E5: Ant activity | F5: Recurring interior and exterior | G5: Fictional Tech Rowan | H5: Fictional Route North | I5: Fictional Owner Avery
A6: Decision lead time | B6: 14 | C6: Days before expiration | D6: Outreach Planned | E6: Cockroach activity | F6: Recurring exterior service | G6: Fictional Tech Casey | H6: Fictional Route South | I6: Fictional Owner Riley
A7: Urgent threshold | B7: 30 | C7: Days before expiration | D7: Outreach Sent | E7: Rodent activity | F7: Rodent monitoring service | G7: Fictional Tech Morgan | H7: Fictional Route East | I7: Fictional Owner Cameron
A8: Maximum absolute price review change | B8: 0.25 | C8: Decimal rate | D8: Considering | E8: Stored product insects | F8: Commercial pest monitoring | G8: Fictional Tech Taylor | H8: Fictional Route West | I8: Fictional Owner Quinn
A9: Maximum annual amount | B9: 1000000 | C9: US dollars | D9: Renewed | E9: Occasional invaders | F9: Seasonal pest service | G9: Fictional Tech Jordan | H9: Fictional Route Central | I9: Fictional Owner Skyler
A10: Earliest allowed date | B10: 42370 | C10: MM/DD/YYYY | D10: Lost | E10: Fly activity | F10: Perimeter inspection service
A11: Latest allowed date | B11: 50040 | C11: MM/DD/YYYY | D11: Month-to-Month | E11: Stinging insects
E12: General pest monitoring
