Workbook

Sheet Summary
A1: Pest Control Lead Tracker Summary
A3: Key Indicator | B3: Calculated Value | D3: Stage | E3: Lead Count
A4: Total Leads | B4: =COUNTIF(Leads!$A$5:$A$104,"<>") | D4: =Assumptions!$D$4 | E4: =IF($D4="","",COUNTIFS(Leads!$A$5:$A$104,"<>",Leads!$I$5:$I$104,$D4))
A5: Open Leads | B5: =COUNTIFS(Leads!$A$5:$A$104,"<>",Leads!$I$5:$I$104,"<>Won",Leads!$I$5:$I$104,"<>Lost") | D5: =Assumptions!$D$5 | E5: =IF($D5="","",COUNTIFS(Leads!$A$5:$A$104,"<>",Leads!$I$5:$I$104,$D5))
A6: Follow-Ups to Review | B6: =COUNTIF(Leads!$R$5:$R$104,"Overdue")+COUNTIF(Leads!$R$5:$R$104,"Due soon")+COUNTIF(Leads!$R$5:$R$104,"Set next action")+COUNTIF(Leads!$R$5:$R$104,"Check date") | D6: =Assumptions!$D$6 | E6: =IF($D6="","",COUNTIFS(Leads!$A$5:$A$104,"<>",Leads!$I$5:$I$104,$D6))
A7: Open Pipeline Amount | B7: =SUMIFS(Leads!$N$5:$N$104,Leads!$A$5:$A$104,"<>",Leads!$I$5:$I$104,"<>Won",Leads!$I$5:$I$104,"<>Lost") | D7: =Assumptions!$D$7 | E7: =IF($D7="","",COUNTIFS(Leads!$A$5:$A$104,"<>",Leads!$I$5:$I$104,$D7))
A8: Weighted Open Pipeline | B8: =SUMIFS(Leads!$P$5:$P$104,Leads!$A$5:$A$104,"<>",Leads!$I$5:$I$104,"<>Won",Leads!$I$5:$I$104,"<>Lost") | D8: =Assumptions!$D$8 | E8: =IF($D8="","",COUNTIFS(Leads!$A$5:$A$104,"<>",Leads!$I$5:$I$104,$D8))
A9: Won Estimated Amount | B9: =SUMIFS(Leads!$N$5:$N$104,Leads!$A$5:$A$104,"<>",Leads!$I$5:$I$104,"Won") | D9: =Assumptions!$D$9 | E9: =IF($D9="","",COUNTIFS(Leads!$A$5:$A$104,"<>",Leads!$I$5:$I$104,$D9))
A10: Average Open Lead Age | B10: =IFERROR(SUMIFS(Leads!$Q$5:$Q$104,Leads!$A$5:$A$104,"<>",Leads!$I$5:$I$104,"<>Won",Leads!$I$5:$I$104,"<>Lost")/COUNTIFS(Leads!$A$5:$A$104,"<>",Leads!$I$5:$I$104,"<>Won",Leads!$I$5:$I$104,"<>Lost",Leads!$Q$5:$Q$104,">=0"),"") | D10: =Assumptions!$D$10 | E10: =IF($D10="","",COUNTIFS(Leads!$A$5:$A$104,"<>",Leads!$I$5:$I$104,$D10))
A11: Closed Win Rate | B11: =IFERROR(COUNTIFS(Leads!$A$5:$A$104,"<>",Leads!$I$5:$I$104,"Won")/(COUNTIFS(Leads!$A$5:$A$104,"<>",Leads!$I$5:$I$104,"Won")+COUNTIFS(Leads!$A$5:$A$104,"<>",Leads!$I$5:$I$104,"Lost")),"")

Sheet Leads
A1: Pest Control Lead Tracker
A2: Yellow cells are editable. Follow-up alerts are planning prompts for human review.
A4: Lead ID | B4: Prospect Name | C4: Service Site | D4: Lead Source | E4: Property Type | F4: Pest Concern | G4: Requested Service | H4: Owner | I4: Stage | J4: Created Date | K4: Last Contact Date | L4: Next Action Date | M4: Next Action | N4: Estimated Amount | O4: Probability | P4: Weighted Value | Q4: Lead Age (Days) | R4: Follow-Up Alert
A5: FIC-LD-001 | B5: Fictional Acorn Bakery | C5: Fictional Acorn Site, Exampleville, ZZ | D5: Website inquiry | E5: Single-family home | F5: Ants | G5: Recurring service inquiry | H5: Fictional Rep Avery | I5: New | J5: 46275 | L5: 46277 | M5: Call to confirm site details | N5: 420 | O5: =IF($A5="","",IFERROR(VLOOKUP($I5,Assumptions!$D$4:$E$10,2,FALSE),"")) | P5: =IF(OR($A5="",$N5="",$O5=""),"",IFERROR($N5*$O5,"")) | Q5: =IF(OR($A5="",$J5=""),"",IFERROR(MAX(0,TODAY()-$J5),"")) | R5: =IF($A5="","",IF(OR($I5="Won",$I5="Lost"),"Closed",IF($L5="","Set next action",IFERROR(IF($L5<TODAY(),"Overdue",IF($L5<=TODAY()+Assumptions!$B$4,"Due soon","Scheduled")),"Check date"))))
A6: FIC-LD-002 | B6: Fictional Blue Lantern Offices | C6: Fictional Blue Lantern Site, Exampleville, ZZ | D6: Phone inquiry | E6: Restaurant | F6: Cockroaches | G6: Inspection request | H6: Fictional Rep Blake | I6: Contacted | J6: 46271 | K6: 46273 | L6: 46275 | M6: Confirm walkthrough availability | N6: 650 | O6: =IF($A6="","",IFERROR(VLOOKUP($I6,Assumptions!$D$4:$E$10,2,FALSE),"")) | P6: =IF(OR($A6="",$N6="",$O6=""),"",IFERROR($N6*$O6,"")) | Q6: =IF(OR($A6="",$J6=""),"",IFERROR(MAX(0,TODAY()-$J6),"")) | R6: =IF($A6="","",IF(OR($I6="Won",$I6="Lost"),"Closed",IF($L6="","Set next action",IFERROR(IF($L6<TODAY(),"Overdue",IF($L6<=TODAY()+Assumptions!$B$4,"Due soon","Scheduled")),"Check date"))))
A7: FIC-LD-003 | B7: Fictional Cedar Court Rentals | C7: Fictional Cedar Court Site, Exampleville, ZZ | D7: Customer referral | E7: Apartment community | F7: Rodents | G7: Exclusion estimate | H7: Fictional Rep Casey | I7: Qualified | J7: 46264 | K7: 46274 | L7: 46279 | M7: Prepare a preliminary estimate | N7: 1800 | O7: =IF($A7="","",IFERROR(VLOOKUP($I7,Assumptions!$D$4:$E$10,2,FALSE),"")) | P7: =IF(OR($A7="",$N7="",$O7=""),"",IFERROR($N7*$O7,"")) | Q7: =IF(OR($A7="",$J7=""),"",IFERROR(MAX(0,TODAY()-$J7),"")) | R7: =IF($A7="","",IF(OR($I7="Won",$I7="Lost"),"Closed",IF($L7="","Set next action",IFERROR(IF($L7<TODAY(),"Overdue",IF($L7<=TODAY()+Assumptions!$B$4,"Due soon","Scheduled")),"Check date"))))
A8: FIC-LD-004 | B8: Fictional Driftwood Cafe | C8: Fictional Driftwood Site, Exampleville, ZZ | D8: Local event | E8: Office | F8: Mosquitoes | G8: Mosquito service inquiry | H8: Fictional Rep Avery | I8: Proposal | J8: 46258 | K8: 46275 | L8: 46283 | M8: Review proposal questions | N8: 1250 | O8: =IF($A8="","",IFERROR(VLOOKUP($I8,Assumptions!$D$4:$E$10,2,FALSE),"")) | P8: =IF(OR($A8="",$N8="",$O8=""),"",IFERROR($N8*$O8,"")) | Q8: =IF(OR($A8="",$J8=""),"",IFERROR(MAX(0,TODAY()-$J8),"")) | R8: =IF($A8="","",IF(OR($I8="Won",$I8="Lost"),"Closed",IF($L8="","Set next action",IFERROR(IF($L8<TODAY(),"Overdue",IF($L8<=TODAY()+Assumptions!$B$4,"Due soon","Scheduled")),"Check date"))))
A9: FIC-LD-005 | B9: Fictional Ember Storage | C9: Fictional Ember Site, Exampleville, ZZ | D9: Door-to-door | E9: Warehouse | F9: Termites | G9: Termite evaluation inquiry | H9: Fictional Rep Blake | I9: Nurture | J9: 46246 | K9: 46266 | M9: Choose a future follow-up date | N9: 2400 | O9: =IF($A9="","",IFERROR(VLOOKUP($I9,Assumptions!$D$4:$E$10,2,FALSE),"")) | P9: =IF(OR($A9="",$N9="",$O9=""),"",IFERROR($N9*$O9,"")) | Q9: =IF(OR($A9="",$J9=""),"",IFERROR(MAX(0,TODAY()-$J9),"")) | R9: =IF($A9="","",IF(OR($I9="Won",$I9="Lost"),"Closed",IF($L9="","Set next action",IFERROR(IF($L9<TODAY(),"Overdue",IF($L9<=TODAY()+Assumptions!$B$4,"Due soon","Scheduled")),"Check date"))))
A10: FIC-LD-006 | B10: Fictional Fernview Clinic | C10: Fictional Fernview Site, Exampleville, ZZ | D10: Website inquiry | E10: Hospitality | F10: Bed bugs | G10: Bed bug evaluation inquiry | H10: Fictional Rep Casey | I10: Lost | J10: 46256 | K10: 46261 | M10: Record the reason the lead closed | N10: 0 | O10: =IF($A10="","",IFERROR(VLOOKUP($I10,Assumptions!$D$4:$E$10,2,FALSE),"")) | P10: =IF(OR($A10="",$N10="",$O10=""),"",IFERROR($N10*$O10,"")) | Q10: =IF(OR($A10="",$J10=""),"",IFERROR(MAX(0,TODAY()-$J10),"")) | R10: =IF($A10="","",IF(OR($I10="Won",$I10="Lost"),"Closed",IF($L10="","Set next action",IFERROR(IF($L10<TODAY(),"Overdue",IF($L10<=TODAY()+Assumptions!$B$4,"Due soon","Scheduled")),"Check date"))))
A11: FIC-LD-007 | B11: Fictional Glass Kite Market | C11: Fictional Glass Kite Site, Exampleville, ZZ | D11: Partner referral | E11: Retail | F11: Wasps | G11: One-time service inquiry | H11: Fictional Rep Avery | I11: Won | J11: 46251 | K11: 46271 | M11: Confirm internal handoff notes | N11: 375 | O11: =IF($A11="","",IFERROR(VLOOKUP($I11,Assumptions!$D$4:$E$10,2,FALSE),"")) | P11: =IF(OR($A11="",$N11="",$O11=""),"",IFERROR($N11*$O11,"")) | Q11: =IF(OR($A11="",$J11=""),"",IFERROR(MAX(0,TODAY()-$J11),"")) | R11: =IF($A11="","",IF(OR($I11="Won",$I11="Lost"),"Closed",IF($L11="","Set next action",IFERROR(IF($L11<TODAY(),"Overdue",IF($L11<=TODAY()+Assumptions!$B$4,"Due soon","Scheduled")),"Check date"))))
A12: FIC-LD-008 | B12: Fictional Harbor Cube Hotel | C12: Fictional Harbor Cube Site, Exampleville, ZZ | D12: Other | E12: Retail | F12: Stored-product pests | G12: Inspection request | H12: Fictional Rep Casey | I12: New | J12: 46276 | L12: 46276 | M12: Call to clarify the concern | N12: 525 | O12: =IF($A12="","",IFERROR(VLOOKUP($I12,Assumptions!$D$4:$E$10,2,FALSE),"")) | P12: =IF(OR($A12="",$N12="",$O12=""),"",IFERROR($N12*$O12,"")) | Q12: =IF(OR($A12="",$J12=""),"",IFERROR(MAX(0,TODAY()-$J12),"")) | R12: =IF($A12="","",IF(OR($I12="Won",$I12="Lost"),"Closed",IF($L12="","Set next action",IFERROR(IF($L12<TODAY(),"Overdue",IF($L12<=TODAY()+Assumptions!$B$4,"Due soon","Scheduled")),"Check date"))))
A13: FIC-LD-009 | B13: Fictional Indigo Workshop | C13: Fictional Indigo Site, Exampleville, ZZ | D13: Phone inquiry | E13: Warehouse | F13: Rodents | G13: Recurring service inquiry | H13: Fictional Rep Blake | I13: Proposal | J13: 46231 | K13: 46269 | L13: 46274 | M13: Check whether the estimate was reviewed | N13: 3200 | O13: =IF($A13="","",IFERROR(VLOOKUP($I13,Assumptions!$D$4:$E$10,2,FALSE),"")) | P13: =IF(OR($A13="",$N13="",$O13=""),"",IFERROR($N13*$O13,"")) | Q13: =IF(OR($A13="",$J13=""),"",IFERROR(MAX(0,TODAY()-$J13),"")) | R13: =IF($A13="","",IF(OR($I13="Won",$I13="Lost"),"Closed",IF($L13="","Set next action",IFERROR(IF($L13<TODAY(),"Overdue",IF($L13<=TODAY()+Assumptions!$B$4,"Due soon","Scheduled")),"Check date"))))
A14: FIC-LD-010 | B14: Fictional Juniper Books | C14: Fictional Juniper Site, Exampleville, ZZ | D14: Customer referral | E14: Office | F14: Other | G14: Other inquiry | H14: Unassigned | I14: Contacted | J14: 46273 | L14: 46280 | M14: Assign an owner and confirm scope | N14: 300 | O14: =IF($A14="","",IFERROR(VLOOKUP($I14,Assumptions!$D$4:$E$10,2,FALSE),"")) | P14: =IF(OR($A14="",$N14="",$O14=""),"",IFERROR($N14*$O14,"")) | Q14: =IF(OR($A14="",$J14=""),"",IFERROR(MAX(0,TODAY()-$J14),"")) | R14: =IF($A14="","",IF(OR($I14="Won",$I14="Lost"),"Closed",IF($L14="","Set next action",IFERROR(IF($L14<TODAY(),"Overdue",IF($L14<=TODAY()+Assumptions!$B$4,"Due soon","Scheduled")),"Check date"))))
O15: =IF($A15="","",IFERROR(VLOOKUP($I15,Assumptions!$D$4:$E$10,2,FALSE),"")) | P15: =IF(OR($A15="",$N15="",$O15=""),"",IFERROR($N15*$O15,"")) | Q15: =IF(OR($A15="",$J15=""),"",IFERROR(MAX(0,TODAY()-$J15),"")) | R15: =IF($A15="","",IF(OR($I15="Won",$I15="Lost"),"Closed",IF($L15="","Set next action",IFERROR(IF($L15<TODAY(),"Overdue",IF($L15<=TODAY()+Assumptions!$B$4,"Due soon","Scheduled")),"Check date"))))
O16: =IF($A16="","",IFERROR(VLOOKUP($I16,Assumptions!$D$4:$E$10,2,FALSE),"")) | P16: =IF(OR($A16="",$N16="",$O16=""),"",IFERROR($N16*$O16,"")) | Q16: =IF(OR($A16="",$J16=""),"",IFERROR(MAX(0,TODAY()-$J16),"")) | R16: =IF($A16="","",IF(OR($I16="Won",$I16="Lost"),"Closed",IF($L16="","Set next action",IFERROR(IF($L16<TODAY(),"Overdue",IF($L16<=TODAY()+Assumptions!$B$4,"Due soon","Scheduled")),"Check date"))))
O17: =IF($A17="","",IFERROR(VLOOKUP($I17,Assumptions!$D$4:$E$10,2,FALSE),"")) | P17: =IF(OR($A17="",$N17="",$O17=""),"",IFERROR($N17*$O17,"")) | Q17: =IF(OR($A17="",$J17=""),"",IFERROR(MAX(0,TODAY()-$J17),"")) | R17: =IF($A17="","",IF(OR($I17="Won",$I17="Lost"),"Closed",IF($L17="","Set next action",IFERROR(IF($L17<TODAY(),"Overdue",IF($L17<=TODAY()+Assumptions!$B$4,"Due soon","Scheduled")),"Check date"))))
O18: =IF($A18="","",IFERROR(VLOOKUP($I18,Assumptions!$D$4:$E$10,2,FALSE),"")) | P18: =IF(OR($A18="",$N18="",$O18=""),"",IFERROR($N18*$O18,"")) | Q18: =IF(OR($A18="",$J18=""),"",IFERROR(MAX(0,TODAY()-$J18),"")) | R18: =IF($A18="","",IF(OR($I18="Won",$I18="Lost"),"Closed",IF($L18="","Set next action",IFERROR(IF($L18<TODAY(),"Overdue",IF($L18<=TODAY()+Assumptions!$B$4,"Due soon","Scheduled")),"Check date"))))
O19: =IF($A19="","",IFERROR(VLOOKUP($I19,Assumptions!$D$4:$E$10,2,FALSE),"")) | P19: =IF(OR($A19="",$N19="",$O19=""),"",IFERROR($N19*$O19,"")) | Q19: =IF(OR($A19="",$J19=""),"",IFERROR(MAX(0,TODAY()-$J19),"")) | R19: =IF($A19="","",IF(OR($I19="Won",$I19="Lost"),"Closed",IF($L19="","Set next action",IFERROR(IF($L19<TODAY(),"Overdue",IF($L19<=TODAY()+Assumptions!$B$4,"Due soon","Scheduled")),"Check date"))))
O20: =IF($A20="","",IFERROR(VLOOKUP($I20,Assumptions!$D$4:$E$10,2,FALSE),"")) | P20: =IF(OR($A20="",$N20="",$O20=""),"",IFERROR($N20*$O20,"")) | Q20: =IF(OR($A20="",$J20=""),"",IFERROR(MAX(0,TODAY()-$J20),"")) | R20: =IF($A20="","",IF(OR($I20="Won",$I20="Lost"),"Closed",IF($L20="","Set next action",IFERROR(IF($L20<TODAY(),"Overdue",IF($L20<=TODAY()+Assumptions!$B$4,"Due soon","Scheduled")),"Check date"))))
O21: =IF($A21="","",IFERROR(VLOOKUP($I21,Assumptions!$D$4:$E$10,2,FALSE),"")) | P21: =IF(OR($A21="",$N21="",$O21=""),"",IFERROR($N21*$O21,"")) | Q21: =IF(OR($A21="",$J21=""),"",IFERROR(MAX(0,TODAY()-$J21),"")) | R21: =IF($A21="","",IF(OR($I21="Won",$I21="Lost"),"Closed",IF($L21="","Set next action",IFERROR(IF($L21<TODAY(),"Overdue",IF($L21<=TODAY()+Assumptions!$B$4,"Due soon","Scheduled")),"Check date"))))
O22: =IF($A22="","",IFERROR(VLOOKUP($I22,Assumptions!$D$4:$E$10,2,FALSE),"")) | P22: =IF(OR($A22="",$N22="",$O22=""),"",IFERROR($N22*$O22,"")) | Q22: =IF(OR($A22="",$J22=""),"",IFERROR(MAX(0,TODAY()-$J22),"")) | R22: =IF($A22="","",IF(OR($I22="Won",$I22="Lost"),"Closed",IF($L22="","Set next action",IFERROR(IF($L22<TODAY(),"Overdue",IF($L22<=TODAY()+Assumptions!$B$4,"Due soon","Scheduled")),"Check date"))))
O23: =IF($A23="","",IFERROR(VLOOKUP($I23,Assumptions!$D$4:$E$10,2,FALSE),"")) | P23: =IF(OR($A23="",$N23="",$O23=""),"",IFERROR($N23*$O23,"")) | Q23: =IF(OR($A23="",$J23=""),"",IFERROR(MAX(0,TODAY()-$J23),"")) | R23: =IF($A23="","",IF(OR($I23="Won",$I23="Lost"),"Closed",IF($L23="","Set next action",IFERROR(IF($L23<TODAY(),"Overdue",IF($L23<=TODAY()+Assumptions!$B$4,"Due soon","Scheduled")),"Check date"))))
O24: =IF($A24="","",IFERROR(VLOOKUP($I24,Assumptions!$D$4:$E$10,2,FALSE),"")) | P24: =IF(OR($A24="",$N24="",$O24=""),"",IFERROR($N24*$O24,"")) | Q24: =IF(OR($A24="",$J24=""),"",IFERROR(MAX(0,TODAY()-$J24),"")) | R24: =IF($A24="","",IF(OR($I24="Won",$I24="Lost"),"Closed",IF($L24="","Set next action",IFERROR(IF($L24<TODAY(),"Overdue",IF($L24<=TODAY()+Assumptions!$B$4,"Due soon","Scheduled")),"Check date"))))
O25: =IF($A25="","",IFERROR(VLOOKUP($I25,Assumptions!$D$4:$E$10,2,FALSE),"")) | P25: =IF(OR($A25="",$N25="",$O25=""),"",IFERROR($N25*$O25,"")) | Q25: =IF(OR($A25="",$J25=""),"",IFERROR(MAX(0,TODAY()-$J25),"")) | R25: =IF($A25="","",IF(OR($I25="Won",$I25="Lost"),"Closed",IF($L25="","Set next action",IFERROR(IF($L25<TODAY(),"Overdue",IF($L25<=TODAY()+Assumptions!$B$4,"Due soon","Scheduled")),"Check date"))))
O26: =IF($A26="","",IFERROR(VLOOKUP($I26,Assumptions!$D$4:$E$10,2,FALSE),"")) | P26: =IF(OR($A26="",$N26="",$O26=""),"",IFERROR($N26*$O26,"")) | Q26: =IF(OR($A26="",$J26=""),"",IFERROR(MAX(0,TODAY()-$J26),"")) | R26: =IF($A26="","",IF(OR($I26="Won",$I26="Lost"),"Closed",IF($L26="","Set next action",IFERROR(IF($L26<TODAY(),"Overdue",IF($L26<=TODAY()+Assumptions!$B$4,"Due soon","Scheduled")),"Check date"))))
... O104: =IF($A104="","",IFERROR(VLOOKUP($I104,Assumptions!$D$4:$E$10,2,FALSE),"")) | P104: =IF(OR($A104="",$N104="",$O104=""),"",IFERROR($N104*$O104,"")) | Q104: =IF(OR($A104="",$J104=""),"",IFERROR(MAX(0,TODAY()-$J104),"")) | R104: =IF($A104="","",IF(OR($I104="Won",$I104="Lost"),"Closed",IF($L104="","Set next action",IFERROR(IF($L104<TODAY(),"Overdue",IF($L104<=TODAY()+Assumptions!$B$4,"Due soon","Scheduled")),"Check date"))))

Sheet Assumptions
A1: Lead Tracker Assumptions and Editable Lists
A2: Planning inputs only. Probabilities do not predict outcomes, and alerts require human review.
A3: Follow-Up Limit | B3: Editable Value | D3: Stage | E3: Probability | G3: Lead Source | I3: Property Type
A4: Due Soon Window (Days) | B4: 3 | D4: New | E4: 0.1 | G4: Website inquiry | I4: Single-family home
A5: Earliest Entry Date | B5: 45292 | D5: Contacted | E5: 0.2 | G5: Phone inquiry | I5: Apartment community
A6: Latest Next Action Date | B6: 48213 | D6: Qualified | E6: 0.4 | G6: Customer referral | I6: Restaurant
A7: Maximum Estimated Amount | B7: 100000 | D7: Proposal | E7: 0.65 | G7: Local event | I7: Office
D8: Won | E8: 1 | G8: Door-to-door | I8: Retail
D9: Lost | E9: 0 | G9: Partner referral | I9: Warehouse
D10: Nurture | E10: 0.15 | G10: Other | I10: Hospitality
I11: Other
D13: Pest Concern | G13: Requested Service | I13: Lead Owner
D14: Ants | G14: Inspection request | I14: Fictional Rep Avery
D15: Cockroaches | G15: One-time service inquiry | I15: Fictional Rep Blake
D16: Rodents | G16: Recurring service inquiry | I16: Fictional Rep Casey
D17: Termites | G17: Termite evaluation inquiry | I17: Unassigned
D18: Bed bugs | G18: Bed bug evaluation inquiry
D19: Mosquitoes | G19: Mosquito service inquiry
D20: Wasps | G20: Exclusion estimate
D21: Stored-product pests | G21: Other inquiry
D22: Other
