Workbook

Sheet Summary
A1: Pest Control Lost Quote Analysis
A2: Analysis Start Date | B2: 46204
A3: Analysis End Date | B3: 46276
A4: High-Value Threshold | B4: 2500
A5: Summary Status | B5: =IF(OR($B$2="",$B$3="",$B$4=""),"Complete the Analysis Assumptions",IF(OR(NOT(ISNUMBER($B$2)),NOT(ISNUMBER($B$3)),NOT(ISNUMBER($B$4)),$B$2>$B$3,$B$4<=0),"Correct the Analysis Assumptions",IF($B$7=0,"No Valid Lost Quotes in the Selected Period","Ready")))
A6: Key Indicators
A7: Lost Quote Count | B7: =IF(OR(NOT(ISNUMBER($B$2)),NOT(ISNUMBER($B$3)),$B$2>$B$3),"",COUNTIFS('Lost Quotes'!$C$2:$C$201,">="&$B$2,'Lost Quotes'!$C$2:$C$201,"<="&$B$3,'Lost Quotes'!$L$2:$L$201,"OK"))
A8: Total Lost Quote Value | B8: =IF(OR(NOT(ISNUMBER($B$2)),NOT(ISNUMBER($B$3)),$B$2>$B$3),"",SUMIFS('Lost Quotes'!$F$2:$F$201,'Lost Quotes'!$C$2:$C$201,">="&$B$2,'Lost Quotes'!$C$2:$C$201,"<="&$B$3,'Lost Quotes'!$L$2:$L$201,"OK"))
A9: Average Lost Quote Value | B9: =IFERROR($B$8/$B$7,"")
A10: High-Value Lost Quote Count | B10: =IF(OR(NOT(ISNUMBER($B$2)),NOT(ISNUMBER($B$3)),NOT(ISNUMBER($B$4)),$B$2>$B$3,$B$4<=0),"",COUNTIFS('Lost Quotes'!$C$2:$C$201,">="&$B$2,'Lost Quotes'!$C$2:$C$201,"<="&$B$3,'Lost Quotes'!$F$2:$F$201,">="&$B$4,'Lost Quotes'!$L$2:$L$201,"OK"))
A11: High-Value Lost Quote Value | B11: =IF(OR(NOT(ISNUMBER($B$2)),NOT(ISNUMBER($B$3)),NOT(ISNUMBER($B$4)),$B$2>$B$3,$B$4<=0),"",SUMIFS('Lost Quotes'!$F$2:$F$201,'Lost Quotes'!$C$2:$C$201,">="&$B$2,'Lost Quotes'!$C$2:$C$201,"<="&$B$3,'Lost Quotes'!$F$2:$F$201,">="&$B$4,'Lost Quotes'!$L$2:$L$201,"OK"))
A12: Named Competitor Lost Quote Value | B12: =IF(OR(NOT(ISNUMBER($B$2)),NOT(ISNUMBER($B$3)),$B$2>$B$3),"",SUMIFS('Lost Quotes'!$F$2:$F$201,'Lost Quotes'!$C$2:$C$201,">="&$B$2,'Lost Quotes'!$C$2:$C$201,"<="&$B$3,'Lost Quotes'!$G$2:$G$201,"Named Competitor",'Lost Quotes'!$L$2:$L$201,"OK"))
A13: Top Loss Reason by Value | B13: =IF(OR($B$8="",$B$8=0),"",INDEX($A$17:$A$28,MATCH(MAX($C$17:$C$28),$C$17:$C$28,0)))
A15: Loss Reason Breakdown | F15: Service Category Breakdown | K15: Sales Owner Breakdown
A16: Loss Reason | B16: Lost Quote Count | C16: Lost Quote Value | D16: Share of Total | F16: Service Category | G16: Lost Quote Count | H16: Lost Quote Value | I16: Share of Total | K16: Sales Owner | L16: Lost Quote Count | M16: Lost Quote Value | N16: Share of Total
A17: =IF(Lists!$B2="","",Lists!$B2) | B17: =IF(OR($A17="",NOT(ISNUMBER($B$2)),NOT(ISNUMBER($B$3)),$B$2>$B$3),"",COUNTIFS('Lost Quotes'!$C$2:$C$201,">="&$B$2,'Lost Quotes'!$C$2:$C$201,"<="&$B$3,'Lost Quotes'!$I$2:$I$201,$A17,'Lost Quotes'!$L$2:$L$201,"OK")) | C17: =IF(OR($A17="",NOT(ISNUMBER($B$2)),NOT(ISNUMBER($B$3)),$B$2>$B$3),"",SUMIFS('Lost Quotes'!$F$2:$F$201,'Lost Quotes'!$C$2:$C$201,">="&$B$2,'Lost Quotes'!$C$2:$C$201,"<="&$B$3,'Lost Quotes'!$I$2:$I$201,$A17,'Lost Quotes'!$L$2:$L$201,"OK")) | D17: =IFERROR($C17/$B$8,"") | F17: =IF(Lists!$A2="","",Lists!$A2) | G17: =IF(OR($F17="",NOT(ISNUMBER($B$2)),NOT(ISNUMBER($B$3)),$B$2>$B$3),"",COUNTIFS('Lost Quotes'!$C$2:$C$201,">="&$B$2,'Lost Quotes'!$C$2:$C$201,"<="&$B$3,'Lost Quotes'!$E$2:$E$201,$F17,'Lost Quotes'!$L$2:$L$201,"OK")) | H17: =IF(OR($F17="",NOT(ISNUMBER($B$2)),NOT(ISNUMBER($B$3)),$B$2>$B$3),"",SUMIFS('Lost Quotes'!$F$2:$F$201,'Lost Quotes'!$C$2:$C$201,">="&$B$2,'Lost Quotes'!$C$2:$C$201,"<="&$B$3,'Lost Quotes'!$E$2:$E$201,$F17,'Lost Quotes'!$L$2:$L$201,"OK")) | I17: =IFERROR($H17/$B$8,"") | K17: =IF(Lists!$C2="","",Lists!$C2) | L17: =IF(OR($K17="",NOT(ISNUMBER($B$2)),NOT(ISNUMBER($B$3)),$B$2>$B$3),"",COUNTIFS('Lost Quotes'!$C$2:$C$201,">="&$B$2,'Lost Quotes'!$C$2:$C$201,"<="&$B$3,'Lost Quotes'!$D$2:$D$201,$K17,'Lost Quotes'!$L$2:$L$201,"OK")) | M17: =IF(OR($K17="",NOT(ISNUMBER($B$2)),NOT(ISNUMBER($B$3)),$B$2>$B$3),"",SUMIFS('Lost Quotes'!$F$2:$F$201,'Lost Quotes'!$C$2:$C$201,">="&$B$2,'Lost Quotes'!$C$2:$C$201,"<="&$B$3,'Lost Quotes'!$D$2:$D$201,$K17,'Lost Quotes'!$L$2:$L$201,"OK")) | N17: =IFERROR($M17/$B$8,"")
A18: =IF(Lists!$B3="","",Lists!$B3) | B18: =IF(OR($A18="",NOT(ISNUMBER($B$2)),NOT(ISNUMBER($B$3)),$B$2>$B$3),"",COUNTIFS('Lost Quotes'!$C$2:$C$201,">="&$B$2,'Lost Quotes'!$C$2:$C$201,"<="&$B$3,'Lost Quotes'!$I$2:$I$201,$A18,'Lost Quotes'!$L$2:$L$201,"OK")) | C18: =IF(OR($A18="",NOT(ISNUMBER($B$2)),NOT(ISNUMBER($B$3)),$B$2>$B$3),"",SUMIFS('Lost Quotes'!$F$2:$F$201,'Lost Quotes'!$C$2:$C$201,">="&$B$2,'Lost Quotes'!$C$2:$C$201,"<="&$B$3,'Lost Quotes'!$I$2:$I$201,$A18,'Lost Quotes'!$L$2:$L$201,"OK")) | D18: =IFERROR($C18/$B$8,"") | F18: =IF(Lists!$A3="","",Lists!$A3) | G18: =IF(OR($F18="",NOT(ISNUMBER($B$2)),NOT(ISNUMBER($B$3)),$B$2>$B$3),"",COUNTIFS('Lost Quotes'!$C$2:$C$201,">="&$B$2,'Lost Quotes'!$C$2:$C$201,"<="&$B$3,'Lost Quotes'!$E$2:$E$201,$F18,'Lost Quotes'!$L$2:$L$201,"OK")) | H18: =IF(OR($F18="",NOT(ISNUMBER($B$2)),NOT(ISNUMBER($B$3)),$B$2>$B$3),"",SUMIFS('Lost Quotes'!$F$2:$F$201,'Lost Quotes'!$C$2:$C$201,">="&$B$2,'Lost Quotes'!$C$2:$C$201,"<="&$B$3,'Lost Quotes'!$E$2:$E$201,$F18,'Lost Quotes'!$L$2:$L$201,"OK")) | I18: =IFERROR($H18/$B$8,"") | K18: =IF(Lists!$C3="","",Lists!$C3) | L18: =IF(OR($K18="",NOT(ISNUMBER($B$2)),NOT(ISNUMBER($B$3)),$B$2>$B$3),"",COUNTIFS('Lost Quotes'!$C$2:$C$201,">="&$B$2,'Lost Quotes'!$C$2:$C$201,"<="&$B$3,'Lost Quotes'!$D$2:$D$201,$K18,'Lost Quotes'!$L$2:$L$201,"OK")) | M18: =IF(OR($K18="",NOT(ISNUMBER($B$2)),NOT(ISNUMBER($B$3)),$B$2>$B$3),"",SUMIFS('Lost Quotes'!$F$2:$F$201,'Lost Quotes'!$C$2:$C$201,">="&$B$2,'Lost Quotes'!$C$2:$C$201,"<="&$B$3,'Lost Quotes'!$D$2:$D$201,$K18,'Lost Quotes'!$L$2:$L$201,"OK")) | N18: =IFERROR($M18/$B$8,"")
A19: =IF(Lists!$B4="","",Lists!$B4) | B19: =IF(OR($A19="",NOT(ISNUMBER($B$2)),NOT(ISNUMBER($B$3)),$B$2>$B$3),"",COUNTIFS('Lost Quotes'!$C$2:$C$201,">="&$B$2,'Lost Quotes'!$C$2:$C$201,"<="&$B$3,'Lost Quotes'!$I$2:$I$201,$A19,'Lost Quotes'!$L$2:$L$201,"OK")) | C19: =IF(OR($A19="",NOT(ISNUMBER($B$2)),NOT(ISNUMBER($B$3)),$B$2>$B$3),"",SUMIFS('Lost Quotes'!$F$2:$F$201,'Lost Quotes'!$C$2:$C$201,">="&$B$2,'Lost Quotes'!$C$2:$C$201,"<="&$B$3,'Lost Quotes'!$I$2:$I$201,$A19,'Lost Quotes'!$L$2:$L$201,"OK")) | D19: =IFERROR($C19/$B$8,"") | F19: =IF(Lists!$A4="","",Lists!$A4) | G19: =IF(OR($F19="",NOT(ISNUMBER($B$2)),NOT(ISNUMBER($B$3)),$B$2>$B$3),"",COUNTIFS('Lost Quotes'!$C$2:$C$201,">="&$B$2,'Lost Quotes'!$C$2:$C$201,"<="&$B$3,'Lost Quotes'!$E$2:$E$201,$F19,'Lost Quotes'!$L$2:$L$201,"OK")) | H19: =IF(OR($F19="",NOT(ISNUMBER($B$2)),NOT(ISNUMBER($B$3)),$B$2>$B$3),"",SUMIFS('Lost Quotes'!$F$2:$F$201,'Lost Quotes'!$C$2:$C$201,">="&$B$2,'Lost Quotes'!$C$2:$C$201,"<="&$B$3,'Lost Quotes'!$E$2:$E$201,$F19,'Lost Quotes'!$L$2:$L$201,"OK")) | I19: =IFERROR($H19/$B$8,"") | K19: =IF(Lists!$C4="","",Lists!$C4) | L19: =IF(OR($K19="",NOT(ISNUMBER($B$2)),NOT(ISNUMBER($B$3)),$B$2>$B$3),"",COUNTIFS('Lost Quotes'!$C$2:$C$201,">="&$B$2,'Lost Quotes'!$C$2:$C$201,"<="&$B$3,'Lost Quotes'!$D$2:$D$201,$K19,'Lost Quotes'!$L$2:$L$201,"OK")) | M19: =IF(OR($K19="",NOT(ISNUMBER($B$2)),NOT(ISNUMBER($B$3)),$B$2>$B$3),"",SUMIFS('Lost Quotes'!$F$2:$F$201,'Lost Quotes'!$C$2:$C$201,">="&$B$2,'Lost Quotes'!$C$2:$C$201,"<="&$B$3,'Lost Quotes'!$D$2:$D$201,$K19,'Lost Quotes'!$L$2:$L$201,"OK")) | N19: =IFERROR($M19/$B$8,"")
A20: =IF(Lists!$B5="","",Lists!$B5) | B20: =IF(OR($A20="",NOT(ISNUMBER($B$2)),NOT(ISNUMBER($B$3)),$B$2>$B$3),"",COUNTIFS('Lost Quotes'!$C$2:$C$201,">="&$B$2,'Lost Quotes'!$C$2:$C$201,"<="&$B$3,'Lost Quotes'!$I$2:$I$201,$A20,'Lost Quotes'!$L$2:$L$201,"OK")) | C20: =IF(OR($A20="",NOT(ISNUMBER($B$2)),NOT(ISNUMBER($B$3)),$B$2>$B$3),"",SUMIFS('Lost Quotes'!$F$2:$F$201,'Lost Quotes'!$C$2:$C$201,">="&$B$2,'Lost Quotes'!$C$2:$C$201,"<="&$B$3,'Lost Quotes'!$I$2:$I$201,$A20,'Lost Quotes'!$L$2:$L$201,"OK")) | D20: =IFERROR($C20/$B$8,"") | F20: =IF(Lists!$A5="","",Lists!$A5) | G20: =IF(OR($F20="",NOT(ISNUMBER($B$2)),NOT(ISNUMBER($B$3)),$B$2>$B$3),"",COUNTIFS('Lost Quotes'!$C$2:$C$201,">="&$B$2,'Lost Quotes'!$C$2:$C$201,"<="&$B$3,'Lost Quotes'!$E$2:$E$201,$F20,'Lost Quotes'!$L$2:$L$201,"OK")) | H20: =IF(OR($F20="",NOT(ISNUMBER($B$2)),NOT(ISNUMBER($B$3)),$B$2>$B$3),"",SUMIFS('Lost Quotes'!$F$2:$F$201,'Lost Quotes'!$C$2:$C$201,">="&$B$2,'Lost Quotes'!$C$2:$C$201,"<="&$B$3,'Lost Quotes'!$E$2:$E$201,$F20,'Lost Quotes'!$L$2:$L$201,"OK")) | I20: =IFERROR($H20/$B$8,"") | K20: =IF(Lists!$C5="","",Lists!$C5) | L20: =IF(OR($K20="",NOT(ISNUMBER($B$2)),NOT(ISNUMBER($B$3)),$B$2>$B$3),"",COUNTIFS('Lost Quotes'!$C$2:$C$201,">="&$B$2,'Lost Quotes'!$C$2:$C$201,"<="&$B$3,'Lost Quotes'!$D$2:$D$201,$K20,'Lost Quotes'!$L$2:$L$201,"OK")) | M20: =IF(OR($K20="",NOT(ISNUMBER($B$2)),NOT(ISNUMBER($B$3)),$B$2>$B$3),"",SUMIFS('Lost Quotes'!$F$2:$F$201,'Lost Quotes'!$C$2:$C$201,">="&$B$2,'Lost Quotes'!$C$2:$C$201,"<="&$B$3,'Lost Quotes'!$D$2:$D$201,$K20,'Lost Quotes'!$L$2:$L$201,"OK")) | N20: =IFERROR($M20/$B$8,"")
A21: =IF(Lists!$B6="","",Lists!$B6) | B21: =IF(OR($A21="",NOT(ISNUMBER($B$2)),NOT(ISNUMBER($B$3)),$B$2>$B$3),"",COUNTIFS('Lost Quotes'!$C$2:$C$201,">="&$B$2,'Lost Quotes'!$C$2:$C$201,"<="&$B$3,'Lost Quotes'!$I$2:$I$201,$A21,'Lost Quotes'!$L$2:$L$201,"OK")) | C21: =IF(OR($A21="",NOT(ISNUMBER($B$2)),NOT(ISNUMBER($B$3)),$B$2>$B$3),"",SUMIFS('Lost Quotes'!$F$2:$F$201,'Lost Quotes'!$C$2:$C$201,">="&$B$2,'Lost Quotes'!$C$2:$C$201,"<="&$B$3,'Lost Quotes'!$I$2:$I$201,$A21,'Lost Quotes'!$L$2:$L$201,"OK")) | D21: =IFERROR($C21/$B$8,"") | F21: =IF(Lists!$A6="","",Lists!$A6) | G21: =IF(OR($F21="",NOT(ISNUMBER($B$2)),NOT(ISNUMBER($B$3)),$B$2>$B$3),"",COUNTIFS('Lost Quotes'!$C$2:$C$201,">="&$B$2,'Lost Quotes'!$C$2:$C$201,"<="&$B$3,'Lost Quotes'!$E$2:$E$201,$F21,'Lost Quotes'!$L$2:$L$201,"OK")) | H21: =IF(OR($F21="",NOT(ISNUMBER($B$2)),NOT(ISNUMBER($B$3)),$B$2>$B$3),"",SUMIFS('Lost Quotes'!$F$2:$F$201,'Lost Quotes'!$C$2:$C$201,">="&$B$2,'Lost Quotes'!$C$2:$C$201,"<="&$B$3,'Lost Quotes'!$E$2:$E$201,$F21,'Lost Quotes'!$L$2:$L$201,"OK")) | I21: =IFERROR($H21/$B$8,"") | K21: =IF(Lists!$C6="","",Lists!$C6) | L21: =IF(OR($K21="",NOT(ISNUMBER($B$2)),NOT(ISNUMBER($B$3)),$B$2>$B$3),"",COUNTIFS('Lost Quotes'!$C$2:$C$201,">="&$B$2,'Lost Quotes'!$C$2:$C$201,"<="&$B$3,'Lost Quotes'!$D$2:$D$201,$K21,'Lost Quotes'!$L$2:$L$201,"OK")) | M21: =IF(OR($K21="",NOT(ISNUMBER($B$2)),NOT(ISNUMBER($B$3)),$B$2>$B$3),"",SUMIFS('Lost Quotes'!$F$2:$F$201,'Lost Quotes'!$C$2:$C$201,">="&$B$2,'Lost Quotes'!$C$2:$C$201,"<="&$B$3,'Lost Quotes'!$D$2:$D$201,$K21,'Lost Quotes'!$L$2:$L$201,"OK")) | N21: =IFERROR($M21/$B$8,"")
A22: =IF(Lists!$B7="","",Lists!$B7) | B22: =IF(OR($A22="",NOT(ISNUMBER($B$2)),NOT(ISNUMBER($B$3)),$B$2>$B$3),"",COUNTIFS('Lost Quotes'!$C$2:$C$201,">="&$B$2,'Lost Quotes'!$C$2:$C$201,"<="&$B$3,'Lost Quotes'!$I$2:$I$201,$A22,'Lost Quotes'!$L$2:$L$201,"OK")) | C22: =IF(OR($A22="",NOT(ISNUMBER($B$2)),NOT(ISNUMBER($B$3)),$B$2>$B$3),"",SUMIFS('Lost Quotes'!$F$2:$F$201,'Lost Quotes'!$C$2:$C$201,">="&$B$2,'Lost Quotes'!$C$2:$C$201,"<="&$B$3,'Lost Quotes'!$I$2:$I$201,$A22,'Lost Quotes'!$L$2:$L$201,"OK")) | D22: =IFERROR($C22/$B$8,"") | F22: =IF(Lists!$A7="","",Lists!$A7) | G22: =IF(OR($F22="",NOT(ISNUMBER($B$2)),NOT(ISNUMBER($B$3)),$B$2>$B$3),"",COUNTIFS('Lost Quotes'!$C$2:$C$201,">="&$B$2,'Lost Quotes'!$C$2:$C$201,"<="&$B$3,'Lost Quotes'!$E$2:$E$201,$F22,'Lost Quotes'!$L$2:$L$201,"OK")) | H22: =IF(OR($F22="",NOT(ISNUMBER($B$2)),NOT(ISNUMBER($B$3)),$B$2>$B$3),"",SUMIFS('Lost Quotes'!$F$2:$F$201,'Lost Quotes'!$C$2:$C$201,">="&$B$2,'Lost Quotes'!$C$2:$C$201,"<="&$B$3,'Lost Quotes'!$E$2:$E$201,$F22,'Lost Quotes'!$L$2:$L$201,"OK")) | I22: =IFERROR($H22/$B$8,"") | K22: =IF(Lists!$C7="","",Lists!$C7) | L22: =IF(OR($K22="",NOT(ISNUMBER($B$2)),NOT(ISNUMBER($B$3)),$B$2>$B$3),"",COUNTIFS('Lost Quotes'!$C$2:$C$201,">="&$B$2,'Lost Quotes'!$C$2:$C$201,"<="&$B$3,'Lost Quotes'!$D$2:$D$201,$K22,'Lost Quotes'!$L$2:$L$201,"OK")) | M22: =IF(OR($K22="",NOT(ISNUMBER($B$2)),NOT(ISNUMBER($B$3)),$B$2>$B$3),"",SUMIFS('Lost Quotes'!$F$2:$F$201,'Lost Quotes'!$C$2:$C$201,">="&$B$2,'Lost Quotes'!$C$2:$C$201,"<="&$B$3,'Lost Quotes'!$D$2:$D$201,$K22,'Lost Quotes'!$L$2:$L$201,"OK")) | N22: =IFERROR($M22/$B$8,"")
A23: =IF(Lists!$B8="","",Lists!$B8) | B23: =IF(OR($A23="",NOT(ISNUMBER($B$2)),NOT(ISNUMBER($B$3)),$B$2>$B$3),"",COUNTIFS('Lost Quotes'!$C$2:$C$201,">="&$B$2,'Lost Quotes'!$C$2:$C$201,"<="&$B$3,'Lost Quotes'!$I$2:$I$201,$A23,'Lost Quotes'!$L$2:$L$201,"OK")) | C23: =IF(OR($A23="",NOT(ISNUMBER($B$2)),NOT(ISNUMBER($B$3)),$B$2>$B$3),"",SUMIFS('Lost Quotes'!$F$2:$F$201,'Lost Quotes'!$C$2:$C$201,">="&$B$2,'Lost Quotes'!$C$2:$C$201,"<="&$B$3,'Lost Quotes'!$I$2:$I$201,$A23,'Lost Quotes'!$L$2:$L$201,"OK")) | D23: =IFERROR($C23/$B$8,"") | F23: =IF(Lists!$A8="","",Lists!$A8) | G23: =IF(OR($F23="",NOT(ISNUMBER($B$2)),NOT(ISNUMBER($B$3)),$B$2>$B$3),"",COUNTIFS('Lost Quotes'!$C$2:$C$201,">="&$B$2,'Lost Quotes'!$C$2:$C$201,"<="&$B$3,'Lost Quotes'!$E$2:$E$201,$F23,'Lost Quotes'!$L$2:$L$201,"OK")) | H23: =IF(OR($F23="",NOT(ISNUMBER($B$2)),NOT(ISNUMBER($B$3)),$B$2>$B$3),"",SUMIFS('Lost Quotes'!$F$2:$F$201,'Lost Quotes'!$C$2:$C$201,">="&$B$2,'Lost Quotes'!$C$2:$C$201,"<="&$B$3,'Lost Quotes'!$E$2:$E$201,$F23,'Lost Quotes'!$L$2:$L$201,"OK")) | I23: =IFERROR($H23/$B$8,"") | K23: =IF(Lists!$C8="","",Lists!$C8) | L23: =IF(OR($K23="",NOT(ISNUMBER($B$2)),NOT(ISNUMBER($B$3)),$B$2>$B$3),"",COUNTIFS('Lost Quotes'!$C$2:$C$201,">="&$B$2,'Lost Quotes'!$C$2:$C$201,"<="&$B$3,'Lost Quotes'!$D$2:$D$201,$K23,'Lost Quotes'!$L$2:$L$201,"OK")) | M23: =IF(OR($K23="",NOT(ISNUMBER($B$2)),NOT(ISNUMBER($B$3)),$B$2>$B$3),"",SUMIFS('Lost Quotes'!$F$2:$F$201,'Lost Quotes'!$C$2:$C$201,">="&$B$2,'Lost Quotes'!$C$2:$C$201,"<="&$B$3,'Lost Quotes'!$D$2:$D$201,$K23,'Lost Quotes'!$L$2:$L$201,"OK")) | N23: =IFERROR($M23/$B$8,"")
A24: =IF(Lists!$B9="","",Lists!$B9) | B24: =IF(OR($A24="",NOT(ISNUMBER($B$2)),NOT(ISNUMBER($B$3)),$B$2>$B$3),"",COUNTIFS('Lost Quotes'!$C$2:$C$201,">="&$B$2,'Lost Quotes'!$C$2:$C$201,"<="&$B$3,'Lost Quotes'!$I$2:$I$201,$A24,'Lost Quotes'!$L$2:$L$201,"OK")) | C24: =IF(OR($A24="",NOT(ISNUMBER($B$2)),NOT(ISNUMBER($B$3)),$B$2>$B$3),"",SUMIFS('Lost Quotes'!$F$2:$F$201,'Lost Quotes'!$C$2:$C$201,">="&$B$2,'Lost Quotes'!$C$2:$C$201,"<="&$B$3,'Lost Quotes'!$I$2:$I$201,$A24,'Lost Quotes'!$L$2:$L$201,"OK")) | D24: =IFERROR($C24/$B$8,"") | F24: =IF(Lists!$A9="","",Lists!$A9) | G24: =IF(OR($F24="",NOT(ISNUMBER($B$2)),NOT(ISNUMBER($B$3)),$B$2>$B$3),"",COUNTIFS('Lost Quotes'!$C$2:$C$201,">="&$B$2,'Lost Quotes'!$C$2:$C$201,"<="&$B$3,'Lost Quotes'!$E$2:$E$201,$F24,'Lost Quotes'!$L$2:$L$201,"OK")) | H24: =IF(OR($F24="",NOT(ISNUMBER($B$2)),NOT(ISNUMBER($B$3)),$B$2>$B$3),"",SUMIFS('Lost Quotes'!$F$2:$F$201,'Lost Quotes'!$C$2:$C$201,">="&$B$2,'Lost Quotes'!$C$2:$C$201,"<="&$B$3,'Lost Quotes'!$E$2:$E$201,$F24,'Lost Quotes'!$L$2:$L$201,"OK")) | I24: =IFERROR($H24/$B$8,"") | K24: =IF(Lists!$C9="","",Lists!$C9) | L24: =IF(OR($K24="",NOT(ISNUMBER($B$2)),NOT(ISNUMBER($B$3)),$B$2>$B$3),"",COUNTIFS('Lost Quotes'!$C$2:$C$201,">="&$B$2,'Lost Quotes'!$C$2:$C$201,"<="&$B$3,'Lost Quotes'!$D$2:$D$201,$K24,'Lost Quotes'!$L$2:$L$201,"OK")) | M24: =IF(OR($K24="",NOT(ISNUMBER($B$2)),NOT(ISNUMBER($B$3)),$B$2>$B$3),"",SUMIFS('Lost Quotes'!$F$2:$F$201,'Lost Quotes'!$C$2:$C$201,">="&$B$2,'Lost Quotes'!$C$2:$C$201,"<="&$B$3,'Lost Quotes'!$D$2:$D$201,$K24,'Lost Quotes'!$L$2:$L$201,"OK")) | N24: =IFERROR($M24/$B$8,"")
A25: =IF(Lists!$B10="","",Lists!$B10) | B25: =IF(OR($A25="",NOT(ISNUMBER($B$2)),NOT(ISNUMBER($B$3)),$B$2>$B$3),"",COUNTIFS('Lost Quotes'!$C$2:$C$201,">="&$B$2,'Lost Quotes'!$C$2:$C$201,"<="&$B$3,'Lost Quotes'!$I$2:$I$201,$A25,'Lost Quotes'!$L$2:$L$201,"OK")) | C25: =IF(OR($A25="",NOT(ISNUMBER($B$2)),NOT(ISNUMBER($B$3)),$B$2>$B$3),"",SUMIFS('Lost Quotes'!$F$2:$F$201,'Lost Quotes'!$C$2:$C$201,">="&$B$2,'Lost Quotes'!$C$2:$C$201,"<="&$B$3,'Lost Quotes'!$I$2:$I$201,$A25,'Lost Quotes'!$L$2:$L$201,"OK")) | D25: =IFERROR($C25/$B$8,"") | F25: =IF(Lists!$A10="","",Lists!$A10) | G25: =IF(OR($F25="",NOT(ISNUMBER($B$2)),NOT(ISNUMBER($B$3)),$B$2>$B$3),"",COUNTIFS('Lost Quotes'!$C$2:$C$201,">="&$B$2,'Lost Quotes'!$C$2:$C$201,"<="&$B$3,'Lost Quotes'!$E$2:$E$201,$F25,'Lost Quotes'!$L$2:$L$201,"OK")) | H25: =IF(OR($F25="",NOT(ISNUMBER($B$2)),NOT(ISNUMBER($B$3)),$B$2>$B$3),"",SUMIFS('Lost Quotes'!$F$2:$F$201,'Lost Quotes'!$C$2:$C$201,">="&$B$2,'Lost Quotes'!$C$2:$C$201,"<="&$B$3,'Lost Quotes'!$E$2:$E$201,$F25,'Lost Quotes'!$L$2:$L$201,"OK")) | I25: =IFERROR($H25/$B$8,"") | K25: =IF(Lists!$C10="","",Lists!$C10) | L25: =IF(OR($K25="",NOT(ISNUMBER($B$2)),NOT(ISNUMBER($B$3)),$B$2>$B$3),"",COUNTIFS('Lost Quotes'!$C$2:$C$201,">="&$B$2,'Lost Quotes'!$C$2:$C$201,"<="&$B$3,'Lost Quotes'!$D$2:$D$201,$K25,'Lost Quotes'!$L$2:$L$201,"OK")) | M25: =IF(OR($K25="",NOT(ISNUMBER($B$2)),NOT(ISNUMBER($B$3)),$B$2>$B$3),"",SUMIFS('Lost Quotes'!$F$2:$F$201,'Lost Quotes'!$C$2:$C$201,">="&$B$2,'Lost Quotes'!$C$2:$C$201,"<="&$B$3,'Lost Quotes'!$D$2:$D$201,$K25,'Lost Quotes'!$L$2:$L$201,"OK")) | N25: =IFERROR($M25/$B$8,"")
A26: =IF(Lists!$B11="","",Lists!$B11) | B26: =IF(OR($A26="",NOT(ISNUMBER($B$2)),NOT(ISNUMBER($B$3)),$B$2>$B$3),"",COUNTIFS('Lost Quotes'!$C$2:$C$201,">="&$B$2,'Lost Quotes'!$C$2:$C$201,"<="&$B$3,'Lost Quotes'!$I$2:$I$201,$A26,'Lost Quotes'!$L$2:$L$201,"OK")) | C26: =IF(OR($A26="",NOT(ISNUMBER($B$2)),NOT(ISNUMBER($B$3)),$B$2>$B$3),"",SUMIFS('Lost Quotes'!$F$2:$F$201,'Lost Quotes'!$C$2:$C$201,">="&$B$2,'Lost Quotes'!$C$2:$C$201,"<="&$B$3,'Lost Quotes'!$I$2:$I$201,$A26,'Lost Quotes'!$L$2:$L$201,"OK")) | D26: =IFERROR($C26/$B$8,"") | F26: =IF(Lists!$A11="","",Lists!$A11) | G26: =IF(OR($F26="",NOT(ISNUMBER($B$2)),NOT(ISNUMBER($B$3)),$B$2>$B$3),"",COUNTIFS('Lost Quotes'!$C$2:$C$201,">="&$B$2,'Lost Quotes'!$C$2:$C$201,"<="&$B$3,'Lost Quotes'!$E$2:$E$201,$F26,'Lost Quotes'!$L$2:$L$201,"OK")) | H26: =IF(OR($F26="",NOT(ISNUMBER($B$2)),NOT(ISNUMBER($B$3)),$B$2>$B$3),"",SUMIFS('Lost Quotes'!$F$2:$F$201,'Lost Quotes'!$C$2:$C$201,">="&$B$2,'Lost Quotes'!$C$2:$C$201,"<="&$B$3,'Lost Quotes'!$E$2:$E$201,$F26,'Lost Quotes'!$L$2:$L$201,"OK")) | I26: =IFERROR($H26/$B$8,"") | K26: =IF(Lists!$C11="","",Lists!$C11) | L26: =IF(OR($K26="",NOT(ISNUMBER($B$2)),NOT(ISNUMBER($B$3)),$B$2>$B$3),"",COUNTIFS('Lost Quotes'!$C$2:$C$201,">="&$B$2,'Lost Quotes'!$C$2:$C$201,"<="&$B$3,'Lost Quotes'!$D$2:$D$201,$K26,'Lost Quotes'!$L$2:$L$201,"OK")) | M26: =IF(OR($K26="",NOT(ISNUMBER($B$2)),NOT(ISNUMBER($B$3)),$B$2>$B$3),"",SUMIFS('Lost Quotes'!$F$2:$F$201,'Lost Quotes'!$C$2:$C$201,">="&$B$2,'Lost Quotes'!$C$2:$C$201,"<="&$B$3,'Lost Quotes'!$D$2:$D$201,$K26,'Lost Quotes'!$L$2:$L$201,"OK")) | N26: =IFERROR($M26/$B$8,"")
A27: =IF(Lists!$B12="","",Lists!$B12) | B27: =IF(OR($A27="",NOT(ISNUMBER($B$2)),NOT(ISNUMBER($B$3)),$B$2>$B$3),"",COUNTIFS('Lost Quotes'!$C$2:$C$201,">="&$B$2,'Lost Quotes'!$C$2:$C$201,"<="&$B$3,'Lost Quotes'!$I$2:$I$201,$A27,'Lost Quotes'!$L$2:$L$201,"OK")) | C27: =IF(OR($A27="",NOT(ISNUMBER($B$2)),NOT(ISNUMBER($B$3)),$B$2>$B$3),"",SUMIFS('Lost Quotes'!$F$2:$F$201,'Lost Quotes'!$C$2:$C$201,">="&$B$2,'Lost Quotes'!$C$2:$C$201,"<="&$B$3,'Lost Quotes'!$I$2:$I$201,$A27,'Lost Quotes'!$L$2:$L$201,"OK")) | D27: =IFERROR($C27/$B$8,"")
A28: =IF(Lists!$B13="","",Lists!$B13) | B28: =IF(OR($A28="",NOT(ISNUMBER($B$2)),NOT(ISNUMBER($B$3)),$B$2>$B$3),"",COUNTIFS('Lost Quotes'!$C$2:$C$201,">="&$B$2,'Lost Quotes'!$C$2:$C$201,"<="&$B$3,'Lost Quotes'!$I$2:$I$201,$A28,'Lost Quotes'!$L$2:$L$201,"OK")) | C28: =IF(OR($A28="",NOT(ISNUMBER($B$2)),NOT(ISNUMBER($B$3)),$B$2>$B$3),"",SUMIFS('Lost Quotes'!$F$2:$F$201,'Lost Quotes'!$C$2:$C$201,">="&$B$2,'Lost Quotes'!$C$2:$C$201,"<="&$B$3,'Lost Quotes'!$I$2:$I$201,$A28,'Lost Quotes'!$L$2:$L$201,"OK")) | D28: =IFERROR($C28/$B$8,"")
A31: Competitor Status Breakdown | F31: Named Competitor Breakdown
A32: Competitor Status | B32: Lost Quote Count | C32: Lost Quote Value | D32: Share of Total | F32: Named Competitor | G32: Lost Quote Count | H32: Lost Quote Value | I32: Share of Total
A33: =IF(Lists!$D2="","",Lists!$D2) | B33: =IF(OR($A33="",NOT(ISNUMBER($B$2)),NOT(ISNUMBER($B$3)),$B$2>$B$3),"",COUNTIFS('Lost Quotes'!$C$2:$C$201,">="&$B$2,'Lost Quotes'!$C$2:$C$201,"<="&$B$3,'Lost Quotes'!$G$2:$G$201,$A33,'Lost Quotes'!$L$2:$L$201,"OK")) | C33: =IF(OR($A33="",NOT(ISNUMBER($B$2)),NOT(ISNUMBER($B$3)),$B$2>$B$3),"",SUMIFS('Lost Quotes'!$F$2:$F$201,'Lost Quotes'!$C$2:$C$201,">="&$B$2,'Lost Quotes'!$C$2:$C$201,"<="&$B$3,'Lost Quotes'!$G$2:$G$201,$A33,'Lost Quotes'!$L$2:$L$201,"OK")) | D33: =IFERROR($C33/$B$8,"") | F33: =IF(Lists!$E2="","",Lists!$E2) | G33: =IF(OR($F33="",NOT(ISNUMBER($B$2)),NOT(ISNUMBER($B$3)),$B$2>$B$3),"",COUNTIFS('Lost Quotes'!$C$2:$C$201,">="&$B$2,'Lost Quotes'!$C$2:$C$201,"<="&$B$3,'Lost Quotes'!$H$2:$H$201,$F33,'Lost Quotes'!$G$2:$G$201,"Named Competitor",'Lost Quotes'!$L$2:$L$201,"OK")) | H33: =IF(OR($F33="",NOT(ISNUMBER($B$2)),NOT(ISNUMBER($B$3)),$B$2>$B$3),"",SUMIFS('Lost Quotes'!$F$2:$F$201,'Lost Quotes'!$C$2:$C$201,">="&$B$2,'Lost Quotes'!$C$2:$C$201,"<="&$B$3,'Lost Quotes'!$H$2:$H$201,$F33,'Lost Quotes'!$G$2:$G$201,"Named Competitor",'Lost Quotes'!$L$2:$L$201,"OK")) | I33: =IFERROR($H33/$B$8,"")
A34: =IF(Lists!$D3="","",Lists!$D3) | B34: =IF(OR($A34="",NOT(ISNUMBER($B$2)),NOT(ISNUMBER($B$3)),$B$2>$B$3),"",COUNTIFS('Lost Quotes'!$C$2:$C$201,">="&$B$2,'Lost Quotes'!$C$2:$C$201,"<="&$B$3,'Lost Quotes'!$G$2:$G$201,$A34,'Lost Quotes'!$L$2:$L$201,"OK")) | C34: =IF(OR($A34="",NOT(ISNUMBER($B$2)),NOT(ISNUMBER($B$3)),$B$2>$B$3),"",SUMIFS('Lost Quotes'!$F$2:$F$201,'Lost Quotes'!$C$2:$C$201,">="&$B$2,'Lost Quotes'!$C$2:$C$201,"<="&$B$3,'Lost Quotes'!$G$2:$G$201,$A34,'Lost Quotes'!$L$2:$L$201,"OK")) | D34: =IFERROR($C34/$B$8,"") | F34: =IF(Lists!$E3="","",Lists!$E3) | G34: =IF(OR($F34="",NOT(ISNUMBER($B$2)),NOT(ISNUMBER($B$3)),$B$2>$B$3),"",COUNTIFS('Lost Quotes'!$C$2:$C$201,">="&$B$2,'Lost Quotes'!$C$2:$C$201,"<="&$B$3,'Lost Quotes'!$H$2:$H$201,$F34,'Lost Quotes'!$G$2:$G$201,"Named Competitor",'Lost Quotes'!$L$2:$L$201,"OK")) | H34: =IF(OR($F34="",NOT(ISNUMBER($B$2)),NOT(ISNUMBER($B$3)),$B$2>$B$3),"",SUMIFS('Lost Quotes'!$F$2:$F$201,'Lost Quotes'!$C$2:$C$201,">="&$B$2,'Lost Quotes'!$C$2:$C$201,"<="&$B$3,'Lost Quotes'!$H$2:$H$201,$F34,'Lost Quotes'!$G$2:$G$201,"Named Competitor",'Lost Quotes'!$L$2:$L$201,"OK")) | I34: =IFERROR($H34/$B$8,"")
A35: =IF(Lists!$D4="","",Lists!$D4) | B35: =IF(OR($A35="",NOT(ISNUMBER($B$2)),NOT(ISNUMBER($B$3)),$B$2>$B$3),"",COUNTIFS('Lost Quotes'!$C$2:$C$201,">="&$B$2,'Lost Quotes'!$C$2:$C$201,"<="&$B$3,'Lost Quotes'!$G$2:$G$201,$A35,'Lost Quotes'!$L$2:$L$201,"OK")) | C35: =IF(OR($A35="",NOT(ISNUMBER($B$2)),NOT(ISNUMBER($B$3)),$B$2>$B$3),"",SUMIFS('Lost Quotes'!$F$2:$F$201,'Lost Quotes'!$C$2:$C$201,">="&$B$2,'Lost Quotes'!$C$2:$C$201,"<="&$B$3,'Lost Quotes'!$G$2:$G$201,$A35,'Lost Quotes'!$L$2:$L$201,"OK")) | D35: =IFERROR($C35/$B$8,"") | F35: =IF(Lists!$E4="","",Lists!$E4) | G35: =IF(OR($F35="",NOT(ISNUMBER($B$2)),NOT(ISNUMBER($B$3)),$B$2>$B$3),"",COUNTIFS('Lost Quotes'!$C$2:$C$201,">="&$B$2,'Lost Quotes'!$C$2:$C$201,"<="&$B$3,'Lost Quotes'!$H$2:$H$201,$F35,'Lost Quotes'!$G$2:$G$201,"Named Competitor",'Lost Quotes'!$L$2:$L$201,"OK")) | H35: =IF(OR($F35="",NOT(ISNUMBER($B$2)),NOT(ISNUMBER($B$3)),$B$2>$B$3),"",SUMIFS('Lost Quotes'!$F$2:$F$201,'Lost Quotes'!$C$2:$C$201,">="&$B$2,'Lost Quotes'!$C$2:$C$201,"<="&$B$3,'Lost Quotes'!$H$2:$H$201,$F35,'Lost Quotes'!$G$2:$G$201,"Named Competitor",'Lost Quotes'!$L$2:$L$201,"OK")) | I35: =IFERROR($H35/$B$8,"")
A36: =IF(Lists!$D5="","",Lists!$D5) | B36: =IF(OR($A36="",NOT(ISNUMBER($B$2)),NOT(ISNUMBER($B$3)),$B$2>$B$3),"",COUNTIFS('Lost Quotes'!$C$2:$C$201,">="&$B$2,'Lost Quotes'!$C$2:$C$201,"<="&$B$3,'Lost Quotes'!$G$2:$G$201,$A36,'Lost Quotes'!$L$2:$L$201,"OK")) | C36: =IF(OR($A36="",NOT(ISNUMBER($B$2)),NOT(ISNUMBER($B$3)),$B$2>$B$3),"",SUMIFS('Lost Quotes'!$F$2:$F$201,'Lost Quotes'!$C$2:$C$201,">="&$B$2,'Lost Quotes'!$C$2:$C$201,"<="&$B$3,'Lost Quotes'!$G$2:$G$201,$A36,'Lost Quotes'!$L$2:$L$201,"OK")) | D36: =IFERROR($C36/$B$8,"") | F36: =IF(Lists!$E5="","",Lists!$E5) | G36: =IF(OR($F36="",NOT(ISNUMBER($B$2)),NOT(ISNUMBER($B$3)),$B$2>$B$3),"",COUNTIFS('Lost Quotes'!$C$2:$C$201,">="&$B$2,'Lost Quotes'!$C$2:$C$201,"<="&$B$3,'Lost Quotes'!$H$2:$H$201,$F36,'Lost Quotes'!$G$2:$G$201,"Named Competitor",'Lost Quotes'!$L$2:$L$201,"OK")) | H36: =IF(OR($F36="",NOT(ISNUMBER($B$2)),NOT(ISNUMBER($B$3)),$B$2>$B$3),"",SUMIFS('Lost Quotes'!$F$2:$F$201,'Lost Quotes'!$C$2:$C$201,">="&$B$2,'Lost Quotes'!$C$2:$C$201,"<="&$B$3,'Lost Quotes'!$H$2:$H$201,$F36,'Lost Quotes'!$G$2:$G$201,"Named Competitor",'Lost Quotes'!$L$2:$L$201,"OK")) | I36: =IFERROR($H36/$B$8,"")
F37: =IF(Lists!$E6="","",Lists!$E6) | G37: =IF(OR($F37="",NOT(ISNUMBER($B$2)),NOT(ISNUMBER($B$3)),$B$2>$B$3),"",COUNTIFS('Lost Quotes'!$C$2:$C$201,">="&$B$2,'Lost Quotes'!$C$2:$C$201,"<="&$B$3,'Lost Quotes'!$H$2:$H$201,$F37,'Lost Quotes'!$G$2:$G$201,"Named Competitor",'Lost Quotes'!$L$2:$L$201,"OK")) | H37: =IF(OR($F37="",NOT(ISNUMBER($B$2)),NOT(ISNUMBER($B$3)),$B$2>$B$3),"",SUMIFS('Lost Quotes'!$F$2:$F$201,'Lost Quotes'!$C$2:$C$201,">="&$B$2,'Lost Quotes'!$C$2:$C$201,"<="&$B$3,'Lost Quotes'!$H$2:$H$201,$F37,'Lost Quotes'!$G$2:$G$201,"Named Competitor",'Lost Quotes'!$L$2:$L$201,"OK")) | I37: =IFERROR($H37/$B$8,"")
F38: =IF(Lists!$E7="","",Lists!$E7) | G38: =IF(OR($F38="",NOT(ISNUMBER($B$2)),NOT(ISNUMBER($B$3)),$B$2>$B$3),"",COUNTIFS('Lost Quotes'!$C$2:$C$201,">="&$B$2,'Lost Quotes'!$C$2:$C$201,"<="&$B$3,'Lost Quotes'!$H$2:$H$201,$F38,'Lost Quotes'!$G$2:$G$201,"Named Competitor",'Lost Quotes'!$L$2:$L$201,"OK")) | H38: =IF(OR($F38="",NOT(ISNUMBER($B$2)),NOT(ISNUMBER($B$3)),$B$2>$B$3),"",SUMIFS('Lost Quotes'!$F$2:$F$201,'Lost Quotes'!$C$2:$C$201,">="&$B$2,'Lost Quotes'!$C$2:$C$201,"<="&$B$3,'Lost Quotes'!$H$2:$H$201,$F38,'Lost Quotes'!$G$2:$G$201,"Named Competitor",'Lost Quotes'!$L$2:$L$201,"OK")) | I38: =IFERROR($H38/$B$8,"")
F39: =IF(Lists!$E8="","",Lists!$E8) | G39: =IF(OR($F39="",NOT(ISNUMBER($B$2)),NOT(ISNUMBER($B$3)),$B$2>$B$3),"",COUNTIFS('Lost Quotes'!$C$2:$C$201,">="&$B$2,'Lost Quotes'!$C$2:$C$201,"<="&$B$3,'Lost Quotes'!$H$2:$H$201,$F39,'Lost Quotes'!$G$2:$G$201,"Named Competitor",'Lost Quotes'!$L$2:$L$201,"OK")) | H39: =IF(OR($F39="",NOT(ISNUMBER($B$2)),NOT(ISNUMBER($B$3)),$B$2>$B$3),"",SUMIFS('Lost Quotes'!$F$2:$F$201,'Lost Quotes'!$C$2:$C$201,">="&$B$2,'Lost Quotes'!$C$2:$C$201,"<="&$B$3,'Lost Quotes'!$H$2:$H$201,$F39,'Lost Quotes'!$G$2:$G$201,"Named Competitor",'Lost Quotes'!$L$2:$L$201,"OK")) | I39: =IFERROR($H39/$B$8,"")
F40: =IF(Lists!$E9="","",Lists!$E9) | G40: =IF(OR($F40="",NOT(ISNUMBER($B$2)),NOT(ISNUMBER($B$3)),$B$2>$B$3),"",COUNTIFS('Lost Quotes'!$C$2:$C$201,">="&$B$2,'Lost Quotes'!$C$2:$C$201,"<="&$B$3,'Lost Quotes'!$H$2:$H$201,$F40,'Lost Quotes'!$G$2:$G$201,"Named Competitor",'Lost Quotes'!$L$2:$L$201,"OK")) | H40: =IF(OR($F40="",NOT(ISNUMBER($B$2)),NOT(ISNUMBER($B$3)),$B$2>$B$3),"",SUMIFS('Lost Quotes'!$F$2:$F$201,'Lost Quotes'!$C$2:$C$201,">="&$B$2,'Lost Quotes'!$C$2:$C$201,"<="&$B$3,'Lost Quotes'!$H$2:$H$201,$F40,'Lost Quotes'!$G$2:$G$201,"Named Competitor",'Lost Quotes'!$L$2:$L$201,"OK")) | I40: =IFERROR($H40/$B$8,"")
F41: =IF(Lists!$E10="","",Lists!$E10) | G41: =IF(OR($F41="",NOT(ISNUMBER($B$2)),NOT(ISNUMBER($B$3)),$B$2>$B$3),"",COUNTIFS('Lost Quotes'!$C$2:$C$201,">="&$B$2,'Lost Quotes'!$C$2:$C$201,"<="&$B$3,'Lost Quotes'!$H$2:$H$201,$F41,'Lost Quotes'!$G$2:$G$201,"Named Competitor",'Lost Quotes'!$L$2:$L$201,"OK")) | H41: =IF(OR($F41="",NOT(ISNUMBER($B$2)),NOT(ISNUMBER($B$3)),$B$2>$B$3),"",SUMIFS('Lost Quotes'!$F$2:$F$201,'Lost Quotes'!$C$2:$C$201,">="&$B$2,'Lost Quotes'!$C$2:$C$201,"<="&$B$3,'Lost Quotes'!$H$2:$H$201,$F41,'Lost Quotes'!$G$2:$G$201,"Named Competitor",'Lost Quotes'!$L$2:$L$201,"OK")) | I41: =IFERROR($H41/$B$8,"")
F42: =IF(Lists!$E11="","",Lists!$E11) | G42: =IF(OR($F42="",NOT(ISNUMBER($B$2)),NOT(ISNUMBER($B$3)),$B$2>$B$3),"",COUNTIFS('Lost Quotes'!$C$2:$C$201,">="&$B$2,'Lost Quotes'!$C$2:$C$201,"<="&$B$3,'Lost Quotes'!$H$2:$H$201,$F42,'Lost Quotes'!$G$2:$G$201,"Named Competitor",'Lost Quotes'!$L$2:$L$201,"OK")) | H42: =IF(OR($F42="",NOT(ISNUMBER($B$2)),NOT(ISNUMBER($B$3)),$B$2>$B$3),"",SUMIFS('Lost Quotes'!$F$2:$F$201,'Lost Quotes'!$C$2:$C$201,">="&$B$2,'Lost Quotes'!$C$2:$C$201,"<="&$B$3,'Lost Quotes'!$H$2:$H$201,$F42,'Lost Quotes'!$G$2:$G$201,"Named Competitor",'Lost Quotes'!$L$2:$L$201,"OK")) | I42: =IFERROR($H42/$B$8,"")
F43: =IF(Lists!$E12="","",Lists!$E12) | G43: =IF(OR($F43="",NOT(ISNUMBER($B$2)),NOT(ISNUMBER($B$3)),$B$2>$B$3),"",COUNTIFS('Lost Quotes'!$C$2:$C$201,">="&$B$2,'Lost Quotes'!$C$2:$C$201,"<="&$B$3,'Lost Quotes'!$H$2:$H$201,$F43,'Lost Quotes'!$G$2:$G$201,"Named Competitor",'Lost Quotes'!$L$2:$L$201,"OK")) | H43: =IF(OR($F43="",NOT(ISNUMBER($B$2)),NOT(ISNUMBER($B$3)),$B$2>$B$3),"",SUMIFS('Lost Quotes'!$F$2:$F$201,'Lost Quotes'!$C$2:$C$201,">="&$B$2,'Lost Quotes'!$C$2:$C$201,"<="&$B$3,'Lost Quotes'!$H$2:$H$201,$F43,'Lost Quotes'!$G$2:$G$201,"Named Competitor",'Lost Quotes'!$L$2:$L$201,"OK")) | I43: =IFERROR($H43/$B$8,"")
...

Sheet Lost Quotes
A1: Lost Quote ID | B1: Quote Date | C1: Date Lost | D1: Sales Owner | E1: Service Category | F1: Quoted Value | G1: Competitor Status | H1: Competitor Name | I1: Primary Loss Reason | J1: Decision Days | K1: Value Band | L1: Data Check
A2: LQ-26001 | B2: 46204 | C2: 46211 | D2: Sales Rep A | E2: General Pest | F2: 480 | G2: Named Competitor | H2: Fictional Competitor A | I2: Price | J2: =IF(OR(NOT(ISNUMBER($B2)),NOT(ISNUMBER($C2)),$C2<$B2),"",$C2-$B2) | K2: =IF(OR($F2="",NOT(ISNUMBER($F2)),Summary!$B$4="",NOT(ISNUMBER(Summary!$B$4))),"",IF($F2>=Summary!$B$4,"High Value","Standard Value")) | L2: =IF(COUNTA($A2:$I2)=0,"",IF($A2="","Missing Quote ID",IF(COUNTIF($A$2:$A$201,$A2)>1,"Duplicate Quote ID",IF(OR($B2="",$C2=""),"Missing Date",IF(OR(NOT(ISNUMBER($B2)),NOT(ISNUMBER($C2)),$B2<DATE(2020,1,1),$B2>TODAY(),$C2<DATE(2020,1,1),$C2>TODAY()),"Invalid Date",IF($C2<$B2,"Date Lost Before Quote Date",IF(OR($D2="",$E2="",$G2="",$I2=""),"Missing Classification",IF(OR($F2="",NOT(ISNUMBER($F2)),$F2<=0),"Missing or Invalid Quoted Value",IF(OR(COUNTIF(Lists!$C$2:$C$11,$D2)=0,COUNTIF(Lists!$A$2:$A$11,$E2)=0,COUNTIF(Lists!$D$2:$D$5,$G2)=0,COUNTIF(Lists!$B$2:$B$13,$I2)=0),"Value Not on Approved List",IF(AND($G2="Named Competitor",$H2=""),"Competitor Name Required",IF(AND($G2="Named Competitor",COUNTIF(Lists!$E$2:$E$21,$H2)=0),"Competitor Name Not on Approved List",IF(AND($G2<>"Named Competitor",$H2<>""),"Clear Competitor Name","OK"))))))))))))
A3: LQ-26002 | B3: 46206 | C3: 46223 | D3: Sales Rep B | E3: Termite | F3: 4200 | G3: No Competitor Reported | I3: Financing | J3: =IF(OR(NOT(ISNUMBER($B3)),NOT(ISNUMBER($C3)),$C3<$B3),"",$C3-$B3) | K3: =IF(OR($F3="",NOT(ISNUMBER($F3)),Summary!$B$4="",NOT(ISNUMBER(Summary!$B$4))),"",IF($F3>=Summary!$B$4,"High Value","Standard Value")) | L3: =IF(COUNTA($A3:$I3)=0,"",IF($A3="","Missing Quote ID",IF(COUNTIF($A$2:$A$201,$A3)>1,"Duplicate Quote ID",IF(OR($B3="",$C3=""),"Missing Date",IF(OR(NOT(ISNUMBER($B3)),NOT(ISNUMBER($C3)),$B3<DATE(2020,1,1),$B3>TODAY(),$C3<DATE(2020,1,1),$C3>TODAY()),"Invalid Date",IF($C3<$B3,"Date Lost Before Quote Date",IF(OR($D3="",$E3="",$G3="",$I3=""),"Missing Classification",IF(OR($F3="",NOT(ISNUMBER($F3)),$F3<=0),"Missing or Invalid Quoted Value",IF(OR(COUNTIF(Lists!$C$2:$C$11,$D3)=0,COUNTIF(Lists!$A$2:$A$11,$E3)=0,COUNTIF(Lists!$D$2:$D$5,$G3)=0,COUNTIF(Lists!$B$2:$B$13,$I3)=0),"Value Not on Approved List",IF(AND($G3="Named Competitor",$H3=""),"Competitor Name Required",IF(AND($G3="Named Competitor",COUNTIF(Lists!$E$2:$E$21,$H3)=0),"Competitor Name Not on Approved List",IF(AND($G3<>"Named Competitor",$H3<>""),"Clear Competitor Name","OK"))))))))))))
A4: LQ-26003 | B4: 46218 | C4: 46221 | D4: Sales Rep C | E4: Mosquito | F4: 720 | G4: Competitor Not Named | I4: Went with Another Provider | J4: =IF(OR(NOT(ISNUMBER($B4)),NOT(ISNUMBER($C4)),$C4<$B4),"",$C4-$B4) | K4: =IF(OR($F4="",NOT(ISNUMBER($F4)),Summary!$B$4="",NOT(ISNUMBER(Summary!$B$4))),"",IF($F4>=Summary!$B$4,"High Value","Standard Value")) | L4: =IF(COUNTA($A4:$I4)=0,"",IF($A4="","Missing Quote ID",IF(COUNTIF($A$2:$A$201,$A4)>1,"Duplicate Quote ID",IF(OR($B4="",$C4=""),"Missing Date",IF(OR(NOT(ISNUMBER($B4)),NOT(ISNUMBER($C4)),$B4<DATE(2020,1,1),$B4>TODAY(),$C4<DATE(2020,1,1),$C4>TODAY()),"Invalid Date",IF($C4<$B4,"Date Lost Before Quote Date",IF(OR($D4="",$E4="",$G4="",$I4=""),"Missing Classification",IF(OR($F4="",NOT(ISNUMBER($F4)),$F4<=0),"Missing or Invalid Quoted Value",IF(OR(COUNTIF(Lists!$C$2:$C$11,$D4)=0,COUNTIF(Lists!$A$2:$A$11,$E4)=0,COUNTIF(Lists!$D$2:$D$5,$G4)=0,COUNTIF(Lists!$B$2:$B$13,$I4)=0),"Value Not on Approved List",IF(AND($G4="Named Competitor",$H4=""),"Competitor Name Required",IF(AND($G4="Named Competitor",COUNTIF(Lists!$E$2:$E$21,$H4)=0),"Competitor Name Not on Approved List",IF(AND($G4<>"Named Competitor",$H4<>""),"Clear Competitor Name","OK"))))))))))))
A5: LQ-26004 | B5: 46222 | C5: 46236 | D5: Sales Rep A | E5: Rodent Exclusion | F5: 2850 | G5: Named Competitor | H5: Fictional Competitor B | I5: Scope Mismatch | J5: =IF(OR(NOT(ISNUMBER($B5)),NOT(ISNUMBER($C5)),$C5<$B5),"",$C5-$B5) | K5: =IF(OR($F5="",NOT(ISNUMBER($F5)),Summary!$B$4="",NOT(ISNUMBER(Summary!$B$4))),"",IF($F5>=Summary!$B$4,"High Value","Standard Value")) | L5: =IF(COUNTA($A5:$I5)=0,"",IF($A5="","Missing Quote ID",IF(COUNTIF($A$2:$A$201,$A5)>1,"Duplicate Quote ID",IF(OR($B5="",$C5=""),"Missing Date",IF(OR(NOT(ISNUMBER($B5)),NOT(ISNUMBER($C5)),$B5<DATE(2020,1,1),$B5>TODAY(),$C5<DATE(2020,1,1),$C5>TODAY()),"Invalid Date",IF($C5<$B5,"Date Lost Before Quote Date",IF(OR($D5="",$E5="",$G5="",$I5=""),"Missing Classification",IF(OR($F5="",NOT(ISNUMBER($F5)),$F5<=0),"Missing or Invalid Quoted Value",IF(OR(COUNTIF(Lists!$C$2:$C$11,$D5)=0,COUNTIF(Lists!$A$2:$A$11,$E5)=0,COUNTIF(Lists!$D$2:$D$5,$G5)=0,COUNTIF(Lists!$B$2:$B$13,$I5)=0),"Value Not on Approved List",IF(AND($G5="Named Competitor",$H5=""),"Competitor Name Required",IF(AND($G5="Named Competitor",COUNTIF(Lists!$E$2:$E$21,$H5)=0),"Competitor Name Not on Approved List",IF(AND($G5<>"Named Competitor",$H5<>""),"Clear Competitor Name","OK"))))))))))))
A6: LQ-26005 | B6: 46235 | C6: 46259 | D6: Sales Rep D | E6: Commercial Pest | F6: 6400 | G6: Named Competitor | H6: Fictional Competitor C | I6: Existing Provider Relationship | J6: =IF(OR(NOT(ISNUMBER($B6)),NOT(ISNUMBER($C6)),$C6<$B6),"",$C6-$B6) | K6: =IF(OR($F6="",NOT(ISNUMBER($F6)),Summary!$B$4="",NOT(ISNUMBER(Summary!$B$4))),"",IF($F6>=Summary!$B$4,"High Value","Standard Value")) | L6: =IF(COUNTA($A6:$I6)=0,"",IF($A6="","Missing Quote ID",IF(COUNTIF($A$2:$A$201,$A6)>1,"Duplicate Quote ID",IF(OR($B6="",$C6=""),"Missing Date",IF(OR(NOT(ISNUMBER($B6)),NOT(ISNUMBER($C6)),$B6<DATE(2020,1,1),$B6>TODAY(),$C6<DATE(2020,1,1),$C6>TODAY()),"Invalid Date",IF($C6<$B6,"Date Lost Before Quote Date",IF(OR($D6="",$E6="",$G6="",$I6=""),"Missing Classification",IF(OR($F6="",NOT(ISNUMBER($F6)),$F6<=0),"Missing or Invalid Quoted Value",IF(OR(COUNTIF(Lists!$C$2:$C$11,$D6)=0,COUNTIF(Lists!$A$2:$A$11,$E6)=0,COUNTIF(Lists!$D$2:$D$5,$G6)=0,COUNTIF(Lists!$B$2:$B$13,$I6)=0),"Value Not on Approved List",IF(AND($G6="Named Competitor",$H6=""),"Competitor Name Required",IF(AND($G6="Named Competitor",COUNTIF(Lists!$E$2:$E$21,$H6)=0),"Competitor Name Not on Approved List",IF(AND($G6<>"Named Competitor",$H6<>""),"Clear Competitor Name","OK"))))))))))))
A7: LQ-26006 | B7: 46244 | C7: 46245 | D7: Sales Rep B | E7: Bed Bug | F7: 1250 | G7: No Competitor Reported | I7: Timing | J7: =IF(OR(NOT(ISNUMBER($B7)),NOT(ISNUMBER($C7)),$C7<$B7),"",$C7-$B7) | K7: =IF(OR($F7="",NOT(ISNUMBER($F7)),Summary!$B$4="",NOT(ISNUMBER(Summary!$B$4))),"",IF($F7>=Summary!$B$4,"High Value","Standard Value")) | L7: =IF(COUNTA($A7:$I7)=0,"",IF($A7="","Missing Quote ID",IF(COUNTIF($A$2:$A$201,$A7)>1,"Duplicate Quote ID",IF(OR($B7="",$C7=""),"Missing Date",IF(OR(NOT(ISNUMBER($B7)),NOT(ISNUMBER($C7)),$B7<DATE(2020,1,1),$B7>TODAY(),$C7<DATE(2020,1,1),$C7>TODAY()),"Invalid Date",IF($C7<$B7,"Date Lost Before Quote Date",IF(OR($D7="",$E7="",$G7="",$I7=""),"Missing Classification",IF(OR($F7="",NOT(ISNUMBER($F7)),$F7<=0),"Missing or Invalid Quoted Value",IF(OR(COUNTIF(Lists!$C$2:$C$11,$D7)=0,COUNTIF(Lists!$A$2:$A$11,$E7)=0,COUNTIF(Lists!$D$2:$D$5,$G7)=0,COUNTIF(Lists!$B$2:$B$13,$I7)=0),"Value Not on Approved List",IF(AND($G7="Named Competitor",$H7=""),"Competitor Name Required",IF(AND($G7="Named Competitor",COUNTIF(Lists!$E$2:$E$21,$H7)=0),"Competitor Name Not on Approved List",IF(AND($G7<>"Named Competitor",$H7<>""),"Clear Competitor Name","OK"))))))))))))
A8: LQ-26007 | B8: 46248 | C8: 46266 | D8: Sales Rep C | E8: Wildlife Exclusion | F8: 3750 | G8: Competitor Not Named | I8: Price | J8: =IF(OR(NOT(ISNUMBER($B8)),NOT(ISNUMBER($C8)),$C8<$B8),"",$C8-$B8) | K8: =IF(OR($F8="",NOT(ISNUMBER($F8)),Summary!$B$4="",NOT(ISNUMBER(Summary!$B$4))),"",IF($F8>=Summary!$B$4,"High Value","Standard Value")) | L8: =IF(COUNTA($A8:$I8)=0,"",IF($A8="","Missing Quote ID",IF(COUNTIF($A$2:$A$201,$A8)>1,"Duplicate Quote ID",IF(OR($B8="",$C8=""),"Missing Date",IF(OR(NOT(ISNUMBER($B8)),NOT(ISNUMBER($C8)),$B8<DATE(2020,1,1),$B8>TODAY(),$C8<DATE(2020,1,1),$C8>TODAY()),"Invalid Date",IF($C8<$B8,"Date Lost Before Quote Date",IF(OR($D8="",$E8="",$G8="",$I8=""),"Missing Classification",IF(OR($F8="",NOT(ISNUMBER($F8)),$F8<=0),"Missing or Invalid Quoted Value",IF(OR(COUNTIF(Lists!$C$2:$C$11,$D8)=0,COUNTIF(Lists!$A$2:$A$11,$E8)=0,COUNTIF(Lists!$D$2:$D$5,$G8)=0,COUNTIF(Lists!$B$2:$B$13,$I8)=0),"Value Not on Approved List",IF(AND($G8="Named Competitor",$H8=""),"Competitor Name Required",IF(AND($G8="Named Competitor",COUNTIF(Lists!$E$2:$E$21,$H8)=0),"Competitor Name Not on Approved List",IF(AND($G8<>"Named Competitor",$H8<>""),"Clear Competitor Name","OK"))))))))))))
A9: LQ-26008 | B9: 46254 | C9: 46263 | D9: Sales Rep D | E9: General Pest | F9: 395 | G9: Unknown | I9: Could Not Reach Prospect | J9: =IF(OR(NOT(ISNUMBER($B9)),NOT(ISNUMBER($C9)),$C9<$B9),"",$C9-$B9) | K9: =IF(OR($F9="",NOT(ISNUMBER($F9)),Summary!$B$4="",NOT(ISNUMBER(Summary!$B$4))),"",IF($F9>=Summary!$B$4,"High Value","Standard Value")) | L9: =IF(COUNTA($A9:$I9)=0,"",IF($A9="","Missing Quote ID",IF(COUNTIF($A$2:$A$201,$A9)>1,"Duplicate Quote ID",IF(OR($B9="",$C9=""),"Missing Date",IF(OR(NOT(ISNUMBER($B9)),NOT(ISNUMBER($C9)),$B9<DATE(2020,1,1),$B9>TODAY(),$C9<DATE(2020,1,1),$C9>TODAY()),"Invalid Date",IF($C9<$B9,"Date Lost Before Quote Date",IF(OR($D9="",$E9="",$G9="",$I9=""),"Missing Classification",IF(OR($F9="",NOT(ISNUMBER($F9)),$F9<=0),"Missing or Invalid Quoted Value",IF(OR(COUNTIF(Lists!$C$2:$C$11,$D9)=0,COUNTIF(Lists!$A$2:$A$11,$E9)=0,COUNTIF(Lists!$D$2:$D$5,$G9)=0,COUNTIF(Lists!$B$2:$B$13,$I9)=0),"Value Not on Approved List",IF(AND($G9="Named Competitor",$H9=""),"Competitor Name Required",IF(AND($G9="Named Competitor",COUNTIF(Lists!$E$2:$E$21,$H9)=0),"Competitor Name Not on Approved List",IF(AND($G9<>"Named Competitor",$H9<>""),"Clear Competitor Name","OK"))))))))))))
A10: LQ-26009 | B10: 46262 | C10: 46270 | D10: Sales Rep A | E10: Termite | F10: 5100 | G10: Named Competitor | H10: Fictional Competitor A | I10: Went with Another Provider | J10: =IF(OR(NOT(ISNUMBER($B10)),NOT(ISNUMBER($C10)),$C10<$B10),"",$C10-$B10) | K10: =IF(OR($F10="",NOT(ISNUMBER($F10)),Summary!$B$4="",NOT(ISNUMBER(Summary!$B$4))),"",IF($F10>=Summary!$B$4,"High Value","Standard Value")) | L10: =IF(COUNTA($A10:$I10)=0,"",IF($A10="","Missing Quote ID",IF(COUNTIF($A$2:$A$201,$A10)>1,"Duplicate Quote ID",IF(OR($B10="",$C10=""),"Missing Date",IF(OR(NOT(ISNUMBER($B10)),NOT(ISNUMBER($C10)),$B10<DATE(2020,1,1),$B10>TODAY(),$C10<DATE(2020,1,1),$C10>TODAY()),"Invalid Date",IF($C10<$B10,"Date Lost Before Quote Date",IF(OR($D10="",$E10="",$G10="",$I10=""),"Missing Classification",IF(OR($F10="",NOT(ISNUMBER($F10)),$F10<=0),"Missing or Invalid Quoted Value",IF(OR(COUNTIF(Lists!$C$2:$C$11,$D10)=0,COUNTIF(Lists!$A$2:$A$11,$E10)=0,COUNTIF(Lists!$D$2:$D$5,$G10)=0,COUNTIF(Lists!$B$2:$B$13,$I10)=0),"Value Not on Approved List",IF(AND($G10="Named Competitor",$H10=""),"Competitor Name Required",IF(AND($G10="Named Competitor",COUNTIF(Lists!$E$2:$E$21,$H10)=0),"Competitor Name Not on Approved List",IF(AND($G10<>"Named Competitor",$H10<>""),"Clear Competitor Name","OK"))))))))))))
A11: LQ-26010 | B11: 46266 | C11: 46275 | D11: Sales Rep B | E11: Mosquito | F11: 680 | G11: No Competitor Reported | I11: No Decision | J11: =IF(OR(NOT(ISNUMBER($B11)),NOT(ISNUMBER($C11)),$C11<$B11),"",$C11-$B11) | K11: =IF(OR($F11="",NOT(ISNUMBER($F11)),Summary!$B$4="",NOT(ISNUMBER(Summary!$B$4))),"",IF($F11>=Summary!$B$4,"High Value","Standard Value")) | L11: =IF(COUNTA($A11:$I11)=0,"",IF($A11="","Missing Quote ID",IF(COUNTIF($A$2:$A$201,$A11)>1,"Duplicate Quote ID",IF(OR($B11="",$C11=""),"Missing Date",IF(OR(NOT(ISNUMBER($B11)),NOT(ISNUMBER($C11)),$B11<DATE(2020,1,1),$B11>TODAY(),$C11<DATE(2020,1,1),$C11>TODAY()),"Invalid Date",IF($C11<$B11,"Date Lost Before Quote Date",IF(OR($D11="",$E11="",$G11="",$I11=""),"Missing Classification",IF(OR($F11="",NOT(ISNUMBER($F11)),$F11<=0),"Missing or Invalid Quoted Value",IF(OR(COUNTIF(Lists!$C$2:$C$11,$D11)=0,COUNTIF(Lists!$A$2:$A$11,$E11)=0,COUNTIF(Lists!$D$2:$D$5,$G11)=0,COUNTIF(Lists!$B$2:$B$13,$I11)=0),"Value Not on Approved List",IF(AND($G11="Named Competitor",$H11=""),"Competitor Name Required",IF(AND($G11="Named Competitor",COUNTIF(Lists!$E$2:$E$21,$H11)=0),"Competitor Name Not on Approved List",IF(AND($G11<>"Named Competitor",$H11<>""),"Clear Competitor Name","OK"))))))))))))
J12: =IF(OR(NOT(ISNUMBER($B12)),NOT(ISNUMBER($C12)),$C12<$B12),"",$C12-$B12) | K12: =IF(OR($F12="",NOT(ISNUMBER($F12)),Summary!$B$4="",NOT(ISNUMBER(Summary!$B$4))),"",IF($F12>=Summary!$B$4,"High Value","Standard Value")) | L12: =IF(COUNTA($A12:$I12)=0,"",IF($A12="","Missing Quote ID",IF(COUNTIF($A$2:$A$201,$A12)>1,"Duplicate Quote ID",IF(OR($B12="",$C12=""),"Missing Date",IF(OR(NOT(ISNUMBER($B12)),NOT(ISNUMBER($C12)),$B12<DATE(2020,1,1),$B12>TODAY(),$C12<DATE(2020,1,1),$C12>TODAY()),"Invalid Date",IF($C12<$B12,"Date Lost Before Quote Date",IF(OR($D12="",$E12="",$G12="",$I12=""),"Missing Classification",IF(OR($F12="",NOT(ISNUMBER($F12)),$F12<=0),"Missing or Invalid Quoted Value",IF(OR(COUNTIF(Lists!$C$2:$C$11,$D12)=0,COUNTIF(Lists!$A$2:$A$11,$E12)=0,COUNTIF(Lists!$D$2:$D$5,$G12)=0,COUNTIF(Lists!$B$2:$B$13,$I12)=0),"Value Not on Approved List",IF(AND($G12="Named Competitor",$H12=""),"Competitor Name Required",IF(AND($G12="Named Competitor",COUNTIF(Lists!$E$2:$E$21,$H12)=0),"Competitor Name Not on Approved List",IF(AND($G12<>"Named Competitor",$H12<>""),"Clear Competitor Name","OK"))))))))))))
J13: =IF(OR(NOT(ISNUMBER($B13)),NOT(ISNUMBER($C13)),$C13<$B13),"",$C13-$B13) | K13: =IF(OR($F13="",NOT(ISNUMBER($F13)),Summary!$B$4="",NOT(ISNUMBER(Summary!$B$4))),"",IF($F13>=Summary!$B$4,"High Value","Standard Value")) | L13: =IF(COUNTA($A13:$I13)=0,"",IF($A13="","Missing Quote ID",IF(COUNTIF($A$2:$A$201,$A13)>1,"Duplicate Quote ID",IF(OR($B13="",$C13=""),"Missing Date",IF(OR(NOT(ISNUMBER($B13)),NOT(ISNUMBER($C13)),$B13<DATE(2020,1,1),$B13>TODAY(),$C13<DATE(2020,1,1),$C13>TODAY()),"Invalid Date",IF($C13<$B13,"Date Lost Before Quote Date",IF(OR($D13="",$E13="",$G13="",$I13=""),"Missing Classification",IF(OR($F13="",NOT(ISNUMBER($F13)),$F13<=0),"Missing or Invalid Quoted Value",IF(OR(COUNTIF(Lists!$C$2:$C$11,$D13)=0,COUNTIF(Lists!$A$2:$A$11,$E13)=0,COUNTIF(Lists!$D$2:$D$5,$G13)=0,COUNTIF(Lists!$B$2:$B$13,$I13)=0),"Value Not on Approved List",IF(AND($G13="Named Competitor",$H13=""),"Competitor Name Required",IF(AND($G13="Named Competitor",COUNTIF(Lists!$E$2:$E$21,$H13)=0),"Competitor Name Not on Approved List",IF(AND($G13<>"Named Competitor",$H13<>""),"Clear Competitor Name","OK"))))))))))))
J14: =IF(OR(NOT(ISNUMBER($B14)),NOT(ISNUMBER($C14)),$C14<$B14),"",$C14-$B14) | K14: =IF(OR($F14="",NOT(ISNUMBER($F14)),Summary!$B$4="",NOT(ISNUMBER(Summary!$B$4))),"",IF($F14>=Summary!$B$4,"High Value","Standard Value")) | L14: =IF(COUNTA($A14:$I14)=0,"",IF($A14="","Missing Quote ID",IF(COUNTIF($A$2:$A$201,$A14)>1,"Duplicate Quote ID",IF(OR($B14="",$C14=""),"Missing Date",IF(OR(NOT(ISNUMBER($B14)),NOT(ISNUMBER($C14)),$B14<DATE(2020,1,1),$B14>TODAY(),$C14<DATE(2020,1,1),$C14>TODAY()),"Invalid Date",IF($C14<$B14,"Date Lost Before Quote Date",IF(OR($D14="",$E14="",$G14="",$I14=""),"Missing Classification",IF(OR($F14="",NOT(ISNUMBER($F14)),$F14<=0),"Missing or Invalid Quoted Value",IF(OR(COUNTIF(Lists!$C$2:$C$11,$D14)=0,COUNTIF(Lists!$A$2:$A$11,$E14)=0,COUNTIF(Lists!$D$2:$D$5,$G14)=0,COUNTIF(Lists!$B$2:$B$13,$I14)=0),"Value Not on Approved List",IF(AND($G14="Named Competitor",$H14=""),"Competitor Name Required",IF(AND($G14="Named Competitor",COUNTIF(Lists!$E$2:$E$21,$H14)=0),"Competitor Name Not on Approved List",IF(AND($G14<>"Named Competitor",$H14<>""),"Clear Competitor Name","OK"))))))))))))
J15: =IF(OR(NOT(ISNUMBER($B15)),NOT(ISNUMBER($C15)),$C15<$B15),"",$C15-$B15) | K15: =IF(OR($F15="",NOT(ISNUMBER($F15)),Summary!$B$4="",NOT(ISNUMBER(Summary!$B$4))),"",IF($F15>=Summary!$B$4,"High Value","Standard Value")) | L15: =IF(COUNTA($A15:$I15)=0,"",IF($A15="","Missing Quote ID",IF(COUNTIF($A$2:$A$201,$A15)>1,"Duplicate Quote ID",IF(OR($B15="",$C15=""),"Missing Date",IF(OR(NOT(ISNUMBER($B15)),NOT(ISNUMBER($C15)),$B15<DATE(2020,1,1),$B15>TODAY(),$C15<DATE(2020,1,1),$C15>TODAY()),"Invalid Date",IF($C15<$B15,"Date Lost Before Quote Date",IF(OR($D15="",$E15="",$G15="",$I15=""),"Missing Classification",IF(OR($F15="",NOT(ISNUMBER($F15)),$F15<=0),"Missing or Invalid Quoted Value",IF(OR(COUNTIF(Lists!$C$2:$C$11,$D15)=0,COUNTIF(Lists!$A$2:$A$11,$E15)=0,COUNTIF(Lists!$D$2:$D$5,$G15)=0,COUNTIF(Lists!$B$2:$B$13,$I15)=0),"Value Not on Approved List",IF(AND($G15="Named Competitor",$H15=""),"Competitor Name Required",IF(AND($G15="Named Competitor",COUNTIF(Lists!$E$2:$E$21,$H15)=0),"Competitor Name Not on Approved List",IF(AND($G15<>"Named Competitor",$H15<>""),"Clear Competitor Name","OK"))))))))))))
J16: =IF(OR(NOT(ISNUMBER($B16)),NOT(ISNUMBER($C16)),$C16<$B16),"",$C16-$B16) | K16: =IF(OR($F16="",NOT(ISNUMBER($F16)),Summary!$B$4="",NOT(ISNUMBER(Summary!$B$4))),"",IF($F16>=Summary!$B$4,"High Value","Standard Value")) | L16: =IF(COUNTA($A16:$I16)=0,"",IF($A16="","Missing Quote ID",IF(COUNTIF($A$2:$A$201,$A16)>1,"Duplicate Quote ID",IF(OR($B16="",$C16=""),"Missing Date",IF(OR(NOT(ISNUMBER($B16)),NOT(ISNUMBER($C16)),$B16<DATE(2020,1,1),$B16>TODAY(),$C16<DATE(2020,1,1),$C16>TODAY()),"Invalid Date",IF($C16<$B16,"Date Lost Before Quote Date",IF(OR($D16="",$E16="",$G16="",$I16=""),"Missing Classification",IF(OR($F16="",NOT(ISNUMBER($F16)),$F16<=0),"Missing or Invalid Quoted Value",IF(OR(COUNTIF(Lists!$C$2:$C$11,$D16)=0,COUNTIF(Lists!$A$2:$A$11,$E16)=0,COUNTIF(Lists!$D$2:$D$5,$G16)=0,COUNTIF(Lists!$B$2:$B$13,$I16)=0),"Value Not on Approved List",IF(AND($G16="Named Competitor",$H16=""),"Competitor Name Required",IF(AND($G16="Named Competitor",COUNTIF(Lists!$E$2:$E$21,$H16)=0),"Competitor Name Not on Approved List",IF(AND($G16<>"Named Competitor",$H16<>""),"Clear Competitor Name","OK"))))))))))))
J17: =IF(OR(NOT(ISNUMBER($B17)),NOT(ISNUMBER($C17)),$C17<$B17),"",$C17-$B17) | K17: =IF(OR($F17="",NOT(ISNUMBER($F17)),Summary!$B$4="",NOT(ISNUMBER(Summary!$B$4))),"",IF($F17>=Summary!$B$4,"High Value","Standard Value")) | L17: =IF(COUNTA($A17:$I17)=0,"",IF($A17="","Missing Quote ID",IF(COUNTIF($A$2:$A$201,$A17)>1,"Duplicate Quote ID",IF(OR($B17="",$C17=""),"Missing Date",IF(OR(NOT(ISNUMBER($B17)),NOT(ISNUMBER($C17)),$B17<DATE(2020,1,1),$B17>TODAY(),$C17<DATE(2020,1,1),$C17>TODAY()),"Invalid Date",IF($C17<$B17,"Date Lost Before Quote Date",IF(OR($D17="",$E17="",$G17="",$I17=""),"Missing Classification",IF(OR($F17="",NOT(ISNUMBER($F17)),$F17<=0),"Missing or Invalid Quoted Value",IF(OR(COUNTIF(Lists!$C$2:$C$11,$D17)=0,COUNTIF(Lists!$A$2:$A$11,$E17)=0,COUNTIF(Lists!$D$2:$D$5,$G17)=0,COUNTIF(Lists!$B$2:$B$13,$I17)=0),"Value Not on Approved List",IF(AND($G17="Named Competitor",$H17=""),"Competitor Name Required",IF(AND($G17="Named Competitor",COUNTIF(Lists!$E$2:$E$21,$H17)=0),"Competitor Name Not on Approved List",IF(AND($G17<>"Named Competitor",$H17<>""),"Clear Competitor Name","OK"))))))))))))
J18: =IF(OR(NOT(ISNUMBER($B18)),NOT(ISNUMBER($C18)),$C18<$B18),"",$C18-$B18) | K18: =IF(OR($F18="",NOT(ISNUMBER($F18)),Summary!$B$4="",NOT(ISNUMBER(Summary!$B$4))),"",IF($F18>=Summary!$B$4,"High Value","Standard Value")) | L18: =IF(COUNTA($A18:$I18)=0,"",IF($A18="","Missing Quote ID",IF(COUNTIF($A$2:$A$201,$A18)>1,"Duplicate Quote ID",IF(OR($B18="",$C18=""),"Missing Date",IF(OR(NOT(ISNUMBER($B18)),NOT(ISNUMBER($C18)),$B18<DATE(2020,1,1),$B18>TODAY(),$C18<DATE(2020,1,1),$C18>TODAY()),"Invalid Date",IF($C18<$B18,"Date Lost Before Quote Date",IF(OR($D18="",$E18="",$G18="",$I18=""),"Missing Classification",IF(OR($F18="",NOT(ISNUMBER($F18)),$F18<=0),"Missing or Invalid Quoted Value",IF(OR(COUNTIF(Lists!$C$2:$C$11,$D18)=0,COUNTIF(Lists!$A$2:$A$11,$E18)=0,COUNTIF(Lists!$D$2:$D$5,$G18)=0,COUNTIF(Lists!$B$2:$B$13,$I18)=0),"Value Not on Approved List",IF(AND($G18="Named Competitor",$H18=""),"Competitor Name Required",IF(AND($G18="Named Competitor",COUNTIF(Lists!$E$2:$E$21,$H18)=0),"Competitor Name Not on Approved List",IF(AND($G18<>"Named Competitor",$H18<>""),"Clear Competitor Name","OK"))))))))))))
J19: =IF(OR(NOT(ISNUMBER($B19)),NOT(ISNUMBER($C19)),$C19<$B19),"",$C19-$B19) | K19: =IF(OR($F19="",NOT(ISNUMBER($F19)),Summary!$B$4="",NOT(ISNUMBER(Summary!$B$4))),"",IF($F19>=Summary!$B$4,"High Value","Standard Value")) | L19: =IF(COUNTA($A19:$I19)=0,"",IF($A19="","Missing Quote ID",IF(COUNTIF($A$2:$A$201,$A19)>1,"Duplicate Quote ID",IF(OR($B19="",$C19=""),"Missing Date",IF(OR(NOT(ISNUMBER($B19)),NOT(ISNUMBER($C19)),$B19<DATE(2020,1,1),$B19>TODAY(),$C19<DATE(2020,1,1),$C19>TODAY()),"Invalid Date",IF($C19<$B19,"Date Lost Before Quote Date",IF(OR($D19="",$E19="",$G19="",$I19=""),"Missing Classification",IF(OR($F19="",NOT(ISNUMBER($F19)),$F19<=0),"Missing or Invalid Quoted Value",IF(OR(COUNTIF(Lists!$C$2:$C$11,$D19)=0,COUNTIF(Lists!$A$2:$A$11,$E19)=0,COUNTIF(Lists!$D$2:$D$5,$G19)=0,COUNTIF(Lists!$B$2:$B$13,$I19)=0),"Value Not on Approved List",IF(AND($G19="Named Competitor",$H19=""),"Competitor Name Required",IF(AND($G19="Named Competitor",COUNTIF(Lists!$E$2:$E$21,$H19)=0),"Competitor Name Not on Approved List",IF(AND($G19<>"Named Competitor",$H19<>""),"Clear Competitor Name","OK"))))))))))))
J20: =IF(OR(NOT(ISNUMBER($B20)),NOT(ISNUMBER($C20)),$C20<$B20),"",$C20-$B20) | K20: =IF(OR($F20="",NOT(ISNUMBER($F20)),Summary!$B$4="",NOT(ISNUMBER(Summary!$B$4))),"",IF($F20>=Summary!$B$4,"High Value","Standard Value")) | L20: =IF(COUNTA($A20:$I20)=0,"",IF($A20="","Missing Quote ID",IF(COUNTIF($A$2:$A$201,$A20)>1,"Duplicate Quote ID",IF(OR($B20="",$C20=""),"Missing Date",IF(OR(NOT(ISNUMBER($B20)),NOT(ISNUMBER($C20)),$B20<DATE(2020,1,1),$B20>TODAY(),$C20<DATE(2020,1,1),$C20>TODAY()),"Invalid Date",IF($C20<$B20,"Date Lost Before Quote Date",IF(OR($D20="",$E20="",$G20="",$I20=""),"Missing Classification",IF(OR($F20="",NOT(ISNUMBER($F20)),$F20<=0),"Missing or Invalid Quoted Value",IF(OR(COUNTIF(Lists!$C$2:$C$11,$D20)=0,COUNTIF(Lists!$A$2:$A$11,$E20)=0,COUNTIF(Lists!$D$2:$D$5,$G20)=0,COUNTIF(Lists!$B$2:$B$13,$I20)=0),"Value Not on Approved List",IF(AND($G20="Named Competitor",$H20=""),"Competitor Name Required",IF(AND($G20="Named Competitor",COUNTIF(Lists!$E$2:$E$21,$H20)=0),"Competitor Name Not on Approved List",IF(AND($G20<>"Named Competitor",$H20<>""),"Clear Competitor Name","OK"))))))))))))
J21: =IF(OR(NOT(ISNUMBER($B21)),NOT(ISNUMBER($C21)),$C21<$B21),"",$C21-$B21) | K21: =IF(OR($F21="",NOT(ISNUMBER($F21)),Summary!$B$4="",NOT(ISNUMBER(Summary!$B$4))),"",IF($F21>=Summary!$B$4,"High Value","Standard Value")) | L21: =IF(COUNTA($A21:$I21)=0,"",IF($A21="","Missing Quote ID",IF(COUNTIF($A$2:$A$201,$A21)>1,"Duplicate Quote ID",IF(OR($B21="",$C21=""),"Missing Date",IF(OR(NOT(ISNUMBER($B21)),NOT(ISNUMBER($C21)),$B21<DATE(2020,1,1),$B21>TODAY(),$C21<DATE(2020,1,1),$C21>TODAY()),"Invalid Date",IF($C21<$B21,"Date Lost Before Quote Date",IF(OR($D21="",$E21="",$G21="",$I21=""),"Missing Classification",IF(OR($F21="",NOT(ISNUMBER($F21)),$F21<=0),"Missing or Invalid Quoted Value",IF(OR(COUNTIF(Lists!$C$2:$C$11,$D21)=0,COUNTIF(Lists!$A$2:$A$11,$E21)=0,COUNTIF(Lists!$D$2:$D$5,$G21)=0,COUNTIF(Lists!$B$2:$B$13,$I21)=0),"Value Not on Approved List",IF(AND($G21="Named Competitor",$H21=""),"Competitor Name Required",IF(AND($G21="Named Competitor",COUNTIF(Lists!$E$2:$E$21,$H21)=0),"Competitor Name Not on Approved List",IF(AND($G21<>"Named Competitor",$H21<>""),"Clear Competitor Name","OK"))))))))))))
J22: =IF(OR(NOT(ISNUMBER($B22)),NOT(ISNUMBER($C22)),$C22<$B22),"",$C22-$B22) | K22: =IF(OR($F22="",NOT(ISNUMBER($F22)),Summary!$B$4="",NOT(ISNUMBER(Summary!$B$4))),"",IF($F22>=Summary!$B$4,"High Value","Standard Value")) | L22: =IF(COUNTA($A22:$I22)=0,"",IF($A22="","Missing Quote ID",IF(COUNTIF($A$2:$A$201,$A22)>1,"Duplicate Quote ID",IF(OR($B22="",$C22=""),"Missing Date",IF(OR(NOT(ISNUMBER($B22)),NOT(ISNUMBER($C22)),$B22<DATE(2020,1,1),$B22>TODAY(),$C22<DATE(2020,1,1),$C22>TODAY()),"Invalid Date",IF($C22<$B22,"Date Lost Before Quote Date",IF(OR($D22="",$E22="",$G22="",$I22=""),"Missing Classification",IF(OR($F22="",NOT(ISNUMBER($F22)),$F22<=0),"Missing or Invalid Quoted Value",IF(OR(COUNTIF(Lists!$C$2:$C$11,$D22)=0,COUNTIF(Lists!$A$2:$A$11,$E22)=0,COUNTIF(Lists!$D$2:$D$5,$G22)=0,COUNTIF(Lists!$B$2:$B$13,$I22)=0),"Value Not on Approved List",IF(AND($G22="Named Competitor",$H22=""),"Competitor Name Required",IF(AND($G22="Named Competitor",COUNTIF(Lists!$E$2:$E$21,$H22)=0),"Competitor Name Not on Approved List",IF(AND($G22<>"Named Competitor",$H22<>""),"Clear Competitor Name","OK"))))))))))))
J23: =IF(OR(NOT(ISNUMBER($B23)),NOT(ISNUMBER($C23)),$C23<$B23),"",$C23-$B23) | K23: =IF(OR($F23="",NOT(ISNUMBER($F23)),Summary!$B$4="",NOT(ISNUMBER(Summary!$B$4))),"",IF($F23>=Summary!$B$4,"High Value","Standard Value")) | L23: =IF(COUNTA($A23:$I23)=0,"",IF($A23="","Missing Quote ID",IF(COUNTIF($A$2:$A$201,$A23)>1,"Duplicate Quote ID",IF(OR($B23="",$C23=""),"Missing Date",IF(OR(NOT(ISNUMBER($B23)),NOT(ISNUMBER($C23)),$B23<DATE(2020,1,1),$B23>TODAY(),$C23<DATE(2020,1,1),$C23>TODAY()),"Invalid Date",IF($C23<$B23,"Date Lost Before Quote Date",IF(OR($D23="",$E23="",$G23="",$I23=""),"Missing Classification",IF(OR($F23="",NOT(ISNUMBER($F23)),$F23<=0),"Missing or Invalid Quoted Value",IF(OR(COUNTIF(Lists!$C$2:$C$11,$D23)=0,COUNTIF(Lists!$A$2:$A$11,$E23)=0,COUNTIF(Lists!$D$2:$D$5,$G23)=0,COUNTIF(Lists!$B$2:$B$13,$I23)=0),"Value Not on Approved List",IF(AND($G23="Named Competitor",$H23=""),"Competitor Name Required",IF(AND($G23="Named Competitor",COUNTIF(Lists!$E$2:$E$21,$H23)=0),"Competitor Name Not on Approved List",IF(AND($G23<>"Named Competitor",$H23<>""),"Clear Competitor Name","OK"))))))))))))
... J201: =IF(OR(NOT(ISNUMBER($B201)),NOT(ISNUMBER($C201)),$C201<$B201),"",$C201-$B201) | K201: =IF(OR($F201="",NOT(ISNUMBER($F201)),Summary!$B$4="",NOT(ISNUMBER(Summary!$B$4))),"",IF($F201>=Summary!$B$4,"High Value","Standard Value")) | L201: =IF(COUNTA($A201:$I201)=0,"",IF($A201="","Missing Quote ID",IF(COUNTIF($A$2:$A$201,$A201)>1,"Duplicate Quote ID",IF(OR($B201="",$C201=""),"Missing Date",IF(OR(NOT(ISNUMBER($B201)),NOT(ISNUMBER($C201)),$B201<DATE(2020,1,1),$B201>TODAY(),$C201<DATE(2020,1,1),$C201>TODAY()),"Invalid Date",IF($C201<$B201,"Date Lost Before Quote Date",IF(OR($D201="",$E201="",$G201="",$I201=""),"Missing Classification",IF(OR($F201="",NOT(ISNUMBER($F201)),$F201<=0),"Missing or Invalid Quoted Value",IF(OR(COUNTIF(Lists!$C$2:$C$11,$D201)=0,COUNTIF(Lists!$A$2:$A$11,$E201)=0,COUNTIF(Lists!$D$2:$D$5,$G201)=0,COUNTIF(Lists!$B$2:$B$13,$I201)=0),"Value Not on Approved List",IF(AND($G201="Named Competitor",$H201=""),"Competitor Name Required",IF(AND($G201="Named Competitor",COUNTIF(Lists!$E$2:$E$21,$H201)=0),"Competitor Name Not on Approved List",IF(AND($G201<>"Named Competitor",$H201<>""),"Clear Competitor Name","OK"))))))))))))

Sheet Lists
A1: Service Category | B1: Primary Loss Reason | C1: Sales Owner | D1: Competitor Status | E1: Competitor Name
A2: General Pest | B2: Price | C2: Sales Rep A | D2: Named Competitor | E2: Fictional Competitor A
A3: Termite | B3: Timing | C3: Sales Rep B | D3: Competitor Not Named | E3: Fictional Competitor B
A4: Mosquito | B4: Went with Another Provider | C4: Sales Rep C | D4: No Competitor Reported | E4: Fictional Competitor C
A5: Rodent Exclusion | B5: No Decision | C5: Sales Rep D | D5: Unknown
A6: Bed Bug | B6: Scope Mismatch
A7: Wildlife Exclusion | B7: Financing
A8: Commercial Pest | B8: Could Not Reach Prospect
B9: Existing Provider Relationship
B10: Other
A23: Editable fictional classification examples may be replaced or extended within the yellow prepared ranges.
A24: Do not enter customer, contact, service-site, payment, pesticide, employee personnel, or confidential competitor details.
