Workbook

Sheet Summary
A1: Pest Control Quote Follow-Up Tracker
A3: Indicator | B3: Calculated Value | E3: Quote Status | F3: Quote Count
A4: Total quotes | B4: =COUNTIF('Quote Tracker'!$A$2:$A$101,"<>") | E4: Open | F4: =COUNTIF('Quote Tracker'!$J$2:$J$101,E4)
A5: Open and pending quotes | B5: =COUNTIF('Quote Tracker'!$J$2:$J$101,"Open")+COUNTIF('Quote Tracker'!$J$2:$J$101,"Pending Customer") | E5: Pending Customer | F5: =COUNTIF('Quote Tracker'!$J$2:$J$101,E5)
A6: Open and pending quote value | B6: =SUMIF('Quote Tracker'!$J$2:$J$101,"Open",'Quote Tracker'!$I$2:$I$101)+SUMIF('Quote Tracker'!$J$2:$J$101,"Pending Customer",'Quote Tracker'!$I$2:$I$101) | E6: Won | F6: =COUNTIF('Quote Tracker'!$J$2:$J$101,E6)
A7: Due today or past due | B7: =COUNTIF('Quote Tracker'!$Q$2:$Q$101,"Due today")+COUNTIF('Quote Tracker'!$Q$2:$Q$101,"Past due") | E7: Lost | F7: =COUNTIF('Quote Tracker'!$J$2:$J$101,E7)
A8: Due soon | B8: =COUNTIF('Quote Tracker'!$Q$2:$Q$101,"Due soon") | E8: Expired | F8: =COUNTIF('Quote Tracker'!$J$2:$J$101,E8)
A9: Need follow-up scheduling | B9: =COUNTIF('Quote Tracker'!$Q$2:$Q$101,"Schedule follow-up")
A10: Won quotes | B10: =COUNTIF('Quote Tracker'!$J$2:$J$101,"Won")
A11: Lost quotes | B11: =COUNTIF('Quote Tracker'!$J$2:$J$101,"Lost")
A12: Expired quotes | B12: =COUNTIF('Quote Tracker'!$J$2:$J$101,"Expired")
A13: Win rate on decided quotes | B13: =IFERROR(COUNTIF('Quote Tracker'!$J$2:$J$101,"Won")/(COUNTIF('Quote Tracker'!$J$2:$J$101,"Won")+COUNTIF('Quote Tracker'!$J$2:$J$101,"Lost")),"")
A14: Quotes needing expiration review | B14: =COUNTIF('Quote Tracker'!$Q$2:$Q$101,"Check expiration")
A15: Average open or pending value | B15: =IFERROR((SUMIF('Quote Tracker'!$J$2:$J$101,"Open",'Quote Tracker'!$I$2:$I$101)+SUMIF('Quote Tracker'!$J$2:$J$101,"Pending Customer",'Quote Tracker'!$I$2:$I$101))/(COUNTIF('Quote Tracker'!$J$2:$J$101,"Open")+COUNTIF('Quote Tracker'!$J$2:$J$101,"Pending Customer")),"")

Sheet Quote Tracker
A1: Quote ID | B1: Customer | C1: Service Site | D1: Pest Concern | E1: Proposed Service | F1: Route | G1: Follow-Up Responsibility | H1: Quote Date | I1: Quote Amount | J1: Quote Status | K1: Decision Date | L1: Last Follow-Up Date | M1: Next Follow-Up Date | N1: Follow-Up Count | O1: Estimated Expiration Date | P1: Days Open | Q1: Follow-Up Alert
A2: SAMPLE-Q-2026-001 | B2: Sample Customer Alder (Fictional) | C2: 101 Imaginary Pine Lane, Exampletown, ZZ 00001 (Fictional) | D2: Ant activity (Example) | E2: Exterior perimeter service (Example) | F2: Sample Route North (Fictional) | G2: Avery Quill (Fictional) | H2: 46271 | I2: 425 | J2: Open | L2: 46274 | M2: 46276 | N2: 2 | O2: =IF(OR(A2="",H2="",NOT(ISNUMBER(H2)),NOT(ISNUMBER(Assumptions!$B$2))),"",IFERROR(H2+Assumptions!$B$2,"")) | P2: =IF(OR(A2="",H2="",NOT(ISNUMBER(H2))),"",IFERROR(MAX(0,IF(AND(OR(J2="Won",J2="Lost",J2="Expired"),K2<>"",ISNUMBER(K2)),K2-H2,TODAY()-H2)),"")) | Q2: =IF(A2="","",IF(B2="","Add customer",IF(C2="","Add service site",IF(OR(H2="",NOT(ISNUMBER(H2))),"Add quote date",IF(OR(I2="",NOT(ISNUMBER(I2))),"Add quote amount",IF(J2="","Check status",IF(AND(K2<>"",NOT(ISNUMBER(K2))),"Check decision date",IF(AND(L2<>"",NOT(ISNUMBER(L2))),"Check last follow-up",IF(AND(M2<>"",NOT(ISNUMBER(M2))),"Check next follow-up",IF(AND(K2<>"",K2<H2),"Check decision date",IF(AND(L2<>"",L2<H2),"Check last follow-up",IF(AND(M2<>"",M2<H2),"Check next follow-up",IF(OR(J2="Won",J2="Lost",J2="Expired"),IF(K2="","Add decision date","Closed"),IF(K2<>"","Check decision date",IF(AND(O2<>"",TODAY()>O2),"Check expiration",IF(M2="","Schedule follow-up",IF(M2<TODAY(),"Past due",IF(M2=TODAY(),"Due today",IF(M2<=TODAY()+IF(ISNUMBER(Assumptions!$B$3),Assumptions!$B$3,0),"Due soon","Scheduled")))))))))))))))))))
A3: SAMPLE-Q-2026-002 | B3: Sample Customer Birch (Fictional) | C3: 202 Fictional Cedar Court, Exampletown, ZZ 00002 (Fictional) | D3: Cockroach activity (Example) | E3: Recurring general pest service (Example) | F3: Sample Route South (Fictional) | G3: Jordan Vale (Fictional) | H3: 46264 | I3: 980 | J3: Pending Customer | L3: 46272 | M3: 46275 | N3: 3 | O3: =IF(OR(A3="",H3="",NOT(ISNUMBER(H3)),NOT(ISNUMBER(Assumptions!$B$2))),"",IFERROR(H3+Assumptions!$B$2,"")) | P3: =IF(OR(A3="",H3="",NOT(ISNUMBER(H3))),"",IFERROR(MAX(0,IF(AND(OR(J3="Won",J3="Lost",J3="Expired"),K3<>"",ISNUMBER(K3)),K3-H3,TODAY()-H3)),"")) | Q3: =IF(A3="","",IF(B3="","Add customer",IF(C3="","Add service site",IF(OR(H3="",NOT(ISNUMBER(H3))),"Add quote date",IF(OR(I3="",NOT(ISNUMBER(I3))),"Add quote amount",IF(J3="","Check status",IF(AND(K3<>"",NOT(ISNUMBER(K3))),"Check decision date",IF(AND(L3<>"",NOT(ISNUMBER(L3))),"Check last follow-up",IF(AND(M3<>"",NOT(ISNUMBER(M3))),"Check next follow-up",IF(AND(K3<>"",K3<H3),"Check decision date",IF(AND(L3<>"",L3<H3),"Check last follow-up",IF(AND(M3<>"",M3<H3),"Check next follow-up",IF(OR(J3="Won",J3="Lost",J3="Expired"),IF(K3="","Add decision date","Closed"),IF(K3<>"","Check decision date",IF(AND(O3<>"",TODAY()>O3),"Check expiration",IF(M3="","Schedule follow-up",IF(M3<TODAY(),"Past due",IF(M3=TODAY(),"Due today",IF(M3<=TODAY()+IF(ISNUMBER(Assumptions!$B$3),Assumptions!$B$3,0),"Due soon","Scheduled")))))))))))))))))))
A4: SAMPLE-Q-2026-003 | B4: Sample Customer Clover (Fictional) | C4: 303 Sample Oak Avenue, Imaginary City, ZZ 00003 (Fictional) | D4: Spider activity (Example) | E4: One-time interior service (Example) | F4: Sample Route East (Fictional) | G4: Morgan Ember (Fictional) | H4: 46273 | I4: 275 | J4: Open | N4: 0 | O4: =IF(OR(A4="",H4="",NOT(ISNUMBER(H4)),NOT(ISNUMBER(Assumptions!$B$2))),"",IFERROR(H4+Assumptions!$B$2,"")) | P4: =IF(OR(A4="",H4="",NOT(ISNUMBER(H4))),"",IFERROR(MAX(0,IF(AND(OR(J4="Won",J4="Lost",J4="Expired"),K4<>"",ISNUMBER(K4)),K4-H4,TODAY()-H4)),"")) | Q4: =IF(A4="","",IF(B4="","Add customer",IF(C4="","Add service site",IF(OR(H4="",NOT(ISNUMBER(H4))),"Add quote date",IF(OR(I4="",NOT(ISNUMBER(I4))),"Add quote amount",IF(J4="","Check status",IF(AND(K4<>"",NOT(ISNUMBER(K4))),"Check decision date",IF(AND(L4<>"",NOT(ISNUMBER(L4))),"Check last follow-up",IF(AND(M4<>"",NOT(ISNUMBER(M4))),"Check next follow-up",IF(AND(K4<>"",K4<H4),"Check decision date",IF(AND(L4<>"",L4<H4),"Check last follow-up",IF(AND(M4<>"",M4<H4),"Check next follow-up",IF(OR(J4="Won",J4="Lost",J4="Expired"),IF(K4="","Add decision date","Closed"),IF(K4<>"","Check decision date",IF(AND(O4<>"",TODAY()>O4),"Check expiration",IF(M4="","Schedule follow-up",IF(M4<TODAY(),"Past due",IF(M4=TODAY(),"Due today",IF(M4<=TODAY()+IF(ISNUMBER(Assumptions!$B$3),Assumptions!$B$3,0),"Due soon","Scheduled")))))))))))))))))))
A5: SAMPLE-Q-2026-004 | B5: Sample Customer Driftwood (Fictional) | C5: 404 Example Maple Road, Imaginary City, ZZ 00004 (Fictional) | D5: Rodent activity (Example) | E5: Rodent exclusion estimate (Example) | F5: Sample Route West (Fictional) | G5: Riley North (Fictional) | H5: 46256 | I5: 650 | J5: Won | K5: 46266 | L5: 46266 | N5: 2 | O5: =IF(OR(A5="",H5="",NOT(ISNUMBER(H5)),NOT(ISNUMBER(Assumptions!$B$2))),"",IFERROR(H5+Assumptions!$B$2,"")) | P5: =IF(OR(A5="",H5="",NOT(ISNUMBER(H5))),"",IFERROR(MAX(0,IF(AND(OR(J5="Won",J5="Lost",J5="Expired"),K5<>"",ISNUMBER(K5)),K5-H5,TODAY()-H5)),"")) | Q5: =IF(A5="","",IF(B5="","Add customer",IF(C5="","Add service site",IF(OR(H5="",NOT(ISNUMBER(H5))),"Add quote date",IF(OR(I5="",NOT(ISNUMBER(I5))),"Add quote amount",IF(J5="","Check status",IF(AND(K5<>"",NOT(ISNUMBER(K5))),"Check decision date",IF(AND(L5<>"",NOT(ISNUMBER(L5))),"Check last follow-up",IF(AND(M5<>"",NOT(ISNUMBER(M5))),"Check next follow-up",IF(AND(K5<>"",K5<H5),"Check decision date",IF(AND(L5<>"",L5<H5),"Check last follow-up",IF(AND(M5<>"",M5<H5),"Check next follow-up",IF(OR(J5="Won",J5="Lost",J5="Expired"),IF(K5="","Add decision date","Closed"),IF(K5<>"","Check decision date",IF(AND(O5<>"",TODAY()>O5),"Check expiration",IF(M5="","Schedule follow-up",IF(M5<TODAY(),"Past due",IF(M5=TODAY(),"Due today",IF(M5<=TODAY()+IF(ISNUMBER(Assumptions!$B$3),Assumptions!$B$3,0),"Due soon","Scheduled")))))))))))))))))))
A6: SAMPLE-Q-2026-005 | B6: Sample Customer Elm (Fictional) | C6: 505 Fictional Ash Street, Sample Borough, ZZ 00005 (Fictional) | D6: Stinging insect activity (Example) | E6: Initial assessment (Example) | F6: Sample Route Central (Fictional) | G6: Taylor Finch (Fictional) | H6: 46261 | I6: 1200 | J6: Lost | K6: 46271 | L6: 46271 | N6: 3 | O6: =IF(OR(A6="",H6="",NOT(ISNUMBER(H6)),NOT(ISNUMBER(Assumptions!$B$2))),"",IFERROR(H6+Assumptions!$B$2,"")) | P6: =IF(OR(A6="",H6="",NOT(ISNUMBER(H6))),"",IFERROR(MAX(0,IF(AND(OR(J6="Won",J6="Lost",J6="Expired"),K6<>"",ISNUMBER(K6)),K6-H6,TODAY()-H6)),"")) | Q6: =IF(A6="","",IF(B6="","Add customer",IF(C6="","Add service site",IF(OR(H6="",NOT(ISNUMBER(H6))),"Add quote date",IF(OR(I6="",NOT(ISNUMBER(I6))),"Add quote amount",IF(J6="","Check status",IF(AND(K6<>"",NOT(ISNUMBER(K6))),"Check decision date",IF(AND(L6<>"",NOT(ISNUMBER(L6))),"Check last follow-up",IF(AND(M6<>"",NOT(ISNUMBER(M6))),"Check next follow-up",IF(AND(K6<>"",K6<H6),"Check decision date",IF(AND(L6<>"",L6<H6),"Check last follow-up",IF(AND(M6<>"",M6<H6),"Check next follow-up",IF(OR(J6="Won",J6="Lost",J6="Expired"),IF(K6="","Add decision date","Closed"),IF(K6<>"","Check decision date",IF(AND(O6<>"",TODAY()>O6),"Check expiration",IF(M6="","Schedule follow-up",IF(M6<TODAY(),"Past due",IF(M6=TODAY(),"Due today",IF(M6<=TODAY()+IF(ISNUMBER(Assumptions!$B$3),Assumptions!$B$3,0),"Due soon","Scheduled")))))))))))))))))))
A7: SAMPLE-Q-2026-006 | B7: Sample Customer Fern (Fictional) | C7: 606 Imaginary Willow Way, Sample Borough, ZZ 00006 (Fictional) | D7: General pest concern (Example) | E7: Commercial monitoring service (Example) | F7: Sample Route North (Fictional) | G7: Avery Quill (Fictional) | H7: 46241 | I7: 510 | J7: Expired | K7: 46271 | L7: 46269 | N7: 2 | O7: =IF(OR(A7="",H7="",NOT(ISNUMBER(H7)),NOT(ISNUMBER(Assumptions!$B$2))),"",IFERROR(H7+Assumptions!$B$2,"")) | P7: =IF(OR(A7="",H7="",NOT(ISNUMBER(H7))),"",IFERROR(MAX(0,IF(AND(OR(J7="Won",J7="Lost",J7="Expired"),K7<>"",ISNUMBER(K7)),K7-H7,TODAY()-H7)),"")) | Q7: =IF(A7="","",IF(B7="","Add customer",IF(C7="","Add service site",IF(OR(H7="",NOT(ISNUMBER(H7))),"Add quote date",IF(OR(I7="",NOT(ISNUMBER(I7))),"Add quote amount",IF(J7="","Check status",IF(AND(K7<>"",NOT(ISNUMBER(K7))),"Check decision date",IF(AND(L7<>"",NOT(ISNUMBER(L7))),"Check last follow-up",IF(AND(M7<>"",NOT(ISNUMBER(M7))),"Check next follow-up",IF(AND(K7<>"",K7<H7),"Check decision date",IF(AND(L7<>"",L7<H7),"Check last follow-up",IF(AND(M7<>"",M7<H7),"Check next follow-up",IF(OR(J7="Won",J7="Lost",J7="Expired"),IF(K7="","Add decision date","Closed"),IF(K7<>"","Check decision date",IF(AND(O7<>"",TODAY()>O7),"Check expiration",IF(M7="","Schedule follow-up",IF(M7<TODAY(),"Past due",IF(M7=TODAY(),"Due today",IF(M7<=TODAY()+IF(ISNUMBER(Assumptions!$B$3),Assumptions!$B$3,0),"Due soon","Scheduled")))))))))))))))))))
A8: SAMPLE-Q-2026-007 | B8: Sample Customer Granite (Fictional) | C8: 707 Sample Spruce Drive, Exampletown, ZZ 00007 (Fictional) | D8: Stored product pest activity (Example) | E8: Commercial monitoring service (Example) | F8: Sample Route South (Fictional) | G8: Jordan Vale (Fictional) | H8: 46247 | I8: 340 | J8: Open | L8: 46271 | M8: 46277 | N8: 2 | O8: =IF(OR(A8="",H8="",NOT(ISNUMBER(H8)),NOT(ISNUMBER(Assumptions!$B$2))),"",IFERROR(H8+Assumptions!$B$2,"")) | P8: =IF(OR(A8="",H8="",NOT(ISNUMBER(H8))),"",IFERROR(MAX(0,IF(AND(OR(J8="Won",J8="Lost",J8="Expired"),K8<>"",ISNUMBER(K8)),K8-H8,TODAY()-H8)),"")) | Q8: =IF(A8="","",IF(B8="","Add customer",IF(C8="","Add service site",IF(OR(H8="",NOT(ISNUMBER(H8))),"Add quote date",IF(OR(I8="",NOT(ISNUMBER(I8))),"Add quote amount",IF(J8="","Check status",IF(AND(K8<>"",NOT(ISNUMBER(K8))),"Check decision date",IF(AND(L8<>"",NOT(ISNUMBER(L8))),"Check last follow-up",IF(AND(M8<>"",NOT(ISNUMBER(M8))),"Check next follow-up",IF(AND(K8<>"",K8<H8),"Check decision date",IF(AND(L8<>"",L8<H8),"Check last follow-up",IF(AND(M8<>"",M8<H8),"Check next follow-up",IF(OR(J8="Won",J8="Lost",J8="Expired"),IF(K8="","Add decision date","Closed"),IF(K8<>"","Check decision date",IF(AND(O8<>"",TODAY()>O8),"Check expiration",IF(M8="","Schedule follow-up",IF(M8<TODAY(),"Past due",IF(M8=TODAY(),"Due today",IF(M8<=TODAY()+IF(ISNUMBER(Assumptions!$B$3),Assumptions!$B$3,0),"Due soon","Scheduled")))))))))))))))))))
A9: SAMPLE-Q-2026-008 | B9: Sample Customer Harbor (Fictional) | C9: 808 Fictional Poplar Place, Imaginary City, ZZ 00008 (Fictional) | D9: Termite concern (Example) | E9: Follow-up inspection (Example) | F9: Sample Route East (Fictional) | G9: Morgan Ember (Fictional) | H9: 46275 | I9: 1850 | J9: Pending Customer | M9: 46281 | N9: 0 | O9: =IF(OR(A9="",H9="",NOT(ISNUMBER(H9)),NOT(ISNUMBER(Assumptions!$B$2))),"",IFERROR(H9+Assumptions!$B$2,"")) | P9: =IF(OR(A9="",H9="",NOT(ISNUMBER(H9))),"",IFERROR(MAX(0,IF(AND(OR(J9="Won",J9="Lost",J9="Expired"),K9<>"",ISNUMBER(K9)),K9-H9,TODAY()-H9)),"")) | Q9: =IF(A9="","",IF(B9="","Add customer",IF(C9="","Add service site",IF(OR(H9="",NOT(ISNUMBER(H9))),"Add quote date",IF(OR(I9="",NOT(ISNUMBER(I9))),"Add quote amount",IF(J9="","Check status",IF(AND(K9<>"",NOT(ISNUMBER(K9))),"Check decision date",IF(AND(L9<>"",NOT(ISNUMBER(L9))),"Check last follow-up",IF(AND(M9<>"",NOT(ISNUMBER(M9))),"Check next follow-up",IF(AND(K9<>"",K9<H9),"Check decision date",IF(AND(L9<>"",L9<H9),"Check last follow-up",IF(AND(M9<>"",M9<H9),"Check next follow-up",IF(OR(J9="Won",J9="Lost",J9="Expired"),IF(K9="","Add decision date","Closed"),IF(K9<>"","Check decision date",IF(AND(O9<>"",TODAY()>O9),"Check expiration",IF(M9="","Schedule follow-up",IF(M9<TODAY(),"Past due",IF(M9=TODAY(),"Due today",IF(M9<=TODAY()+IF(ISNUMBER(Assumptions!$B$3),Assumptions!$B$3,0),"Due soon","Scheduled")))))))))))))))))))
A10: SAMPLE-Q-2026-009 | B10: Sample Customer Indigo (Fictional) | C10: 909 Imaginary Cypress Circle, Sample Borough, ZZ 00009 (Fictional) | D10: Rodent activity (Example) | E10: Rodent exclusion estimate (Example) | F10: Sample Route West (Fictional) | G10: Riley North (Fictional) | H10: 46236 | I10: 760 | J10: Open | L10: 46261 | M10: 46279 | N10: 4 | O10: =IF(OR(A10="",H10="",NOT(ISNUMBER(H10)),NOT(ISNUMBER(Assumptions!$B$2))),"",IFERROR(H10+Assumptions!$B$2,"")) | P10: =IF(OR(A10="",H10="",NOT(ISNUMBER(H10))),"",IFERROR(MAX(0,IF(AND(OR(J10="Won",J10="Lost",J10="Expired"),K10<>"",ISNUMBER(K10)),K10-H10,TODAY()-H10)),"")) | Q10: =IF(A10="","",IF(B10="","Add customer",IF(C10="","Add service site",IF(OR(H10="",NOT(ISNUMBER(H10))),"Add quote date",IF(OR(I10="",NOT(ISNUMBER(I10))),"Add quote amount",IF(J10="","Check status",IF(AND(K10<>"",NOT(ISNUMBER(K10))),"Check decision date",IF(AND(L10<>"",NOT(ISNUMBER(L10))),"Check last follow-up",IF(AND(M10<>"",NOT(ISNUMBER(M10))),"Check next follow-up",IF(AND(K10<>"",K10<H10),"Check decision date",IF(AND(L10<>"",L10<H10),"Check last follow-up",IF(AND(M10<>"",M10<H10),"Check next follow-up",IF(OR(J10="Won",J10="Lost",J10="Expired"),IF(K10="","Add decision date","Closed"),IF(K10<>"","Check decision date",IF(AND(O10<>"",TODAY()>O10),"Check expiration",IF(M10="","Schedule follow-up",IF(M10<TODAY(),"Past due",IF(M10=TODAY(),"Due today",IF(M10<=TODAY()+IF(ISNUMBER(Assumptions!$B$3),Assumptions!$B$3,0),"Due soon","Scheduled")))))))))))))))))))
A11: SAMPLE-Q-2026-010 | B11: Sample Customer Juniper (Fictional) | C11: 1000 Example Magnolia Terrace, Exampletown, ZZ 00010 (Fictional) | D11: General pest concern (Example) | E11: Initial assessment (Example) | F11: Sample Route Central (Fictional) | G11: Taylor Finch (Fictional) | H11: 46274 | I11: 0 | J11: Open | L11: 46276 | M11: 46278 | N11: 1 | O11: =IF(OR(A11="",H11="",NOT(ISNUMBER(H11)),NOT(ISNUMBER(Assumptions!$B$2))),"",IFERROR(H11+Assumptions!$B$2,"")) | P11: =IF(OR(A11="",H11="",NOT(ISNUMBER(H11))),"",IFERROR(MAX(0,IF(AND(OR(J11="Won",J11="Lost",J11="Expired"),K11<>"",ISNUMBER(K11)),K11-H11,TODAY()-H11)),"")) | Q11: =IF(A11="","",IF(B11="","Add customer",IF(C11="","Add service site",IF(OR(H11="",NOT(ISNUMBER(H11))),"Add quote date",IF(OR(I11="",NOT(ISNUMBER(I11))),"Add quote amount",IF(J11="","Check status",IF(AND(K11<>"",NOT(ISNUMBER(K11))),"Check decision date",IF(AND(L11<>"",NOT(ISNUMBER(L11))),"Check last follow-up",IF(AND(M11<>"",NOT(ISNUMBER(M11))),"Check next follow-up",IF(AND(K11<>"",K11<H11),"Check decision date",IF(AND(L11<>"",L11<H11),"Check last follow-up",IF(AND(M11<>"",M11<H11),"Check next follow-up",IF(OR(J11="Won",J11="Lost",J11="Expired"),IF(K11="","Add decision date","Closed"),IF(K11<>"","Check decision date",IF(AND(O11<>"",TODAY()>O11),"Check expiration",IF(M11="","Schedule follow-up",IF(M11<TODAY(),"Past due",IF(M11=TODAY(),"Due today",IF(M11<=TODAY()+IF(ISNUMBER(Assumptions!$B$3),Assumptions!$B$3,0),"Due soon","Scheduled")))))))))))))))))))
O12: =IF(OR(A12="",H12="",NOT(ISNUMBER(H12)),NOT(ISNUMBER(Assumptions!$B$2))),"",IFERROR(H12+Assumptions!$B$2,"")) | P12: =IF(OR(A12="",H12="",NOT(ISNUMBER(H12))),"",IFERROR(MAX(0,IF(AND(OR(J12="Won",J12="Lost",J12="Expired"),K12<>"",ISNUMBER(K12)),K12-H12,TODAY()-H12)),"")) | Q12: =IF(A12="","",IF(B12="","Add customer",IF(C12="","Add service site",IF(OR(H12="",NOT(ISNUMBER(H12))),"Add quote date",IF(OR(I12="",NOT(ISNUMBER(I12))),"Add quote amount",IF(J12="","Check status",IF(AND(K12<>"",NOT(ISNUMBER(K12))),"Check decision date",IF(AND(L12<>"",NOT(ISNUMBER(L12))),"Check last follow-up",IF(AND(M12<>"",NOT(ISNUMBER(M12))),"Check next follow-up",IF(AND(K12<>"",K12<H12),"Check decision date",IF(AND(L12<>"",L12<H12),"Check last follow-up",IF(AND(M12<>"",M12<H12),"Check next follow-up",IF(OR(J12="Won",J12="Lost",J12="Expired"),IF(K12="","Add decision date","Closed"),IF(K12<>"","Check decision date",IF(AND(O12<>"",TODAY()>O12),"Check expiration",IF(M12="","Schedule follow-up",IF(M12<TODAY(),"Past due",IF(M12=TODAY(),"Due today",IF(M12<=TODAY()+IF(ISNUMBER(Assumptions!$B$3),Assumptions!$B$3,0),"Due soon","Scheduled")))))))))))))))))))
O13: =IF(OR(A13="",H13="",NOT(ISNUMBER(H13)),NOT(ISNUMBER(Assumptions!$B$2))),"",IFERROR(H13+Assumptions!$B$2,"")) | P13: =IF(OR(A13="",H13="",NOT(ISNUMBER(H13))),"",IFERROR(MAX(0,IF(AND(OR(J13="Won",J13="Lost",J13="Expired"),K13<>"",ISNUMBER(K13)),K13-H13,TODAY()-H13)),"")) | Q13: =IF(A13="","",IF(B13="","Add customer",IF(C13="","Add service site",IF(OR(H13="",NOT(ISNUMBER(H13))),"Add quote date",IF(OR(I13="",NOT(ISNUMBER(I13))),"Add quote amount",IF(J13="","Check status",IF(AND(K13<>"",NOT(ISNUMBER(K13))),"Check decision date",IF(AND(L13<>"",NOT(ISNUMBER(L13))),"Check last follow-up",IF(AND(M13<>"",NOT(ISNUMBER(M13))),"Check next follow-up",IF(AND(K13<>"",K13<H13),"Check decision date",IF(AND(L13<>"",L13<H13),"Check last follow-up",IF(AND(M13<>"",M13<H13),"Check next follow-up",IF(OR(J13="Won",J13="Lost",J13="Expired"),IF(K13="","Add decision date","Closed"),IF(K13<>"","Check decision date",IF(AND(O13<>"",TODAY()>O13),"Check expiration",IF(M13="","Schedule follow-up",IF(M13<TODAY(),"Past due",IF(M13=TODAY(),"Due today",IF(M13<=TODAY()+IF(ISNUMBER(Assumptions!$B$3),Assumptions!$B$3,0),"Due soon","Scheduled")))))))))))))))))))
O14: =IF(OR(A14="",H14="",NOT(ISNUMBER(H14)),NOT(ISNUMBER(Assumptions!$B$2))),"",IFERROR(H14+Assumptions!$B$2,"")) | P14: =IF(OR(A14="",H14="",NOT(ISNUMBER(H14))),"",IFERROR(MAX(0,IF(AND(OR(J14="Won",J14="Lost",J14="Expired"),K14<>"",ISNUMBER(K14)),K14-H14,TODAY()-H14)),"")) | Q14: =IF(A14="","",IF(B14="","Add customer",IF(C14="","Add service site",IF(OR(H14="",NOT(ISNUMBER(H14))),"Add quote date",IF(OR(I14="",NOT(ISNUMBER(I14))),"Add quote amount",IF(J14="","Check status",IF(AND(K14<>"",NOT(ISNUMBER(K14))),"Check decision date",IF(AND(L14<>"",NOT(ISNUMBER(L14))),"Check last follow-up",IF(AND(M14<>"",NOT(ISNUMBER(M14))),"Check next follow-up",IF(AND(K14<>"",K14<H14),"Check decision date",IF(AND(L14<>"",L14<H14),"Check last follow-up",IF(AND(M14<>"",M14<H14),"Check next follow-up",IF(OR(J14="Won",J14="Lost",J14="Expired"),IF(K14="","Add decision date","Closed"),IF(K14<>"","Check decision date",IF(AND(O14<>"",TODAY()>O14),"Check expiration",IF(M14="","Schedule follow-up",IF(M14<TODAY(),"Past due",IF(M14=TODAY(),"Due today",IF(M14<=TODAY()+IF(ISNUMBER(Assumptions!$B$3),Assumptions!$B$3,0),"Due soon","Scheduled")))))))))))))))))))
O15: =IF(OR(A15="",H15="",NOT(ISNUMBER(H15)),NOT(ISNUMBER(Assumptions!$B$2))),"",IFERROR(H15+Assumptions!$B$2,"")) | P15: =IF(OR(A15="",H15="",NOT(ISNUMBER(H15))),"",IFERROR(MAX(0,IF(AND(OR(J15="Won",J15="Lost",J15="Expired"),K15<>"",ISNUMBER(K15)),K15-H15,TODAY()-H15)),"")) | Q15: =IF(A15="","",IF(B15="","Add customer",IF(C15="","Add service site",IF(OR(H15="",NOT(ISNUMBER(H15))),"Add quote date",IF(OR(I15="",NOT(ISNUMBER(I15))),"Add quote amount",IF(J15="","Check status",IF(AND(K15<>"",NOT(ISNUMBER(K15))),"Check decision date",IF(AND(L15<>"",NOT(ISNUMBER(L15))),"Check last follow-up",IF(AND(M15<>"",NOT(ISNUMBER(M15))),"Check next follow-up",IF(AND(K15<>"",K15<H15),"Check decision date",IF(AND(L15<>"",L15<H15),"Check last follow-up",IF(AND(M15<>"",M15<H15),"Check next follow-up",IF(OR(J15="Won",J15="Lost",J15="Expired"),IF(K15="","Add decision date","Closed"),IF(K15<>"","Check decision date",IF(AND(O15<>"",TODAY()>O15),"Check expiration",IF(M15="","Schedule follow-up",IF(M15<TODAY(),"Past due",IF(M15=TODAY(),"Due today",IF(M15<=TODAY()+IF(ISNUMBER(Assumptions!$B$3),Assumptions!$B$3,0),"Due soon","Scheduled")))))))))))))))))))
O16: =IF(OR(A16="",H16="",NOT(ISNUMBER(H16)),NOT(ISNUMBER(Assumptions!$B$2))),"",IFERROR(H16+Assumptions!$B$2,"")) | P16: =IF(OR(A16="",H16="",NOT(ISNUMBER(H16))),"",IFERROR(MAX(0,IF(AND(OR(J16="Won",J16="Lost",J16="Expired"),K16<>"",ISNUMBER(K16)),K16-H16,TODAY()-H16)),"")) | Q16: =IF(A16="","",IF(B16="","Add customer",IF(C16="","Add service site",IF(OR(H16="",NOT(ISNUMBER(H16))),"Add quote date",IF(OR(I16="",NOT(ISNUMBER(I16))),"Add quote amount",IF(J16="","Check status",IF(AND(K16<>"",NOT(ISNUMBER(K16))),"Check decision date",IF(AND(L16<>"",NOT(ISNUMBER(L16))),"Check last follow-up",IF(AND(M16<>"",NOT(ISNUMBER(M16))),"Check next follow-up",IF(AND(K16<>"",K16<H16),"Check decision date",IF(AND(L16<>"",L16<H16),"Check last follow-up",IF(AND(M16<>"",M16<H16),"Check next follow-up",IF(OR(J16="Won",J16="Lost",J16="Expired"),IF(K16="","Add decision date","Closed"),IF(K16<>"","Check decision date",IF(AND(O16<>"",TODAY()>O16),"Check expiration",IF(M16="","Schedule follow-up",IF(M16<TODAY(),"Past due",IF(M16=TODAY(),"Due today",IF(M16<=TODAY()+IF(ISNUMBER(Assumptions!$B$3),Assumptions!$B$3,0),"Due soon","Scheduled")))))))))))))))))))
O17: =IF(OR(A17="",H17="",NOT(ISNUMBER(H17)),NOT(ISNUMBER(Assumptions!$B$2))),"",IFERROR(H17+Assumptions!$B$2,"")) | P17: =IF(OR(A17="",H17="",NOT(ISNUMBER(H17))),"",IFERROR(MAX(0,IF(AND(OR(J17="Won",J17="Lost",J17="Expired"),K17<>"",ISNUMBER(K17)),K17-H17,TODAY()-H17)),"")) | Q17: =IF(A17="","",IF(B17="","Add customer",IF(C17="","Add service site",IF(OR(H17="",NOT(ISNUMBER(H17))),"Add quote date",IF(OR(I17="",NOT(ISNUMBER(I17))),"Add quote amount",IF(J17="","Check status",IF(AND(K17<>"",NOT(ISNUMBER(K17))),"Check decision date",IF(AND(L17<>"",NOT(ISNUMBER(L17))),"Check last follow-up",IF(AND(M17<>"",NOT(ISNUMBER(M17))),"Check next follow-up",IF(AND(K17<>"",K17<H17),"Check decision date",IF(AND(L17<>"",L17<H17),"Check last follow-up",IF(AND(M17<>"",M17<H17),"Check next follow-up",IF(OR(J17="Won",J17="Lost",J17="Expired"),IF(K17="","Add decision date","Closed"),IF(K17<>"","Check decision date",IF(AND(O17<>"",TODAY()>O17),"Check expiration",IF(M17="","Schedule follow-up",IF(M17<TODAY(),"Past due",IF(M17=TODAY(),"Due today",IF(M17<=TODAY()+IF(ISNUMBER(Assumptions!$B$3),Assumptions!$B$3,0),"Due soon","Scheduled")))))))))))))))))))
O18: =IF(OR(A18="",H18="",NOT(ISNUMBER(H18)),NOT(ISNUMBER(Assumptions!$B$2))),"",IFERROR(H18+Assumptions!$B$2,"")) | P18: =IF(OR(A18="",H18="",NOT(ISNUMBER(H18))),"",IFERROR(MAX(0,IF(AND(OR(J18="Won",J18="Lost",J18="Expired"),K18<>"",ISNUMBER(K18)),K18-H18,TODAY()-H18)),"")) | Q18: =IF(A18="","",IF(B18="","Add customer",IF(C18="","Add service site",IF(OR(H18="",NOT(ISNUMBER(H18))),"Add quote date",IF(OR(I18="",NOT(ISNUMBER(I18))),"Add quote amount",IF(J18="","Check status",IF(AND(K18<>"",NOT(ISNUMBER(K18))),"Check decision date",IF(AND(L18<>"",NOT(ISNUMBER(L18))),"Check last follow-up",IF(AND(M18<>"",NOT(ISNUMBER(M18))),"Check next follow-up",IF(AND(K18<>"",K18<H18),"Check decision date",IF(AND(L18<>"",L18<H18),"Check last follow-up",IF(AND(M18<>"",M18<H18),"Check next follow-up",IF(OR(J18="Won",J18="Lost",J18="Expired"),IF(K18="","Add decision date","Closed"),IF(K18<>"","Check decision date",IF(AND(O18<>"",TODAY()>O18),"Check expiration",IF(M18="","Schedule follow-up",IF(M18<TODAY(),"Past due",IF(M18=TODAY(),"Due today",IF(M18<=TODAY()+IF(ISNUMBER(Assumptions!$B$3),Assumptions!$B$3,0),"Due soon","Scheduled")))))))))))))))))))
O19: =IF(OR(A19="",H19="",NOT(ISNUMBER(H19)),NOT(ISNUMBER(Assumptions!$B$2))),"",IFERROR(H19+Assumptions!$B$2,"")) | P19: =IF(OR(A19="",H19="",NOT(ISNUMBER(H19))),"",IFERROR(MAX(0,IF(AND(OR(J19="Won",J19="Lost",J19="Expired"),K19<>"",ISNUMBER(K19)),K19-H19,TODAY()-H19)),"")) | Q19: =IF(A19="","",IF(B19="","Add customer",IF(C19="","Add service site",IF(OR(H19="",NOT(ISNUMBER(H19))),"Add quote date",IF(OR(I19="",NOT(ISNUMBER(I19))),"Add quote amount",IF(J19="","Check status",IF(AND(K19<>"",NOT(ISNUMBER(K19))),"Check decision date",IF(AND(L19<>"",NOT(ISNUMBER(L19))),"Check last follow-up",IF(AND(M19<>"",NOT(ISNUMBER(M19))),"Check next follow-up",IF(AND(K19<>"",K19<H19),"Check decision date",IF(AND(L19<>"",L19<H19),"Check last follow-up",IF(AND(M19<>"",M19<H19),"Check next follow-up",IF(OR(J19="Won",J19="Lost",J19="Expired"),IF(K19="","Add decision date","Closed"),IF(K19<>"","Check decision date",IF(AND(O19<>"",TODAY()>O19),"Check expiration",IF(M19="","Schedule follow-up",IF(M19<TODAY(),"Past due",IF(M19=TODAY(),"Due today",IF(M19<=TODAY()+IF(ISNUMBER(Assumptions!$B$3),Assumptions!$B$3,0),"Due soon","Scheduled")))))))))))))))))))
O20: =IF(OR(A20="",H20="",NOT(ISNUMBER(H20)),NOT(ISNUMBER(Assumptions!$B$2))),"",IFERROR(H20+Assumptions!$B$2,"")) | P20: =IF(OR(A20="",H20="",NOT(ISNUMBER(H20))),"",IFERROR(MAX(0,IF(AND(OR(J20="Won",J20="Lost",J20="Expired"),K20<>"",ISNUMBER(K20)),K20-H20,TODAY()-H20)),"")) | Q20: =IF(A20="","",IF(B20="","Add customer",IF(C20="","Add service site",IF(OR(H20="",NOT(ISNUMBER(H20))),"Add quote date",IF(OR(I20="",NOT(ISNUMBER(I20))),"Add quote amount",IF(J20="","Check status",IF(AND(K20<>"",NOT(ISNUMBER(K20))),"Check decision date",IF(AND(L20<>"",NOT(ISNUMBER(L20))),"Check last follow-up",IF(AND(M20<>"",NOT(ISNUMBER(M20))),"Check next follow-up",IF(AND(K20<>"",K20<H20),"Check decision date",IF(AND(L20<>"",L20<H20),"Check last follow-up",IF(AND(M20<>"",M20<H20),"Check next follow-up",IF(OR(J20="Won",J20="Lost",J20="Expired"),IF(K20="","Add decision date","Closed"),IF(K20<>"","Check decision date",IF(AND(O20<>"",TODAY()>O20),"Check expiration",IF(M20="","Schedule follow-up",IF(M20<TODAY(),"Past due",IF(M20=TODAY(),"Due today",IF(M20<=TODAY()+IF(ISNUMBER(Assumptions!$B$3),Assumptions!$B$3,0),"Due soon","Scheduled")))))))))))))))))))
O21: =IF(OR(A21="",H21="",NOT(ISNUMBER(H21)),NOT(ISNUMBER(Assumptions!$B$2))),"",IFERROR(H21+Assumptions!$B$2,"")) | P21: =IF(OR(A21="",H21="",NOT(ISNUMBER(H21))),"",IFERROR(MAX(0,IF(AND(OR(J21="Won",J21="Lost",J21="Expired"),K21<>"",ISNUMBER(K21)),K21-H21,TODAY()-H21)),"")) | Q21: =IF(A21="","",IF(B21="","Add customer",IF(C21="","Add service site",IF(OR(H21="",NOT(ISNUMBER(H21))),"Add quote date",IF(OR(I21="",NOT(ISNUMBER(I21))),"Add quote amount",IF(J21="","Check status",IF(AND(K21<>"",NOT(ISNUMBER(K21))),"Check decision date",IF(AND(L21<>"",NOT(ISNUMBER(L21))),"Check last follow-up",IF(AND(M21<>"",NOT(ISNUMBER(M21))),"Check next follow-up",IF(AND(K21<>"",K21<H21),"Check decision date",IF(AND(L21<>"",L21<H21),"Check last follow-up",IF(AND(M21<>"",M21<H21),"Check next follow-up",IF(OR(J21="Won",J21="Lost",J21="Expired"),IF(K21="","Add decision date","Closed"),IF(K21<>"","Check decision date",IF(AND(O21<>"",TODAY()>O21),"Check expiration",IF(M21="","Schedule follow-up",IF(M21<TODAY(),"Past due",IF(M21=TODAY(),"Due today",IF(M21<=TODAY()+IF(ISNUMBER(Assumptions!$B$3),Assumptions!$B$3,0),"Due soon","Scheduled")))))))))))))))))))
O22: =IF(OR(A22="",H22="",NOT(ISNUMBER(H22)),NOT(ISNUMBER(Assumptions!$B$2))),"",IFERROR(H22+Assumptions!$B$2,"")) | P22: =IF(OR(A22="",H22="",NOT(ISNUMBER(H22))),"",IFERROR(MAX(0,IF(AND(OR(J22="Won",J22="Lost",J22="Expired"),K22<>"",ISNUMBER(K22)),K22-H22,TODAY()-H22)),"")) | Q22: =IF(A22="","",IF(B22="","Add customer",IF(C22="","Add service site",IF(OR(H22="",NOT(ISNUMBER(H22))),"Add quote date",IF(OR(I22="",NOT(ISNUMBER(I22))),"Add quote amount",IF(J22="","Check status",IF(AND(K22<>"",NOT(ISNUMBER(K22))),"Check decision date",IF(AND(L22<>"",NOT(ISNUMBER(L22))),"Check last follow-up",IF(AND(M22<>"",NOT(ISNUMBER(M22))),"Check next follow-up",IF(AND(K22<>"",K22<H22),"Check decision date",IF(AND(L22<>"",L22<H22),"Check last follow-up",IF(AND(M22<>"",M22<H22),"Check next follow-up",IF(OR(J22="Won",J22="Lost",J22="Expired"),IF(K22="","Add decision date","Closed"),IF(K22<>"","Check decision date",IF(AND(O22<>"",TODAY()>O22),"Check expiration",IF(M22="","Schedule follow-up",IF(M22<TODAY(),"Past due",IF(M22=TODAY(),"Due today",IF(M22<=TODAY()+IF(ISNUMBER(Assumptions!$B$3),Assumptions!$B$3,0),"Due soon","Scheduled")))))))))))))))))))
O23: =IF(OR(A23="",H23="",NOT(ISNUMBER(H23)),NOT(ISNUMBER(Assumptions!$B$2))),"",IFERROR(H23+Assumptions!$B$2,"")) | P23: =IF(OR(A23="",H23="",NOT(ISNUMBER(H23))),"",IFERROR(MAX(0,IF(AND(OR(J23="Won",J23="Lost",J23="Expired"),K23<>"",ISNUMBER(K23)),K23-H23,TODAY()-H23)),"")) | Q23: =IF(A23="","",IF(B23="","Add customer",IF(C23="","Add service site",IF(OR(H23="",NOT(ISNUMBER(H23))),"Add quote date",IF(OR(I23="",NOT(ISNUMBER(I23))),"Add quote amount",IF(J23="","Check status",IF(AND(K23<>"",NOT(ISNUMBER(K23))),"Check decision date",IF(AND(L23<>"",NOT(ISNUMBER(L23))),"Check last follow-up",IF(AND(M23<>"",NOT(ISNUMBER(M23))),"Check next follow-up",IF(AND(K23<>"",K23<H23),"Check decision date",IF(AND(L23<>"",L23<H23),"Check last follow-up",IF(AND(M23<>"",M23<H23),"Check next follow-up",IF(OR(J23="Won",J23="Lost",J23="Expired"),IF(K23="","Add decision date","Closed"),IF(K23<>"","Check decision date",IF(AND(O23<>"",TODAY()>O23),"Check expiration",IF(M23="","Schedule follow-up",IF(M23<TODAY(),"Past due",IF(M23=TODAY(),"Due today",IF(M23<=TODAY()+IF(ISNUMBER(Assumptions!$B$3),Assumptions!$B$3,0),"Due soon","Scheduled")))))))))))))))))))
... O101: =IF(OR(A101="",H101="",NOT(ISNUMBER(H101)),NOT(ISNUMBER(Assumptions!$B$2))),"",IFERROR(H101+Assumptions!$B$2,"")) | P101: =IF(OR(A101="",H101="",NOT(ISNUMBER(H101))),"",IFERROR(MAX(0,IF(AND(OR(J101="Won",J101="Lost",J101="Expired"),K101<>"",ISNUMBER(K101)),K101-H101,TODAY()-H101)),"")) | Q101: =IF(A101="","",IF(B101="","Add customer",IF(C101="","Add service site",IF(OR(H101="",NOT(ISNUMBER(H101))),"Add quote date",IF(OR(I101="",NOT(ISNUMBER(I101))),"Add quote amount",IF(J101="","Check status",IF(AND(K101<>"",NOT(ISNUMBER(K101))),"Check decision date",IF(AND(L101<>"",NOT(ISNUMBER(L101))),"Check last follow-up",IF(AND(M101<>"",NOT(ISNUMBER(M101))),"Check next follow-up",IF(AND(K101<>"",K101<H101),"Check decision date",IF(AND(L101<>"",L101<H101),"Check last follow-up",IF(AND(M101<>"",M101<H101),"Check next follow-up",IF(OR(J101="Won",J101="Lost",J101="Expired"),IF(K101="","Add decision date","Closed"),IF(K101<>"","Check decision date",IF(AND(O101<>"",TODAY()>O101),"Check expiration",IF(M101="","Schedule follow-up",IF(M101<TODAY(),"Past due",IF(M101=TODAY(),"Due today",IF(M101<=TODAY()+IF(ISNUMBER(Assumptions!$B$3),Assumptions!$B$3,0),"Due soon","Scheduled")))))))))))))))))))

Sheet Assumptions
A1: Assumption | B1: Editable Value | C1: Purpose | D1: Quote Status Choices | E1: Pest Concern Choices | F1: Service Choices | G1: Route Choices | H1: Responsibility Choices
A2: Quote expiration interval (days) | B2: 30 | C2: Editable internal assumption; confirm each quote manually. | D2: Open | E2: Ant activity (Example) | F2: Initial assessment (Example) | G2: Sample Route North (Fictional) | H2: Avery Quill (Fictional)
A3: Due-soon window (days) | B3: 2 | C3: Days ahead labeled Due soon for human review. | D3: Pending Customer | E3: Cockroach activity (Example) | F3: One-time interior service (Example) | G3: Sample Route South (Fictional) | H3: Jordan Vale (Fictional)
A4: Maximum quote amount | B4: 50000 | C4: Upper entry limit used for data consistency. | D4: Won | E4: Rodent activity (Example) | F4: Exterior perimeter service (Example) | G4: Sample Route East (Fictional) | H4: Morgan Ember (Fictional)
A5: Earliest entry date | B5: 44451 | C5: Lower date limit used for tracker entries. | D5: Lost | E5: Spider activity (Example) | F5: Recurring general pest service (Example) | G5: Sample Route West (Fictional) | H5: Riley North (Fictional)
A6: Latest planned date | B6: 48101 | C6: Upper date limit used for tracker entries. | D6: Expired | E6: Stinging insect activity (Example) | F6: Rodent exclusion estimate (Example) | G6: Sample Route Central (Fictional) | H6: Taylor Finch (Fictional)
A7: Maximum follow-up count | B7: 100 | C7: Upper count limit used for data consistency. | E7: Stored product pest activity (Example) | F7: Commercial monitoring service (Example)
E8: General pest concern (Example) | F8: Follow-up inspection (Example)
E9: Termite concern (Example)
