Workbook

Sheet Summary
A1: Referral Commission Summary
A3: Total Referrals | B3: =COUNTIF(Referrals!$A$5:$A$104,"<>") | D3: Converted Accounts | E3: =COUNTIFS(Referrals!$A$5:$A$104,"<>",Referrals!$I$5:$I$104,"Converted") | G3: Conversion Rate | H3: =IFERROR(E3/B3,0)
A5: Qualified Referrals | B5: =COUNTIFS(Referrals!$A$5:$A$104,"<>",Referrals!$K$5:$K$104,"Qualified") | D5: Earned Commission | E5: =IFERROR(SUM(Referrals!$O$5:$O$104),0) | G5: Paid Commission | H5: =IFERROR(SUMIF(Referrals!$P$5:$P$104,"Paid",Referrals!$O$5:$O$104),0)
A7: Not Paid Commission | B7: =IFERROR(MAX(0,E5-H5),0) | D7: Referrals Needing Review | E7: =COUNTIF(Referrals!$S$5:$S$104,"?*") | G7: Average per Converted Account | H7: =IFERROR(E5/E3,0)
A10: Commission by Referral Source
A11: Referral Source | B11: Referrals | C11: Converted | D11: Earned Commission
A12: =IF(Assumptions!A5="","",Assumptions!A5) | B12: =IF($A12="","",COUNTIFS(Referrals!$A$5:$A$104,"<>",Referrals!$F$5:$F$104,$A12)) | C12: =IF($A12="","",COUNTIFS(Referrals!$A$5:$A$104,"<>",Referrals!$F$5:$F$104,$A12,Referrals!$I$5:$I$104,"Converted")) | D12: =IF($A12="","",IFERROR(SUMIF(Referrals!$F$5:$F$104,$A12,Referrals!$O$5:$O$104),0))
A13: =IF(Assumptions!A6="","",Assumptions!A6) | B13: =IF($A13="","",COUNTIFS(Referrals!$A$5:$A$104,"<>",Referrals!$F$5:$F$104,$A13)) | C13: =IF($A13="","",COUNTIFS(Referrals!$A$5:$A$104,"<>",Referrals!$F$5:$F$104,$A13,Referrals!$I$5:$I$104,"Converted")) | D13: =IF($A13="","",IFERROR(SUMIF(Referrals!$F$5:$F$104,$A13,Referrals!$O$5:$O$104),0))
A14: =IF(Assumptions!A7="","",Assumptions!A7) | B14: =IF($A14="","",COUNTIFS(Referrals!$A$5:$A$104,"<>",Referrals!$F$5:$F$104,$A14)) | C14: =IF($A14="","",COUNTIFS(Referrals!$A$5:$A$104,"<>",Referrals!$F$5:$F$104,$A14,Referrals!$I$5:$I$104,"Converted")) | D14: =IF($A14="","",IFERROR(SUMIF(Referrals!$F$5:$F$104,$A14,Referrals!$O$5:$O$104),0))
A15: =IF(Assumptions!A8="","",Assumptions!A8) | B15: =IF($A15="","",COUNTIFS(Referrals!$A$5:$A$104,"<>",Referrals!$F$5:$F$104,$A15)) | C15: =IF($A15="","",COUNTIFS(Referrals!$A$5:$A$104,"<>",Referrals!$F$5:$F$104,$A15,Referrals!$I$5:$I$104,"Converted")) | D15: =IF($A15="","",IFERROR(SUMIF(Referrals!$F$5:$F$104,$A15,Referrals!$O$5:$O$104),0))
A16: =IF(Assumptions!A9="","",Assumptions!A9) | B16: =IF($A16="","",COUNTIFS(Referrals!$A$5:$A$104,"<>",Referrals!$F$5:$F$104,$A16)) | C16: =IF($A16="","",COUNTIFS(Referrals!$A$5:$A$104,"<>",Referrals!$F$5:$F$104,$A16,Referrals!$I$5:$I$104,"Converted")) | D16: =IF($A16="","",IFERROR(SUMIF(Referrals!$F$5:$F$104,$A16,Referrals!$O$5:$O$104),0))
A17: =IF(Assumptions!A10="","",Assumptions!A10) | B17: =IF($A17="","",COUNTIFS(Referrals!$A$5:$A$104,"<>",Referrals!$F$5:$F$104,$A17)) | C17: =IF($A17="","",COUNTIFS(Referrals!$A$5:$A$104,"<>",Referrals!$F$5:$F$104,$A17,Referrals!$I$5:$I$104,"Converted")) | D17: =IF($A17="","",IFERROR(SUMIF(Referrals!$F$5:$F$104,$A17,Referrals!$O$5:$O$104),0))

Sheet Referrals
A1: Pest Control Referral Commission Tracker
A2: Pale yellow cells are editable. | B2: Review alerts request a manual check only.
A4: Referral ID | B4: Customer | C4: Service Site | D4: Pest Concern | E4: Service | F4: Referral Source | G4: Route | H4: Referral Date | I4: Conversion Status | J4: Converted Date | K4: Qualification Status | L4: Qualified Sale Amount | M4: Commission Rate | N4: Minimum Qualified Sale | O4: Commission Earned | P4: Payment Status | Q4: Payment Date | R4: Responsibility | S4: Review Alert
A5: RF-0001 | B5: Sample Household Alpha | C5: 101 Fictional Lane, Example City, ZZ 00000 | D5: Ants | E5: Recurring Service | F5: Example Neighbor Referral | G5: Demo Route A | H5: 46188 | I5: Converted | J5: 46193 | K5: Qualified | L5: 400 | M5: =IF(OR(A5="",F5=""),"",IFERROR(VLOOKUP(F5,Assumptions!$A$5:$C$10,2,FALSE),"")) | N5: =IF(OR(A5="",F5=""),"",IFERROR(VLOOKUP(F5,Assumptions!$A$5:$C$10,3,FALSE),"")) | O5: =IF(A5="","",IFERROR(IF(OR(L5="",M5="",N5=""),"",IF(AND(I5="Converted",K5="Qualified",L5>=N5),L5*M5,0)),"")) | P5: Paid | Q5: 46213 | R5: Accounting Review | S5: =IF(A5="","",IFERROR(IF(F5="","Check source",IF(M5="","Check source setup",IF(H5="","Add referral date",IF(I5="","Add conversion status",IF(AND(I5="Converted",J5=""),"Add converted date",IF(AND(I5<>"Converted",J5<>""),"Check converted date",IF(K5="","Add qualification status",IF(AND(K5="Qualified",OR(L5="",N5="",L5<N5)),"Check qualification",IF(P5="","Add payment status",IF(AND(P5="Paid",Q5=""),"Add payment date",IF(AND(P5<>"Paid",Q5<>""),"Check payment status",IF(AND(O5>0,P5="Unpaid",TODAY()-IF(J5<>"",J5,H5)>Assumptions!$B$2),"Review overdue","")))))))))))),"Check entry"))
A6: RF-0002 | B6: Sample Household Beta | C6: 202 Imaginary Avenue, Example City, ZZ 00000 | D6: Rodents | E6: Exclusion Assessment | F6: Sample Property Group | G6: Demo Route B | H6: 46191 | I6: Converted | J6: 46198 | K6: Qualified | L6: 1200 | M6: =IF(OR(A6="",F6=""),"",IFERROR(VLOOKUP(F6,Assumptions!$A$5:$C$10,2,FALSE),"")) | N6: =IF(OR(A6="",F6=""),"",IFERROR(VLOOKUP(F6,Assumptions!$A$5:$C$10,3,FALSE),"")) | O6: =IF(A6="","",IFERROR(IF(OR(L6="",M6="",N6=""),"",IF(AND(I6="Converted",K6="Qualified",L6>=N6),L6*M6,0)),"")) | P6: Unpaid | R6: Accounting Review | S6: =IF(A6="","",IFERROR(IF(F6="","Check source",IF(M6="","Check source setup",IF(H6="","Add referral date",IF(I6="","Add conversion status",IF(AND(I6="Converted",J6=""),"Add converted date",IF(AND(I6<>"Converted",J6<>""),"Check converted date",IF(K6="","Add qualification status",IF(AND(K6="Qualified",OR(L6="",N6="",L6<N6)),"Check qualification",IF(P6="","Add payment status",IF(AND(P6="Paid",Q6=""),"Add payment date",IF(AND(P6<>"Paid",Q6<>""),"Check payment status",IF(AND(O6>0,P6="Unpaid",TODAY()-IF(J6<>"",J6,H6)>Assumptions!$B$2),"Review overdue","")))))))))))),"Check entry"))
A7: RF-0003 | B7: Sample Household Gamma | C7: 303 Placeholder Road, Example City, ZZ 00000 | D7: General Pest | E7: Inspection | F7: Demo Local Partner | G7: Demo Route C | H7: 46205 | I7: Contacted | K7: Pending | M7: =IF(OR(A7="",F7=""),"",IFERROR(VLOOKUP(F7,Assumptions!$A$5:$C$10,2,FALSE),"")) | N7: =IF(OR(A7="",F7=""),"",IFERROR(VLOOKUP(F7,Assumptions!$A$5:$C$10,3,FALSE),"")) | O7: =IF(A7="","",IFERROR(IF(OR(L7="",M7="",N7=""),"",IF(AND(I7="Converted",K7="Qualified",L7>=N7),L7*M7,0)),"")) | P7: Not Due | R7: Sales Review | S7: =IF(A7="","",IFERROR(IF(F7="","Check source",IF(M7="","Check source setup",IF(H7="","Add referral date",IF(I7="","Add conversion status",IF(AND(I7="Converted",J7=""),"Add converted date",IF(AND(I7<>"Converted",J7<>""),"Check converted date",IF(K7="","Add qualification status",IF(AND(K7="Qualified",OR(L7="",N7="",L7<N7)),"Check qualification",IF(P7="","Add payment status",IF(AND(P7="Paid",Q7=""),"Add payment date",IF(AND(P7<>"Paid",Q7<>""),"Check payment status",IF(AND(O7>0,P7="Unpaid",TODAY()-IF(J7<>"",J7,H7)>Assumptions!$B$2),"Review overdue","")))))))))))),"Check entry"))
A8: RF-0004 | B8: Sample Household Delta | C8: 404 Make-Believe Boulevard, Example City, ZZ 00000 | D8: Mosquitoes | E8: One-Time Service | F8: Fictional Customer Advocate | G8: Demo Route A | H8: 46208 | I8: Lost | K8: Not Qualified | M8: =IF(OR(A8="",F8=""),"",IFERROR(VLOOKUP(F8,Assumptions!$A$5:$C$10,2,FALSE),"")) | N8: =IF(OR(A8="",F8=""),"",IFERROR(VLOOKUP(F8,Assumptions!$A$5:$C$10,3,FALSE),"")) | O8: =IF(A8="","",IFERROR(IF(OR(L8="",M8="",N8=""),"",IF(AND(I8="Converted",K8="Qualified",L8>=N8),L8*M8,0)),"")) | P8: Not Due | R8: Sales Review | S8: =IF(A8="","",IFERROR(IF(F8="","Check source",IF(M8="","Check source setup",IF(H8="","Add referral date",IF(I8="","Add conversion status",IF(AND(I8="Converted",J8=""),"Add converted date",IF(AND(I8<>"Converted",J8<>""),"Check converted date",IF(K8="","Add qualification status",IF(AND(K8="Qualified",OR(L8="",N8="",L8<N8)),"Check qualification",IF(P8="","Add payment status",IF(AND(P8="Paid",Q8=""),"Add payment date",IF(AND(P8<>"Paid",Q8<>""),"Check payment status",IF(AND(O8>0,P8="Unpaid",TODAY()-IF(J8<>"",J8,H8)>Assumptions!$B$2),"Review overdue","")))))))))))),"Check entry"))
A9: RF-0005 | B9: Sample Household Epsilon | C9: 505 Example Court, Example City, ZZ 00000 | D9: Wasps | E9: One-Time Service | F9: Demo Local Partner | G9: Demo Route B | H9: 46215 | I9: Converted | J9: 46217 | K9: Qualified | L9: 275 | M9: =IF(OR(A9="",F9=""),"",IFERROR(VLOOKUP(F9,Assumptions!$A$5:$C$10,2,FALSE),"")) | N9: =IF(OR(A9="",F9=""),"",IFERROR(VLOOKUP(F9,Assumptions!$A$5:$C$10,3,FALSE),"")) | O9: =IF(A9="","",IFERROR(IF(OR(L9="",M9="",N9=""),"",IF(AND(I9="Converted",K9="Qualified",L9>=N9),L9*M9,0)),"")) | P9: Paid | Q9: 46235 | R9: Accounting Review | S9: =IF(A9="","",IFERROR(IF(F9="","Check source",IF(M9="","Check source setup",IF(H9="","Add referral date",IF(I9="","Add conversion status",IF(AND(I9="Converted",J9=""),"Add converted date",IF(AND(I9<>"Converted",J9<>""),"Check converted date",IF(K9="","Add qualification status",IF(AND(K9="Qualified",OR(L9="",N9="",L9<N9)),"Check qualification",IF(P9="","Add payment status",IF(AND(P9="Paid",Q9=""),"Add payment date",IF(AND(P9<>"Paid",Q9<>""),"Check payment status",IF(AND(O9>0,P9="Unpaid",TODAY()-IF(J9<>"",J9,H9)>Assumptions!$B$2),"Review overdue","")))))))))))),"Check entry"))
A10: RF-0006 | B10: Sample Household Zeta | C10: 606 Fictional Drive, Example City, ZZ 00000 | D10: Ants | E10: Recurring Service | F10: Fictional Customer Advocate | G10: Demo Route C | H10: 46235 | I10: Converted | J10: 46238 | K10: Qualified | L10: 180 | M10: =IF(OR(A10="",F10=""),"",IFERROR(VLOOKUP(F10,Assumptions!$A$5:$C$10,2,FALSE),"")) | N10: =IF(OR(A10="",F10=""),"",IFERROR(VLOOKUP(F10,Assumptions!$A$5:$C$10,3,FALSE),"")) | O10: =IF(A10="","",IFERROR(IF(OR(L10="",M10="",N10=""),"",IF(AND(I10="Converted",K10="Qualified",L10>=N10),L10*M10,0)),"")) | P10: Hold | R10: Owner Review | S10: =IF(A10="","",IFERROR(IF(F10="","Check source",IF(M10="","Check source setup",IF(H10="","Add referral date",IF(I10="","Add conversion status",IF(AND(I10="Converted",J10=""),"Add converted date",IF(AND(I10<>"Converted",J10<>""),"Check converted date",IF(K10="","Add qualification status",IF(AND(K10="Qualified",OR(L10="",N10="",L10<N10)),"Check qualification",IF(P10="","Add payment status",IF(AND(P10="Paid",Q10=""),"Add payment date",IF(AND(P10<>"Paid",Q10<>""),"Check payment status",IF(AND(O10>0,P10="Unpaid",TODAY()-IF(J10<>"",J10,H10)>Assumptions!$B$2),"Review overdue","")))))))))))),"Check entry"))
A11: RF-0007 | B11: Sample Household Eta | C11: 707 Imaginary Parkway, Example City, ZZ 00000 | D11: Rodents | E11: Exclusion Assessment | F11: Sample Property Group | G11: Demo Route D | H11: 46249 | I11: Converted | J11: 46252 | K11: Pending | L11: 600 | M11: =IF(OR(A11="",F11=""),"",IFERROR(VLOOKUP(F11,Assumptions!$A$5:$C$10,2,FALSE),"")) | N11: =IF(OR(A11="",F11=""),"",IFERROR(VLOOKUP(F11,Assumptions!$A$5:$C$10,3,FALSE),"")) | O11: =IF(A11="","",IFERROR(IF(OR(L11="",M11="",N11=""),"",IF(AND(I11="Converted",K11="Qualified",L11>=N11),L11*M11,0)),"")) | P11: Not Due | R11: Operations Review | S11: =IF(A11="","",IFERROR(IF(F11="","Check source",IF(M11="","Check source setup",IF(H11="","Add referral date",IF(I11="","Add conversion status",IF(AND(I11="Converted",J11=""),"Add converted date",IF(AND(I11<>"Converted",J11<>""),"Check converted date",IF(K11="","Add qualification status",IF(AND(K11="Qualified",OR(L11="",N11="",L11<N11)),"Check qualification",IF(P11="","Add payment status",IF(AND(P11="Paid",Q11=""),"Add payment date",IF(AND(P11<>"Paid",Q11<>""),"Check payment status",IF(AND(O11>0,P11="Unpaid",TODAY()-IF(J11<>"",J11,H11)>Assumptions!$B$2),"Review overdue","")))))))))))),"Check entry"))
A12: RF-0008 | B12: Sample Household Theta | C12: 808 Placeholder Way, Example City, ZZ 00000 | D12: General Pest | E12: Inspection | F12: Example Neighbor Referral | G12: Demo Route A | H12: 46254 | I12: New | K12: Pending | M12: =IF(OR(A12="",F12=""),"",IFERROR(VLOOKUP(F12,Assumptions!$A$5:$C$10,2,FALSE),"")) | N12: =IF(OR(A12="",F12=""),"",IFERROR(VLOOKUP(F12,Assumptions!$A$5:$C$10,3,FALSE),"")) | O12: =IF(A12="","",IFERROR(IF(OR(L12="",M12="",N12=""),"",IF(AND(I12="Converted",K12="Qualified",L12>=N12),L12*M12,0)),"")) | P12: Not Due | R12: Sales Review | S12: =IF(A12="","",IFERROR(IF(F12="","Check source",IF(M12="","Check source setup",IF(H12="","Add referral date",IF(I12="","Add conversion status",IF(AND(I12="Converted",J12=""),"Add converted date",IF(AND(I12<>"Converted",J12<>""),"Check converted date",IF(K12="","Add qualification status",IF(AND(K12="Qualified",OR(L12="",N12="",L12<N12)),"Check qualification",IF(P12="","Add payment status",IF(AND(P12="Paid",Q12=""),"Add payment date",IF(AND(P12<>"Paid",Q12<>""),"Check payment status",IF(AND(O12>0,P12="Unpaid",TODAY()-IF(J12<>"",J12,H12)>Assumptions!$B$2),"Review overdue","")))))))))))),"Check entry"))
A13: RF-0009 | B13: Sample Household Iota | C13: 909 Make-Believe Lane, Example City, ZZ 00000 | D13: Termite Concern | E13: Inspection | F13: Illustrative Community Event | G13: Demo Route D | H13: 46259 | I13: Converted | J13: 46262 | K13: Qualified | L13: 500 | M13: =IF(OR(A13="",F13=""),"",IFERROR(VLOOKUP(F13,Assumptions!$A$5:$C$10,2,FALSE),"")) | N13: =IF(OR(A13="",F13=""),"",IFERROR(VLOOKUP(F13,Assumptions!$A$5:$C$10,3,FALSE),"")) | O13: =IF(A13="","",IFERROR(IF(OR(L13="",M13="",N13=""),"",IF(AND(I13="Converted",K13="Qualified",L13>=N13),L13*M13,0)),"")) | P13: Unpaid | R13: Accounting Review | S13: =IF(A13="","",IFERROR(IF(F13="","Check source",IF(M13="","Check source setup",IF(H13="","Add referral date",IF(I13="","Add conversion status",IF(AND(I13="Converted",J13=""),"Add converted date",IF(AND(I13<>"Converted",J13<>""),"Check converted date",IF(K13="","Add qualification status",IF(AND(K13="Qualified",OR(L13="",N13="",L13<N13)),"Check qualification",IF(P13="","Add payment status",IF(AND(P13="Paid",Q13=""),"Add payment date",IF(AND(P13<>"Paid",Q13<>""),"Check payment status",IF(AND(O13>0,P13="Unpaid",TODAY()-IF(J13<>"",J13,H13)>Assumptions!$B$2),"Review overdue","")))))))))))),"Check entry"))
A14: RF-0010 | B14: Sample Household Kappa | C14: 1000 Fictional Plaza, Example City, ZZ 00000 | D14: Wasps | E14: Recurring Service | F14: Test Staff Referral | G14: Demo Route B | H14: 46266 | I14: Converted | J14: 46268 | K14: Qualified | L14: 950 | M14: =IF(OR(A14="",F14=""),"",IFERROR(VLOOKUP(F14,Assumptions!$A$5:$C$10,2,FALSE),"")) | N14: =IF(OR(A14="",F14=""),"",IFERROR(VLOOKUP(F14,Assumptions!$A$5:$C$10,3,FALSE),"")) | O14: =IF(A14="","",IFERROR(IF(OR(L14="",M14="",N14=""),"",IF(AND(I14="Converted",K14="Qualified",L14>=N14),L14*M14,0)),"")) | P14: Paid | R14: Accounting Review | S14: =IF(A14="","",IFERROR(IF(F14="","Check source",IF(M14="","Check source setup",IF(H14="","Add referral date",IF(I14="","Add conversion status",IF(AND(I14="Converted",J14=""),"Add converted date",IF(AND(I14<>"Converted",J14<>""),"Check converted date",IF(K14="","Add qualification status",IF(AND(K14="Qualified",OR(L14="",N14="",L14<N14)),"Check qualification",IF(P14="","Add payment status",IF(AND(P14="Paid",Q14=""),"Add payment date",IF(AND(P14<>"Paid",Q14<>""),"Check payment status",IF(AND(O14>0,P14="Unpaid",TODAY()-IF(J14<>"",J14,H14)>Assumptions!$B$2),"Review overdue","")))))))))))),"Check entry"))
M15: =IF(OR(A15="",F15=""),"",IFERROR(VLOOKUP(F15,Assumptions!$A$5:$C$10,2,FALSE),"")) | N15: =IF(OR(A15="",F15=""),"",IFERROR(VLOOKUP(F15,Assumptions!$A$5:$C$10,3,FALSE),"")) | O15: =IF(A15="","",IFERROR(IF(OR(L15="",M15="",N15=""),"",IF(AND(I15="Converted",K15="Qualified",L15>=N15),L15*M15,0)),"")) | S15: =IF(A15="","",IFERROR(IF(F15="","Check source",IF(M15="","Check source setup",IF(H15="","Add referral date",IF(I15="","Add conversion status",IF(AND(I15="Converted",J15=""),"Add converted date",IF(AND(I15<>"Converted",J15<>""),"Check converted date",IF(K15="","Add qualification status",IF(AND(K15="Qualified",OR(L15="",N15="",L15<N15)),"Check qualification",IF(P15="","Add payment status",IF(AND(P15="Paid",Q15=""),"Add payment date",IF(AND(P15<>"Paid",Q15<>""),"Check payment status",IF(AND(O15>0,P15="Unpaid",TODAY()-IF(J15<>"",J15,H15)>Assumptions!$B$2),"Review overdue","")))))))))))),"Check entry"))
M16: =IF(OR(A16="",F16=""),"",IFERROR(VLOOKUP(F16,Assumptions!$A$5:$C$10,2,FALSE),"")) | N16: =IF(OR(A16="",F16=""),"",IFERROR(VLOOKUP(F16,Assumptions!$A$5:$C$10,3,FALSE),"")) | O16: =IF(A16="","",IFERROR(IF(OR(L16="",M16="",N16=""),"",IF(AND(I16="Converted",K16="Qualified",L16>=N16),L16*M16,0)),"")) | S16: =IF(A16="","",IFERROR(IF(F16="","Check source",IF(M16="","Check source setup",IF(H16="","Add referral date",IF(I16="","Add conversion status",IF(AND(I16="Converted",J16=""),"Add converted date",IF(AND(I16<>"Converted",J16<>""),"Check converted date",IF(K16="","Add qualification status",IF(AND(K16="Qualified",OR(L16="",N16="",L16<N16)),"Check qualification",IF(P16="","Add payment status",IF(AND(P16="Paid",Q16=""),"Add payment date",IF(AND(P16<>"Paid",Q16<>""),"Check payment status",IF(AND(O16>0,P16="Unpaid",TODAY()-IF(J16<>"",J16,H16)>Assumptions!$B$2),"Review overdue","")))))))))))),"Check entry"))
M17: =IF(OR(A17="",F17=""),"",IFERROR(VLOOKUP(F17,Assumptions!$A$5:$C$10,2,FALSE),"")) | N17: =IF(OR(A17="",F17=""),"",IFERROR(VLOOKUP(F17,Assumptions!$A$5:$C$10,3,FALSE),"")) | O17: =IF(A17="","",IFERROR(IF(OR(L17="",M17="",N17=""),"",IF(AND(I17="Converted",K17="Qualified",L17>=N17),L17*M17,0)),"")) | S17: =IF(A17="","",IFERROR(IF(F17="","Check source",IF(M17="","Check source setup",IF(H17="","Add referral date",IF(I17="","Add conversion status",IF(AND(I17="Converted",J17=""),"Add converted date",IF(AND(I17<>"Converted",J17<>""),"Check converted date",IF(K17="","Add qualification status",IF(AND(K17="Qualified",OR(L17="",N17="",L17<N17)),"Check qualification",IF(P17="","Add payment status",IF(AND(P17="Paid",Q17=""),"Add payment date",IF(AND(P17<>"Paid",Q17<>""),"Check payment status",IF(AND(O17>0,P17="Unpaid",TODAY()-IF(J17<>"",J17,H17)>Assumptions!$B$2),"Review overdue","")))))))))))),"Check entry"))
M18: =IF(OR(A18="",F18=""),"",IFERROR(VLOOKUP(F18,Assumptions!$A$5:$C$10,2,FALSE),"")) | N18: =IF(OR(A18="",F18=""),"",IFERROR(VLOOKUP(F18,Assumptions!$A$5:$C$10,3,FALSE),"")) | O18: =IF(A18="","",IFERROR(IF(OR(L18="",M18="",N18=""),"",IF(AND(I18="Converted",K18="Qualified",L18>=N18),L18*M18,0)),"")) | S18: =IF(A18="","",IFERROR(IF(F18="","Check source",IF(M18="","Check source setup",IF(H18="","Add referral date",IF(I18="","Add conversion status",IF(AND(I18="Converted",J18=""),"Add converted date",IF(AND(I18<>"Converted",J18<>""),"Check converted date",IF(K18="","Add qualification status",IF(AND(K18="Qualified",OR(L18="",N18="",L18<N18)),"Check qualification",IF(P18="","Add payment status",IF(AND(P18="Paid",Q18=""),"Add payment date",IF(AND(P18<>"Paid",Q18<>""),"Check payment status",IF(AND(O18>0,P18="Unpaid",TODAY()-IF(J18<>"",J18,H18)>Assumptions!$B$2),"Review overdue","")))))))))))),"Check entry"))
M19: =IF(OR(A19="",F19=""),"",IFERROR(VLOOKUP(F19,Assumptions!$A$5:$C$10,2,FALSE),"")) | N19: =IF(OR(A19="",F19=""),"",IFERROR(VLOOKUP(F19,Assumptions!$A$5:$C$10,3,FALSE),"")) | O19: =IF(A19="","",IFERROR(IF(OR(L19="",M19="",N19=""),"",IF(AND(I19="Converted",K19="Qualified",L19>=N19),L19*M19,0)),"")) | S19: =IF(A19="","",IFERROR(IF(F19="","Check source",IF(M19="","Check source setup",IF(H19="","Add referral date",IF(I19="","Add conversion status",IF(AND(I19="Converted",J19=""),"Add converted date",IF(AND(I19<>"Converted",J19<>""),"Check converted date",IF(K19="","Add qualification status",IF(AND(K19="Qualified",OR(L19="",N19="",L19<N19)),"Check qualification",IF(P19="","Add payment status",IF(AND(P19="Paid",Q19=""),"Add payment date",IF(AND(P19<>"Paid",Q19<>""),"Check payment status",IF(AND(O19>0,P19="Unpaid",TODAY()-IF(J19<>"",J19,H19)>Assumptions!$B$2),"Review overdue","")))))))))))),"Check entry"))
M20: =IF(OR(A20="",F20=""),"",IFERROR(VLOOKUP(F20,Assumptions!$A$5:$C$10,2,FALSE),"")) | N20: =IF(OR(A20="",F20=""),"",IFERROR(VLOOKUP(F20,Assumptions!$A$5:$C$10,3,FALSE),"")) | O20: =IF(A20="","",IFERROR(IF(OR(L20="",M20="",N20=""),"",IF(AND(I20="Converted",K20="Qualified",L20>=N20),L20*M20,0)),"")) | S20: =IF(A20="","",IFERROR(IF(F20="","Check source",IF(M20="","Check source setup",IF(H20="","Add referral date",IF(I20="","Add conversion status",IF(AND(I20="Converted",J20=""),"Add converted date",IF(AND(I20<>"Converted",J20<>""),"Check converted date",IF(K20="","Add qualification status",IF(AND(K20="Qualified",OR(L20="",N20="",L20<N20)),"Check qualification",IF(P20="","Add payment status",IF(AND(P20="Paid",Q20=""),"Add payment date",IF(AND(P20<>"Paid",Q20<>""),"Check payment status",IF(AND(O20>0,P20="Unpaid",TODAY()-IF(J20<>"",J20,H20)>Assumptions!$B$2),"Review overdue","")))))))))))),"Check entry"))
M21: =IF(OR(A21="",F21=""),"",IFERROR(VLOOKUP(F21,Assumptions!$A$5:$C$10,2,FALSE),"")) | N21: =IF(OR(A21="",F21=""),"",IFERROR(VLOOKUP(F21,Assumptions!$A$5:$C$10,3,FALSE),"")) | O21: =IF(A21="","",IFERROR(IF(OR(L21="",M21="",N21=""),"",IF(AND(I21="Converted",K21="Qualified",L21>=N21),L21*M21,0)),"")) | S21: =IF(A21="","",IFERROR(IF(F21="","Check source",IF(M21="","Check source setup",IF(H21="","Add referral date",IF(I21="","Add conversion status",IF(AND(I21="Converted",J21=""),"Add converted date",IF(AND(I21<>"Converted",J21<>""),"Check converted date",IF(K21="","Add qualification status",IF(AND(K21="Qualified",OR(L21="",N21="",L21<N21)),"Check qualification",IF(P21="","Add payment status",IF(AND(P21="Paid",Q21=""),"Add payment date",IF(AND(P21<>"Paid",Q21<>""),"Check payment status",IF(AND(O21>0,P21="Unpaid",TODAY()-IF(J21<>"",J21,H21)>Assumptions!$B$2),"Review overdue","")))))))))))),"Check entry"))
M22: =IF(OR(A22="",F22=""),"",IFERROR(VLOOKUP(F22,Assumptions!$A$5:$C$10,2,FALSE),"")) | N22: =IF(OR(A22="",F22=""),"",IFERROR(VLOOKUP(F22,Assumptions!$A$5:$C$10,3,FALSE),"")) | O22: =IF(A22="","",IFERROR(IF(OR(L22="",M22="",N22=""),"",IF(AND(I22="Converted",K22="Qualified",L22>=N22),L22*M22,0)),"")) | S22: =IF(A22="","",IFERROR(IF(F22="","Check source",IF(M22="","Check source setup",IF(H22="","Add referral date",IF(I22="","Add conversion status",IF(AND(I22="Converted",J22=""),"Add converted date",IF(AND(I22<>"Converted",J22<>""),"Check converted date",IF(K22="","Add qualification status",IF(AND(K22="Qualified",OR(L22="",N22="",L22<N22)),"Check qualification",IF(P22="","Add payment status",IF(AND(P22="Paid",Q22=""),"Add payment date",IF(AND(P22<>"Paid",Q22<>""),"Check payment status",IF(AND(O22>0,P22="Unpaid",TODAY()-IF(J22<>"",J22,H22)>Assumptions!$B$2),"Review overdue","")))))))))))),"Check entry"))
M23: =IF(OR(A23="",F23=""),"",IFERROR(VLOOKUP(F23,Assumptions!$A$5:$C$10,2,FALSE),"")) | N23: =IF(OR(A23="",F23=""),"",IFERROR(VLOOKUP(F23,Assumptions!$A$5:$C$10,3,FALSE),"")) | O23: =IF(A23="","",IFERROR(IF(OR(L23="",M23="",N23=""),"",IF(AND(I23="Converted",K23="Qualified",L23>=N23),L23*M23,0)),"")) | S23: =IF(A23="","",IFERROR(IF(F23="","Check source",IF(M23="","Check source setup",IF(H23="","Add referral date",IF(I23="","Add conversion status",IF(AND(I23="Converted",J23=""),"Add converted date",IF(AND(I23<>"Converted",J23<>""),"Check converted date",IF(K23="","Add qualification status",IF(AND(K23="Qualified",OR(L23="",N23="",L23<N23)),"Check qualification",IF(P23="","Add payment status",IF(AND(P23="Paid",Q23=""),"Add payment date",IF(AND(P23<>"Paid",Q23<>""),"Check payment status",IF(AND(O23>0,P23="Unpaid",TODAY()-IF(J23<>"",J23,H23)>Assumptions!$B$2),"Review overdue","")))))))))))),"Check entry"))
M24: =IF(OR(A24="",F24=""),"",IFERROR(VLOOKUP(F24,Assumptions!$A$5:$C$10,2,FALSE),"")) | N24: =IF(OR(A24="",F24=""),"",IFERROR(VLOOKUP(F24,Assumptions!$A$5:$C$10,3,FALSE),"")) | O24: =IF(A24="","",IFERROR(IF(OR(L24="",M24="",N24=""),"",IF(AND(I24="Converted",K24="Qualified",L24>=N24),L24*M24,0)),"")) | S24: =IF(A24="","",IFERROR(IF(F24="","Check source",IF(M24="","Check source setup",IF(H24="","Add referral date",IF(I24="","Add conversion status",IF(AND(I24="Converted",J24=""),"Add converted date",IF(AND(I24<>"Converted",J24<>""),"Check converted date",IF(K24="","Add qualification status",IF(AND(K24="Qualified",OR(L24="",N24="",L24<N24)),"Check qualification",IF(P24="","Add payment status",IF(AND(P24="Paid",Q24=""),"Add payment date",IF(AND(P24<>"Paid",Q24<>""),"Check payment status",IF(AND(O24>0,P24="Unpaid",TODAY()-IF(J24<>"",J24,H24)>Assumptions!$B$2),"Review overdue","")))))))))))),"Check entry"))
M25: =IF(OR(A25="",F25=""),"",IFERROR(VLOOKUP(F25,Assumptions!$A$5:$C$10,2,FALSE),"")) | N25: =IF(OR(A25="",F25=""),"",IFERROR(VLOOKUP(F25,Assumptions!$A$5:$C$10,3,FALSE),"")) | O25: =IF(A25="","",IFERROR(IF(OR(L25="",M25="",N25=""),"",IF(AND(I25="Converted",K25="Qualified",L25>=N25),L25*M25,0)),"")) | S25: =IF(A25="","",IFERROR(IF(F25="","Check source",IF(M25="","Check source setup",IF(H25="","Add referral date",IF(I25="","Add conversion status",IF(AND(I25="Converted",J25=""),"Add converted date",IF(AND(I25<>"Converted",J25<>""),"Check converted date",IF(K25="","Add qualification status",IF(AND(K25="Qualified",OR(L25="",N25="",L25<N25)),"Check qualification",IF(P25="","Add payment status",IF(AND(P25="Paid",Q25=""),"Add payment date",IF(AND(P25<>"Paid",Q25<>""),"Check payment status",IF(AND(O25>0,P25="Unpaid",TODAY()-IF(J25<>"",J25,H25)>Assumptions!$B$2),"Review overdue","")))))))))))),"Check entry"))
M26: =IF(OR(A26="",F26=""),"",IFERROR(VLOOKUP(F26,Assumptions!$A$5:$C$10,2,FALSE),"")) | N26: =IF(OR(A26="",F26=""),"",IFERROR(VLOOKUP(F26,Assumptions!$A$5:$C$10,3,FALSE),"")) | O26: =IF(A26="","",IFERROR(IF(OR(L26="",M26="",N26=""),"",IF(AND(I26="Converted",K26="Qualified",L26>=N26),L26*M26,0)),"")) | S26: =IF(A26="","",IFERROR(IF(F26="","Check source",IF(M26="","Check source setup",IF(H26="","Add referral date",IF(I26="","Add conversion status",IF(AND(I26="Converted",J26=""),"Add converted date",IF(AND(I26<>"Converted",J26<>""),"Check converted date",IF(K26="","Add qualification status",IF(AND(K26="Qualified",OR(L26="",N26="",L26<N26)),"Check qualification",IF(P26="","Add payment status",IF(AND(P26="Paid",Q26=""),"Add payment date",IF(AND(P26<>"Paid",Q26<>""),"Check payment status",IF(AND(O26>0,P26="Unpaid",TODAY()-IF(J26<>"",J26,H26)>Assumptions!$B$2),"Review overdue","")))))))))))),"Check entry"))
... M104: =IF(OR(A104="",F104=""),"",IFERROR(VLOOKUP(F104,Assumptions!$A$5:$C$10,2,FALSE),"")) | N104: =IF(OR(A104="",F104=""),"",IFERROR(VLOOKUP(F104,Assumptions!$A$5:$C$10,3,FALSE),"")) | O104: =IF(A104="","",IFERROR(IF(OR(L104="",M104="",N104=""),"",IF(AND(I104="Converted",K104="Qualified",L104>=N104),L104*M104,0)),"")) | S104: =IF(A104="","",IFERROR(IF(F104="","Check source",IF(M104="","Check source setup",IF(H104="","Add referral date",IF(I104="","Add conversion status",IF(AND(I104="Converted",J104=""),"Add converted date",IF(AND(I104<>"Converted",J104<>""),"Check converted date",IF(K104="","Add qualification status",IF(AND(K104="Qualified",OR(L104="",N104="",L104<N104)),"Check qualification",IF(P104="","Add payment status",IF(AND(P104="Paid",Q104=""),"Add payment date",IF(AND(P104<>"Paid",Q104<>""),"Check payment status",IF(AND(O104>0,P104="Unpaid",TODAY()-IF(J104<>"",J104,H104)>Assumptions!$B$2),"Review overdue","")))))))))))),"Check entry"))

Sheet Assumptions
A1: Referral Commission Assumptions
A2: Payment review age (days) | B2: 30
A3: Maximum qualified sale amount | B3: 100000
A4: Referral Source | B4: Commission Rate | C4: Minimum Qualified Sale | E4: Conversion Status | F4: Qualification Status | G4: Payment Status | H4: Responsibility | I4: Pest Concern | J4: Service | K4: Route
A5: Example Neighbor Referral | B5: 0.05 | C5: 150 | E5: New | F5: Pending | G5: Not Due | H5: Owner Review | I5: General Pest | J5: Inspection | K5: Demo Route A
A6: Sample Property Group | B6: 0.08 | C6: 300 | E6: Contacted | F6: Qualified | G6: Unpaid | H6: Operations Review | I6: Ants | J6: One-Time Service | K6: Demo Route B
A7: Demo Local Partner | B7: 0.1 | C7: 250 | E7: Converted | F7: Not Qualified | G7: Paid | H7: Sales Review | I7: Rodents | J7: Recurring Service | K7: Demo Route C
A8: Fictional Customer Advocate | B8: 0.06 | C8: 200 | E8: Lost | G8: Hold | H8: Accounting Review | I8: Mosquitoes | J8: Exclusion Assessment | K8: Demo Route D
A9: Illustrative Community Event | B9: 0.12 | C9: 500 | I9: Wasps
A10: Test Staff Referral | B10: 0.07 | C10: 400 | I10: Termite Concern
A12: Planning inputs only; review rates, qualification thresholds, and payment timing before issuing a referral reward.
