Workbook

Sheet Summary
A1: Referral Source Performance Summary
A2: Indicators use the reporting dates on Assumptions and attribute activity by lead date.
A3: Period start | B3: =Assumptions!$H$8 | C3: Period end | D3: =Assumptions!$H$9 | E3: Leads | F3: =COUNTIFS(Leads!$A$5:$A$104,">="&$B$3,Leads!$A$5:$A$104,"<="&$D$3) | G3: Won revenue | H3: =SUMIFS(Leads!$M$5:$M$104,Leads!$A$5:$A$104,">="&$B$3,Leads!$A$5:$A$104,"<="&$D$3,Leads!$I$5:$I$104,"Won")
A4: Quotes | B4: =COUNTIFS(Leads!$A$5:$A$104,">="&$B$3,Leads!$A$5:$A$104,"<="&$D$3,Leads!$J$5:$J$104,"<>") | C4: Wins | D4: =COUNTIFS(Leads!$A$5:$A$104,">="&$B$3,Leads!$A$5:$A$104,"<="&$D$3,Leads!$I$5:$I$104,"Won") | E4: Lead-to-quote | F4: =IFERROR(B4/F3,"") | G4: Quote-to-win | H4: =IFERROR(D4/B4,"")
A5: Quoted value | B5: =SUMIFS(Leads!$K$5:$K$104,Leads!$A$5:$A$104,">="&$B$3,Leads!$A$5:$A$104,"<="&$D$3,Leads!$J$5:$J$104,"<>") | C5: Average won revenue | D5: =IFERROR(H3/D4,"") | E5: Needs human check | F5: =COUNTIFS(Leads!$A$5:$A$104,">="&$B$3,Leads!$A$5:$A$104,"<="&$D$3,Leads!$N$5:$N$104,"Check*") | G5: Ready rows | H5: =COUNTIFS(Leads!$A$5:$A$104,">="&$B$3,Leads!$A$5:$A$104,"<="&$D$3,Leads!$N$5:$N$104,"Ready")
A7: Referral Source | B7: Leads | C7: Quotes | D7: Wins | E7: Lead-to-Quote | F7: Quote-to-Win | G7: Quoted Value | H7: Won Revenue
A8: =Assumptions!$A$5 | B8: =COUNTIFS(Leads!$A$5:$A$104,">="&$B$3,Leads!$A$5:$A$104,"<="&$D$3,Leads!$G$5:$G$104,$A8) | C8: =COUNTIFS(Leads!$A$5:$A$104,">="&$B$3,Leads!$A$5:$A$104,"<="&$D$3,Leads!$G$5:$G$104,$A8,Leads!$J$5:$J$104,"<>") | D8: =COUNTIFS(Leads!$A$5:$A$104,">="&$B$3,Leads!$A$5:$A$104,"<="&$D$3,Leads!$G$5:$G$104,$A8,Leads!$I$5:$I$104,"Won") | E8: =IFERROR(C8/B8,"") | F8: =IFERROR(D8/C8,"") | G8: =SUMIFS(Leads!$K$5:$K$104,Leads!$A$5:$A$104,">="&$B$3,Leads!$A$5:$A$104,"<="&$D$3,Leads!$G$5:$G$104,$A8,Leads!$J$5:$J$104,"<>") | H8: =SUMIFS(Leads!$M$5:$M$104,Leads!$A$5:$A$104,">="&$B$3,Leads!$A$5:$A$104,"<="&$D$3,Leads!$G$5:$G$104,$A8,Leads!$I$5:$I$104,"Won")
A9: =Assumptions!$A$6 | B9: =COUNTIFS(Leads!$A$5:$A$104,">="&$B$3,Leads!$A$5:$A$104,"<="&$D$3,Leads!$G$5:$G$104,$A9) | C9: =COUNTIFS(Leads!$A$5:$A$104,">="&$B$3,Leads!$A$5:$A$104,"<="&$D$3,Leads!$G$5:$G$104,$A9,Leads!$J$5:$J$104,"<>") | D9: =COUNTIFS(Leads!$A$5:$A$104,">="&$B$3,Leads!$A$5:$A$104,"<="&$D$3,Leads!$G$5:$G$104,$A9,Leads!$I$5:$I$104,"Won") | E9: =IFERROR(C9/B9,"") | F9: =IFERROR(D9/C9,"") | G9: =SUMIFS(Leads!$K$5:$K$104,Leads!$A$5:$A$104,">="&$B$3,Leads!$A$5:$A$104,"<="&$D$3,Leads!$G$5:$G$104,$A9,Leads!$J$5:$J$104,"<>") | H9: =SUMIFS(Leads!$M$5:$M$104,Leads!$A$5:$A$104,">="&$B$3,Leads!$A$5:$A$104,"<="&$D$3,Leads!$G$5:$G$104,$A9,Leads!$I$5:$I$104,"Won")
A10: =Assumptions!$A$7 | B10: =COUNTIFS(Leads!$A$5:$A$104,">="&$B$3,Leads!$A$5:$A$104,"<="&$D$3,Leads!$G$5:$G$104,$A10) | C10: =COUNTIFS(Leads!$A$5:$A$104,">="&$B$3,Leads!$A$5:$A$104,"<="&$D$3,Leads!$G$5:$G$104,$A10,Leads!$J$5:$J$104,"<>") | D10: =COUNTIFS(Leads!$A$5:$A$104,">="&$B$3,Leads!$A$5:$A$104,"<="&$D$3,Leads!$G$5:$G$104,$A10,Leads!$I$5:$I$104,"Won") | E10: =IFERROR(C10/B10,"") | F10: =IFERROR(D10/C10,"") | G10: =SUMIFS(Leads!$K$5:$K$104,Leads!$A$5:$A$104,">="&$B$3,Leads!$A$5:$A$104,"<="&$D$3,Leads!$G$5:$G$104,$A10,Leads!$J$5:$J$104,"<>") | H10: =SUMIFS(Leads!$M$5:$M$104,Leads!$A$5:$A$104,">="&$B$3,Leads!$A$5:$A$104,"<="&$D$3,Leads!$G$5:$G$104,$A10,Leads!$I$5:$I$104,"Won")
A11: =Assumptions!$A$8 | B11: =COUNTIFS(Leads!$A$5:$A$104,">="&$B$3,Leads!$A$5:$A$104,"<="&$D$3,Leads!$G$5:$G$104,$A11) | C11: =COUNTIFS(Leads!$A$5:$A$104,">="&$B$3,Leads!$A$5:$A$104,"<="&$D$3,Leads!$G$5:$G$104,$A11,Leads!$J$5:$J$104,"<>") | D11: =COUNTIFS(Leads!$A$5:$A$104,">="&$B$3,Leads!$A$5:$A$104,"<="&$D$3,Leads!$G$5:$G$104,$A11,Leads!$I$5:$I$104,"Won") | E11: =IFERROR(C11/B11,"") | F11: =IFERROR(D11/C11,"") | G11: =SUMIFS(Leads!$K$5:$K$104,Leads!$A$5:$A$104,">="&$B$3,Leads!$A$5:$A$104,"<="&$D$3,Leads!$G$5:$G$104,$A11,Leads!$J$5:$J$104,"<>") | H11: =SUMIFS(Leads!$M$5:$M$104,Leads!$A$5:$A$104,">="&$B$3,Leads!$A$5:$A$104,"<="&$D$3,Leads!$G$5:$G$104,$A11,Leads!$I$5:$I$104,"Won")
A12: =Assumptions!$A$9 | B12: =COUNTIFS(Leads!$A$5:$A$104,">="&$B$3,Leads!$A$5:$A$104,"<="&$D$3,Leads!$G$5:$G$104,$A12) | C12: =COUNTIFS(Leads!$A$5:$A$104,">="&$B$3,Leads!$A$5:$A$104,"<="&$D$3,Leads!$G$5:$G$104,$A12,Leads!$J$5:$J$104,"<>") | D12: =COUNTIFS(Leads!$A$5:$A$104,">="&$B$3,Leads!$A$5:$A$104,"<="&$D$3,Leads!$G$5:$G$104,$A12,Leads!$I$5:$I$104,"Won") | E12: =IFERROR(C12/B12,"") | F12: =IFERROR(D12/C12,"") | G12: =SUMIFS(Leads!$K$5:$K$104,Leads!$A$5:$A$104,">="&$B$3,Leads!$A$5:$A$104,"<="&$D$3,Leads!$G$5:$G$104,$A12,Leads!$J$5:$J$104,"<>") | H12: =SUMIFS(Leads!$M$5:$M$104,Leads!$A$5:$A$104,">="&$B$3,Leads!$A$5:$A$104,"<="&$D$3,Leads!$G$5:$G$104,$A12,Leads!$I$5:$I$104,"Won")
A13: =Assumptions!$A$10 | B13: =COUNTIFS(Leads!$A$5:$A$104,">="&$B$3,Leads!$A$5:$A$104,"<="&$D$3,Leads!$G$5:$G$104,$A13) | C13: =COUNTIFS(Leads!$A$5:$A$104,">="&$B$3,Leads!$A$5:$A$104,"<="&$D$3,Leads!$G$5:$G$104,$A13,Leads!$J$5:$J$104,"<>") | D13: =COUNTIFS(Leads!$A$5:$A$104,">="&$B$3,Leads!$A$5:$A$104,"<="&$D$3,Leads!$G$5:$G$104,$A13,Leads!$I$5:$I$104,"Won") | E13: =IFERROR(C13/B13,"") | F13: =IFERROR(D13/C13,"") | G13: =SUMIFS(Leads!$K$5:$K$104,Leads!$A$5:$A$104,">="&$B$3,Leads!$A$5:$A$104,"<="&$D$3,Leads!$G$5:$G$104,$A13,Leads!$J$5:$J$104,"<>") | H13: =SUMIFS(Leads!$M$5:$M$104,Leads!$A$5:$A$104,">="&$B$3,Leads!$A$5:$A$104,"<="&$D$3,Leads!$G$5:$G$104,$A13,Leads!$I$5:$I$104,"Won")
A14: =Assumptions!$A$11 | B14: =COUNTIFS(Leads!$A$5:$A$104,">="&$B$3,Leads!$A$5:$A$104,"<="&$D$3,Leads!$G$5:$G$104,$A14) | C14: =COUNTIFS(Leads!$A$5:$A$104,">="&$B$3,Leads!$A$5:$A$104,"<="&$D$3,Leads!$G$5:$G$104,$A14,Leads!$J$5:$J$104,"<>") | D14: =COUNTIFS(Leads!$A$5:$A$104,">="&$B$3,Leads!$A$5:$A$104,"<="&$D$3,Leads!$G$5:$G$104,$A14,Leads!$I$5:$I$104,"Won") | E14: =IFERROR(C14/B14,"") | F14: =IFERROR(D14/C14,"") | G14: =SUMIFS(Leads!$K$5:$K$104,Leads!$A$5:$A$104,">="&$B$3,Leads!$A$5:$A$104,"<="&$D$3,Leads!$G$5:$G$104,$A14,Leads!$J$5:$J$104,"<>") | H14: =SUMIFS(Leads!$M$5:$M$104,Leads!$A$5:$A$104,">="&$B$3,Leads!$A$5:$A$104,"<="&$D$3,Leads!$G$5:$G$104,$A14,Leads!$I$5:$I$104,"Won")
A15: =Assumptions!$A$12 | B15: =COUNTIFS(Leads!$A$5:$A$104,">="&$B$3,Leads!$A$5:$A$104,"<="&$D$3,Leads!$G$5:$G$104,$A15) | C15: =COUNTIFS(Leads!$A$5:$A$104,">="&$B$3,Leads!$A$5:$A$104,"<="&$D$3,Leads!$G$5:$G$104,$A15,Leads!$J$5:$J$104,"<>") | D15: =COUNTIFS(Leads!$A$5:$A$104,">="&$B$3,Leads!$A$5:$A$104,"<="&$D$3,Leads!$G$5:$G$104,$A15,Leads!$I$5:$I$104,"Won") | E15: =IFERROR(C15/B15,"") | F15: =IFERROR(D15/C15,"") | G15: =SUMIFS(Leads!$K$5:$K$104,Leads!$A$5:$A$104,">="&$B$3,Leads!$A$5:$A$104,"<="&$D$3,Leads!$G$5:$G$104,$A15,Leads!$J$5:$J$104,"<>") | H15: =SUMIFS(Leads!$M$5:$M$104,Leads!$A$5:$A$104,">="&$B$3,Leads!$A$5:$A$104,"<="&$D$3,Leads!$G$5:$G$104,$A15,Leads!$I$5:$I$104,"Won")
A16: =Assumptions!$A$13 | B16: =COUNTIFS(Leads!$A$5:$A$104,">="&$B$3,Leads!$A$5:$A$104,"<="&$D$3,Leads!$G$5:$G$104,$A16) | C16: =COUNTIFS(Leads!$A$5:$A$104,">="&$B$3,Leads!$A$5:$A$104,"<="&$D$3,Leads!$G$5:$G$104,$A16,Leads!$J$5:$J$104,"<>") | D16: =COUNTIFS(Leads!$A$5:$A$104,">="&$B$3,Leads!$A$5:$A$104,"<="&$D$3,Leads!$G$5:$G$104,$A16,Leads!$I$5:$I$104,"Won") | E16: =IFERROR(C16/B16,"") | F16: =IFERROR(D16/C16,"") | G16: =SUMIFS(Leads!$K$5:$K$104,Leads!$A$5:$A$104,">="&$B$3,Leads!$A$5:$A$104,"<="&$D$3,Leads!$G$5:$G$104,$A16,Leads!$J$5:$J$104,"<>") | H16: =SUMIFS(Leads!$M$5:$M$104,Leads!$A$5:$A$104,">="&$B$3,Leads!$A$5:$A$104,"<="&$D$3,Leads!$G$5:$G$104,$A16,Leads!$I$5:$I$104,"Won")
A17: Unattributed | B17: =COUNTIFS(Leads!$A$5:$A$104,">="&$B$3,Leads!$A$5:$A$104,"<="&$D$3,Leads!$G$5:$G$104,"") | C17: =COUNTIFS(Leads!$A$5:$A$104,">="&$B$3,Leads!$A$5:$A$104,"<="&$D$3,Leads!$G$5:$G$104,"",Leads!$J$5:$J$104,"<>") | D17: =COUNTIFS(Leads!$A$5:$A$104,">="&$B$3,Leads!$A$5:$A$104,"<="&$D$3,Leads!$G$5:$G$104,"",Leads!$I$5:$I$104,"Won") | E17: =IFERROR(C17/B17,"") | F17: =IFERROR(D17/C17,"") | G17: =SUMIFS(Leads!$K$5:$K$104,Leads!$A$5:$A$104,">="&$B$3,Leads!$A$5:$A$104,"<="&$D$3,Leads!$G$5:$G$104,"",Leads!$J$5:$J$104,"<>") | H17: =SUMIFS(Leads!$M$5:$M$104,Leads!$A$5:$A$104,">="&$B$3,Leads!$A$5:$A$104,"<="&$D$3,Leads!$G$5:$G$104,"",Leads!$I$5:$I$104,"Won")
A18: All leads | B18: =F3 | C18: =B4 | D18: =D4 | E18: =IFERROR(C18/B18,"") | F18: =IFERROR(D18/C18,"") | G18: =B5 | H18: =H3

Sheet Leads
A1: Pest Control Referral Source Tracker
A2: Enter one fictional or actual business lead per row. Yellow cells are editable; the record check prompts human review of missing or inconsistent entries.
A4: Lead Date | B4: Lead ID | C4: Customer | D4: Service Site | E4: Pest Concern | F4: Requested Service | G4: Referral Source | H4: Sales Owner | I4: Lead Status | J4: Quote Date | K4: Quoted Amount | L4: Decision Date | M4: Won Revenue | N4: Record Check
A5: 46036 | B5: FIC-2026-001 | C5: Fictional Juniper Bakery | D5: Fictional Juniper Site, Exampletown, ZZ | E5: Ants | F5: Recurring Service | G5: Customer Referral | H5: Fictional Rep Cedar | I5: Won | J5: 46039 | K5: 425 | L5: 46046 | M5: 425 | N5: =IF(COUNTA(A5:M5)=0,"",IF(A5="","Check lead date",IF(B5="","Check lead ID",IF(C5="","Check customer",IF(COUNTIF($B$5:$B$104,B5)>1,"Check duplicate ID",IF(G5="","Check source",IF(H5="","Check sales owner",IF(I5="","Check status",IF(AND(J5<>"",J5<A5),"Check date order",IF(AND(L5<>"",L5<A5),"Check date order",IF(AND(J5<>"",L5<>"",L5<J5),"Check date order",IF(AND(OR(I5="Quoted",I5="Won"),J5=""),"Check quote date",IF(AND(J5<>"",OR(K5="",K5<=0)),"Check quote amount",IF(AND(K5<>"",J5=""),"Check quote date",IF(AND(OR(I5="Won",I5="Lost"),L5=""),"Check decision date",IF(AND(I5="Won",OR(M5="",M5<=0)),"Check won revenue",IF(AND(M5<>"",I5<>"Won"),"Check revenue status","Ready")))))))))))))))))
A6: 46066 | B6: FIC-2026-002 | C6: Fictional Blue Kite Rentals | D6: Fictional Blue Kite Site, Sampleville, ZZ | E6: Rodents | F6: Inspection | G6: Web Search | H6: Fictional Rep Juniper | I6: Lost | J6: 46068 | K6: 280 | L6: 46074 | N6: =IF(COUNTA(A6:M6)=0,"",IF(A6="","Check lead date",IF(B6="","Check lead ID",IF(C6="","Check customer",IF(COUNTIF($B$5:$B$104,B6)>1,"Check duplicate ID",IF(G6="","Check source",IF(H6="","Check sales owner",IF(I6="","Check status",IF(AND(J6<>"",J6<A6),"Check date order",IF(AND(L6<>"",L6<A6),"Check date order",IF(AND(J6<>"",L6<>"",L6<J6),"Check date order",IF(AND(OR(I6="Quoted",I6="Won"),J6=""),"Check quote date",IF(AND(J6<>"",OR(K6="",K6<=0)),"Check quote amount",IF(AND(K6<>"",J6=""),"Check quote date",IF(AND(OR(I6="Won",I6="Lost"),L6=""),"Check decision date",IF(AND(I6="Won",OR(M6="",M6<=0)),"Check won revenue",IF(AND(M6<>"",I6<>"Won"),"Check revenue status","Ready")))))))))))))))))
A7: 46096 | B7: FIC-2026-003 | C7: Fictional Copper Acorn Offices | D7: Fictional Copper Acorn Site, Test Harbor, ZZ | E7: Termites | F7: Termite Evaluation | G7: Property Manager | H7: Fictional Rep Lantern | I7: Quoted | J7: 46100 | K7: 1200 | N7: =IF(COUNTA(A7:M7)=0,"",IF(A7="","Check lead date",IF(B7="","Check lead ID",IF(C7="","Check customer",IF(COUNTIF($B$5:$B$104,B7)>1,"Check duplicate ID",IF(G7="","Check source",IF(H7="","Check sales owner",IF(I7="","Check status",IF(AND(J7<>"",J7<A7),"Check date order",IF(AND(L7<>"",L7<A7),"Check date order",IF(AND(J7<>"",L7<>"",L7<J7),"Check date order",IF(AND(OR(I7="Quoted",I7="Won"),J7=""),"Check quote date",IF(AND(J7<>"",OR(K7="",K7<=0)),"Check quote amount",IF(AND(K7<>"",J7=""),"Check quote date",IF(AND(OR(I7="Won",I7="Lost"),L7=""),"Check decision date",IF(AND(I7="Won",OR(M7="",M7<=0)),"Check won revenue",IF(AND(M7<>"",I7<>"Won"),"Check revenue status","Ready")))))))))))))))))
A8: 46126 | B8: FIC-2026-004 | C8: Fictional Lantern Lunchroom | D8: Fictional Lantern Site, Exampletown, ZZ | E8: Mosquitoes | F8: Mosquito Service | G8: Community Event | H8: Fictional Rep Cedar | I8: Contacted | N8: =IF(COUNTA(A8:M8)=0,"",IF(A8="","Check lead date",IF(B8="","Check lead ID",IF(C8="","Check customer",IF(COUNTIF($B$5:$B$104,B8)>1,"Check duplicate ID",IF(G8="","Check source",IF(H8="","Check sales owner",IF(I8="","Check status",IF(AND(J8<>"",J8<A8),"Check date order",IF(AND(L8<>"",L8<A8),"Check date order",IF(AND(J8<>"",L8<>"",L8<J8),"Check date order",IF(AND(OR(I8="Quoted",I8="Won"),J8=""),"Check quote date",IF(AND(J8<>"",OR(K8="",K8<=0)),"Check quote amount",IF(AND(K8<>"",J8=""),"Check quote date",IF(AND(OR(I8="Won",I8="Lost"),L8=""),"Check decision date",IF(AND(I8="Won",OR(M8="",M8<=0)),"Check won revenue",IF(AND(M8<>"",I8<>"Won"),"Check revenue status","Ready")))))))))))))))))
A9: 46156 | B9: FIC-2026-005 | C9: Fictional Pebble Moon Studio | D9: Fictional Pebble Moon Site, Sampleville, ZZ | E9: Cockroaches | F9: One-Time Service | G9: Social Media | H9: Fictional Rep Juniper | I9: Won | J9: 46157 | K9: 315 | L9: 46162 | M9: 315 | N9: =IF(COUNTA(A9:M9)=0,"",IF(A9="","Check lead date",IF(B9="","Check lead ID",IF(C9="","Check customer",IF(COUNTIF($B$5:$B$104,B9)>1,"Check duplicate ID",IF(G9="","Check source",IF(H9="","Check sales owner",IF(I9="","Check status",IF(AND(J9<>"",J9<A9),"Check date order",IF(AND(L9<>"",L9<A9),"Check date order",IF(AND(J9<>"",L9<>"",L9<J9),"Check date order",IF(AND(OR(I9="Quoted",I9="Won"),J9=""),"Check quote date",IF(AND(J9<>"",OR(K9="",K9<=0)),"Check quote amount",IF(AND(K9<>"",J9=""),"Check quote date",IF(AND(OR(I9="Won",I9="Lost"),L9=""),"Check decision date",IF(AND(I9="Won",OR(M9="",M9<=0)),"Check won revenue",IF(AND(M9<>"",I9<>"Won"),"Check revenue status","Ready")))))))))))))))))
A10: 46186 | B10: FIC-2026-006 | C10: Fictional Willow Compass Shop | D10: Fictional Willow Compass Site, Test Harbor, ZZ | E10: Wasps | F10: Inspection | G10: Vehicle Sign | H10: Fictional Rep Lantern | I10: New | N10: =IF(COUNTA(A10:M10)=0,"",IF(A10="","Check lead date",IF(B10="","Check lead ID",IF(C10="","Check customer",IF(COUNTIF($B$5:$B$104,B10)>1,"Check duplicate ID",IF(G10="","Check source",IF(H10="","Check sales owner",IF(I10="","Check status",IF(AND(J10<>"",J10<A10),"Check date order",IF(AND(L10<>"",L10<A10),"Check date order",IF(AND(J10<>"",L10<>"",L10<J10),"Check date order",IF(AND(OR(I10="Quoted",I10="Won"),J10=""),"Check quote date",IF(AND(J10<>"",OR(K10="",K10<=0)),"Check quote amount",IF(AND(K10<>"",J10=""),"Check quote date",IF(AND(OR(I10="Won",I10="Lost"),L10=""),"Check decision date",IF(AND(I10="Won",OR(M10="",M10<=0)),"Check won revenue",IF(AND(M10<>"",I10<>"Won"),"Check revenue status","Ready")))))))))))))))))
A11: 46216 | B11: FIC-2026-007 | C11: Fictional Amber Teacup Warehouse | D11: Fictional Amber Teacup Site, Exampletown, ZZ | E11: General Pest | F11: Commercial Service | G11: Partner Referral | H11: Fictional Rep Cedar | I11: Won | J11: 46221 | K11: 760 | L11: 46230 | M11: 760 | N11: =IF(COUNTA(A11:M11)=0,"",IF(A11="","Check lead date",IF(B11="","Check lead ID",IF(C11="","Check customer",IF(COUNTIF($B$5:$B$104,B11)>1,"Check duplicate ID",IF(G11="","Check source",IF(H11="","Check sales owner",IF(I11="","Check status",IF(AND(J11<>"",J11<A11),"Check date order",IF(AND(L11<>"",L11<A11),"Check date order",IF(AND(J11<>"",L11<>"",L11<J11),"Check date order",IF(AND(OR(I11="Quoted",I11="Won"),J11=""),"Check quote date",IF(AND(J11<>"",OR(K11="",K11<=0)),"Check quote amount",IF(AND(K11<>"",J11=""),"Check quote date",IF(AND(OR(I11="Won",I11="Lost"),L11=""),"Check decision date",IF(AND(I11="Won",OR(M11="",M11<=0)),"Check won revenue",IF(AND(M11<>"",I11<>"Won"),"Check revenue status","Ready")))))))))))))))))
A12: 46231 | B12: FIC-2026-008 | C12: Fictional Silver Finch Inn | D12: Fictional Silver Finch Site, Sampleville, ZZ | E12: Bed Bugs | F12: Inspection | G12: Repeat Customer | H12: Fictional Rep Juniper | I12: Lost | J12: 46234 | K12: 190 | L12: 46240 | N12: =IF(COUNTA(A12:M12)=0,"",IF(A12="","Check lead date",IF(B12="","Check lead ID",IF(C12="","Check customer",IF(COUNTIF($B$5:$B$104,B12)>1,"Check duplicate ID",IF(G12="","Check source",IF(H12="","Check sales owner",IF(I12="","Check status",IF(AND(J12<>"",J12<A12),"Check date order",IF(AND(L12<>"",L12<A12),"Check date order",IF(AND(J12<>"",L12<>"",L12<J12),"Check date order",IF(AND(OR(I12="Quoted",I12="Won"),J12=""),"Check quote date",IF(AND(J12<>"",OR(K12="",K12<=0)),"Check quote amount",IF(AND(K12<>"",J12=""),"Check quote date",IF(AND(OR(I12="Won",I12="Lost"),L12=""),"Check decision date",IF(AND(I12="Won",OR(M12="",M12<=0)),"Check won revenue",IF(AND(M12<>"",I12<>"Won"),"Check revenue status","Ready")))))))))))))))))
A13: 46251 | B13: FIC-2026-009 | C13: Fictional Paper Star Market | D13: Fictional Paper Star Site, Test Harbor, ZZ | E13: Ants | F13: One-Time Service | G13: Other | H13: Fictional Rep Lantern | I13: Quoted | J13: 46253 | K13: 540 | N13: =IF(COUNTA(A13:M13)=0,"",IF(A13="","Check lead date",IF(B13="","Check lead ID",IF(C13="","Check customer",IF(COUNTIF($B$5:$B$104,B13)>1,"Check duplicate ID",IF(G13="","Check source",IF(H13="","Check sales owner",IF(I13="","Check status",IF(AND(J13<>"",J13<A13),"Check date order",IF(AND(L13<>"",L13<A13),"Check date order",IF(AND(J13<>"",L13<>"",L13<J13),"Check date order",IF(AND(OR(I13="Quoted",I13="Won"),J13=""),"Check quote date",IF(AND(J13<>"",OR(K13="",K13<=0)),"Check quote amount",IF(AND(K13<>"",J13=""),"Check quote date",IF(AND(OR(I13="Won",I13="Lost"),L13=""),"Check decision date",IF(AND(I13="Won",OR(M13="",M13<=0)),"Check won revenue",IF(AND(M13<>"",I13<>"Won"),"Check revenue status","Ready")))))))))))))))))
A14: 46266 | B14: FIC-2026-010 | C14: Fictional Plum Rocket Café | D14: Fictional Plum Rocket Site, Exampletown, ZZ | E14: Rodents | F14: Recurring Service | H14: Fictional Rep Cedar | I14: Contacted | N14: =IF(COUNTA(A14:M14)=0,"",IF(A14="","Check lead date",IF(B14="","Check lead ID",IF(C14="","Check customer",IF(COUNTIF($B$5:$B$104,B14)>1,"Check duplicate ID",IF(G14="","Check source",IF(H14="","Check sales owner",IF(I14="","Check status",IF(AND(J14<>"",J14<A14),"Check date order",IF(AND(L14<>"",L14<A14),"Check date order",IF(AND(J14<>"",L14<>"",L14<J14),"Check date order",IF(AND(OR(I14="Quoted",I14="Won"),J14=""),"Check quote date",IF(AND(J14<>"",OR(K14="",K14<=0)),"Check quote amount",IF(AND(K14<>"",J14=""),"Check quote date",IF(AND(OR(I14="Won",I14="Lost"),L14=""),"Check decision date",IF(AND(I14="Won",OR(M14="",M14<=0)),"Check won revenue",IF(AND(M14<>"",I14<>"Won"),"Check revenue status","Ready")))))))))))))))))
N15: =IF(COUNTA(A15:M15)=0,"",IF(A15="","Check lead date",IF(B15="","Check lead ID",IF(C15="","Check customer",IF(COUNTIF($B$5:$B$104,B15)>1,"Check duplicate ID",IF(G15="","Check source",IF(H15="","Check sales owner",IF(I15="","Check status",IF(AND(J15<>"",J15<A15),"Check date order",IF(AND(L15<>"",L15<A15),"Check date order",IF(AND(J15<>"",L15<>"",L15<J15),"Check date order",IF(AND(OR(I15="Quoted",I15="Won"),J15=""),"Check quote date",IF(AND(J15<>"",OR(K15="",K15<=0)),"Check quote amount",IF(AND(K15<>"",J15=""),"Check quote date",IF(AND(OR(I15="Won",I15="Lost"),L15=""),"Check decision date",IF(AND(I15="Won",OR(M15="",M15<=0)),"Check won revenue",IF(AND(M15<>"",I15<>"Won"),"Check revenue status","Ready")))))))))))))))))
N16: =IF(COUNTA(A16:M16)=0,"",IF(A16="","Check lead date",IF(B16="","Check lead ID",IF(C16="","Check customer",IF(COUNTIF($B$5:$B$104,B16)>1,"Check duplicate ID",IF(G16="","Check source",IF(H16="","Check sales owner",IF(I16="","Check status",IF(AND(J16<>"",J16<A16),"Check date order",IF(AND(L16<>"",L16<A16),"Check date order",IF(AND(J16<>"",L16<>"",L16<J16),"Check date order",IF(AND(OR(I16="Quoted",I16="Won"),J16=""),"Check quote date",IF(AND(J16<>"",OR(K16="",K16<=0)),"Check quote amount",IF(AND(K16<>"",J16=""),"Check quote date",IF(AND(OR(I16="Won",I16="Lost"),L16=""),"Check decision date",IF(AND(I16="Won",OR(M16="",M16<=0)),"Check won revenue",IF(AND(M16<>"",I16<>"Won"),"Check revenue status","Ready")))))))))))))))))
N17: =IF(COUNTA(A17:M17)=0,"",IF(A17="","Check lead date",IF(B17="","Check lead ID",IF(C17="","Check customer",IF(COUNTIF($B$5:$B$104,B17)>1,"Check duplicate ID",IF(G17="","Check source",IF(H17="","Check sales owner",IF(I17="","Check status",IF(AND(J17<>"",J17<A17),"Check date order",IF(AND(L17<>"",L17<A17),"Check date order",IF(AND(J17<>"",L17<>"",L17<J17),"Check date order",IF(AND(OR(I17="Quoted",I17="Won"),J17=""),"Check quote date",IF(AND(J17<>"",OR(K17="",K17<=0)),"Check quote amount",IF(AND(K17<>"",J17=""),"Check quote date",IF(AND(OR(I17="Won",I17="Lost"),L17=""),"Check decision date",IF(AND(I17="Won",OR(M17="",M17<=0)),"Check won revenue",IF(AND(M17<>"",I17<>"Won"),"Check revenue status","Ready")))))))))))))))))
N18: =IF(COUNTA(A18:M18)=0,"",IF(A18="","Check lead date",IF(B18="","Check lead ID",IF(C18="","Check customer",IF(COUNTIF($B$5:$B$104,B18)>1,"Check duplicate ID",IF(G18="","Check source",IF(H18="","Check sales owner",IF(I18="","Check status",IF(AND(J18<>"",J18<A18),"Check date order",IF(AND(L18<>"",L18<A18),"Check date order",IF(AND(J18<>"",L18<>"",L18<J18),"Check date order",IF(AND(OR(I18="Quoted",I18="Won"),J18=""),"Check quote date",IF(AND(J18<>"",OR(K18="",K18<=0)),"Check quote amount",IF(AND(K18<>"",J18=""),"Check quote date",IF(AND(OR(I18="Won",I18="Lost"),L18=""),"Check decision date",IF(AND(I18="Won",OR(M18="",M18<=0)),"Check won revenue",IF(AND(M18<>"",I18<>"Won"),"Check revenue status","Ready")))))))))))))))))
N19: =IF(COUNTA(A19:M19)=0,"",IF(A19="","Check lead date",IF(B19="","Check lead ID",IF(C19="","Check customer",IF(COUNTIF($B$5:$B$104,B19)>1,"Check duplicate ID",IF(G19="","Check source",IF(H19="","Check sales owner",IF(I19="","Check status",IF(AND(J19<>"",J19<A19),"Check date order",IF(AND(L19<>"",L19<A19),"Check date order",IF(AND(J19<>"",L19<>"",L19<J19),"Check date order",IF(AND(OR(I19="Quoted",I19="Won"),J19=""),"Check quote date",IF(AND(J19<>"",OR(K19="",K19<=0)),"Check quote amount",IF(AND(K19<>"",J19=""),"Check quote date",IF(AND(OR(I19="Won",I19="Lost"),L19=""),"Check decision date",IF(AND(I19="Won",OR(M19="",M19<=0)),"Check won revenue",IF(AND(M19<>"",I19<>"Won"),"Check revenue status","Ready")))))))))))))))))
N20: =IF(COUNTA(A20:M20)=0,"",IF(A20="","Check lead date",IF(B20="","Check lead ID",IF(C20="","Check customer",IF(COUNTIF($B$5:$B$104,B20)>1,"Check duplicate ID",IF(G20="","Check source",IF(H20="","Check sales owner",IF(I20="","Check status",IF(AND(J20<>"",J20<A20),"Check date order",IF(AND(L20<>"",L20<A20),"Check date order",IF(AND(J20<>"",L20<>"",L20<J20),"Check date order",IF(AND(OR(I20="Quoted",I20="Won"),J20=""),"Check quote date",IF(AND(J20<>"",OR(K20="",K20<=0)),"Check quote amount",IF(AND(K20<>"",J20=""),"Check quote date",IF(AND(OR(I20="Won",I20="Lost"),L20=""),"Check decision date",IF(AND(I20="Won",OR(M20="",M20<=0)),"Check won revenue",IF(AND(M20<>"",I20<>"Won"),"Check revenue status","Ready")))))))))))))))))
N21: =IF(COUNTA(A21:M21)=0,"",IF(A21="","Check lead date",IF(B21="","Check lead ID",IF(C21="","Check customer",IF(COUNTIF($B$5:$B$104,B21)>1,"Check duplicate ID",IF(G21="","Check source",IF(H21="","Check sales owner",IF(I21="","Check status",IF(AND(J21<>"",J21<A21),"Check date order",IF(AND(L21<>"",L21<A21),"Check date order",IF(AND(J21<>"",L21<>"",L21<J21),"Check date order",IF(AND(OR(I21="Quoted",I21="Won"),J21=""),"Check quote date",IF(AND(J21<>"",OR(K21="",K21<=0)),"Check quote amount",IF(AND(K21<>"",J21=""),"Check quote date",IF(AND(OR(I21="Won",I21="Lost"),L21=""),"Check decision date",IF(AND(I21="Won",OR(M21="",M21<=0)),"Check won revenue",IF(AND(M21<>"",I21<>"Won"),"Check revenue status","Ready")))))))))))))))))
N22: =IF(COUNTA(A22:M22)=0,"",IF(A22="","Check lead date",IF(B22="","Check lead ID",IF(C22="","Check customer",IF(COUNTIF($B$5:$B$104,B22)>1,"Check duplicate ID",IF(G22="","Check source",IF(H22="","Check sales owner",IF(I22="","Check status",IF(AND(J22<>"",J22<A22),"Check date order",IF(AND(L22<>"",L22<A22),"Check date order",IF(AND(J22<>"",L22<>"",L22<J22),"Check date order",IF(AND(OR(I22="Quoted",I22="Won"),J22=""),"Check quote date",IF(AND(J22<>"",OR(K22="",K22<=0)),"Check quote amount",IF(AND(K22<>"",J22=""),"Check quote date",IF(AND(OR(I22="Won",I22="Lost"),L22=""),"Check decision date",IF(AND(I22="Won",OR(M22="",M22<=0)),"Check won revenue",IF(AND(M22<>"",I22<>"Won"),"Check revenue status","Ready")))))))))))))))))
N23: =IF(COUNTA(A23:M23)=0,"",IF(A23="","Check lead date",IF(B23="","Check lead ID",IF(C23="","Check customer",IF(COUNTIF($B$5:$B$104,B23)>1,"Check duplicate ID",IF(G23="","Check source",IF(H23="","Check sales owner",IF(I23="","Check status",IF(AND(J23<>"",J23<A23),"Check date order",IF(AND(L23<>"",L23<A23),"Check date order",IF(AND(J23<>"",L23<>"",L23<J23),"Check date order",IF(AND(OR(I23="Quoted",I23="Won"),J23=""),"Check quote date",IF(AND(J23<>"",OR(K23="",K23<=0)),"Check quote amount",IF(AND(K23<>"",J23=""),"Check quote date",IF(AND(OR(I23="Won",I23="Lost"),L23=""),"Check decision date",IF(AND(I23="Won",OR(M23="",M23<=0)),"Check won revenue",IF(AND(M23<>"",I23<>"Won"),"Check revenue status","Ready")))))))))))))))))
N24: =IF(COUNTA(A24:M24)=0,"",IF(A24="","Check lead date",IF(B24="","Check lead ID",IF(C24="","Check customer",IF(COUNTIF($B$5:$B$104,B24)>1,"Check duplicate ID",IF(G24="","Check source",IF(H24="","Check sales owner",IF(I24="","Check status",IF(AND(J24<>"",J24<A24),"Check date order",IF(AND(L24<>"",L24<A24),"Check date order",IF(AND(J24<>"",L24<>"",L24<J24),"Check date order",IF(AND(OR(I24="Quoted",I24="Won"),J24=""),"Check quote date",IF(AND(J24<>"",OR(K24="",K24<=0)),"Check quote amount",IF(AND(K24<>"",J24=""),"Check quote date",IF(AND(OR(I24="Won",I24="Lost"),L24=""),"Check decision date",IF(AND(I24="Won",OR(M24="",M24<=0)),"Check won revenue",IF(AND(M24<>"",I24<>"Won"),"Check revenue status","Ready")))))))))))))))))
N25: =IF(COUNTA(A25:M25)=0,"",IF(A25="","Check lead date",IF(B25="","Check lead ID",IF(C25="","Check customer",IF(COUNTIF($B$5:$B$104,B25)>1,"Check duplicate ID",IF(G25="","Check source",IF(H25="","Check sales owner",IF(I25="","Check status",IF(AND(J25<>"",J25<A25),"Check date order",IF(AND(L25<>"",L25<A25),"Check date order",IF(AND(J25<>"",L25<>"",L25<J25),"Check date order",IF(AND(OR(I25="Quoted",I25="Won"),J25=""),"Check quote date",IF(AND(J25<>"",OR(K25="",K25<=0)),"Check quote amount",IF(AND(K25<>"",J25=""),"Check quote date",IF(AND(OR(I25="Won",I25="Lost"),L25=""),"Check decision date",IF(AND(I25="Won",OR(M25="",M25<=0)),"Check won revenue",IF(AND(M25<>"",I25<>"Won"),"Check revenue status","Ready")))))))))))))))))
N26: =IF(COUNTA(A26:M26)=0,"",IF(A26="","Check lead date",IF(B26="","Check lead ID",IF(C26="","Check customer",IF(COUNTIF($B$5:$B$104,B26)>1,"Check duplicate ID",IF(G26="","Check source",IF(H26="","Check sales owner",IF(I26="","Check status",IF(AND(J26<>"",J26<A26),"Check date order",IF(AND(L26<>"",L26<A26),"Check date order",IF(AND(J26<>"",L26<>"",L26<J26),"Check date order",IF(AND(OR(I26="Quoted",I26="Won"),J26=""),"Check quote date",IF(AND(J26<>"",OR(K26="",K26<=0)),"Check quote amount",IF(AND(K26<>"",J26=""),"Check quote date",IF(AND(OR(I26="Won",I26="Lost"),L26=""),"Check decision date",IF(AND(I26="Won",OR(M26="",M26<=0)),"Check won revenue",IF(AND(M26<>"",I26<>"Won"),"Check revenue status","Ready")))))))))))))))))
... N104: =IF(COUNTA(A104:M104)=0,"",IF(A104="","Check lead date",IF(B104="","Check lead ID",IF(C104="","Check customer",IF(COUNTIF($B$5:$B$104,B104)>1,"Check duplicate ID",IF(G104="","Check source",IF(H104="","Check sales owner",IF(I104="","Check status",IF(AND(J104<>"",J104<A104),"Check date order",IF(AND(L104<>"",L104<A104),"Check date order",IF(AND(J104<>"",L104<>"",L104<J104),"Check date order",IF(AND(OR(I104="Quoted",I104="Won"),J104=""),"Check quote date",IF(AND(J104<>"",OR(K104="",K104<=0)),"Check quote amount",IF(AND(K104<>"",J104=""),"Check quote date",IF(AND(OR(I104="Won",I104="Lost"),L104=""),"Check decision date",IF(AND(I104="Won",OR(M104="",M104<=0)),"Check won revenue",IF(AND(M104<>"",I104<>"Won"),"Check revenue status","Ready")))))))))))))))))

Sheet Assumptions
A1: Referral Tracker Assumptions
A2: Edit yellow lists and limits as operating needs change. These entries control dropdowns and the reporting period.
A4: Referral Sources | B4: Lead Statuses | C4: Pest Concerns | D4: Requested Services | E4: Sales Owners | G4: Date and Amount Limits | H4: Editable Value
A5: Customer Referral | B5: New | C5: Ants | D5: Inspection | E5: Fictional Rep Cedar | G5: Earliest entry date | H5: 45292
A6: Web Search | B6: Contacted | C6: Bed Bugs | D6: One-Time Service | E6: Fictional Rep Juniper | G6: Latest entry date | H6: 46276
A7: Property Manager | B7: Quoted | C7: Cockroaches | D7: Recurring Service | E7: Fictional Rep Lantern
A8: Community Event | B8: Won | C8: General Pest | D8: Termite Evaluation | G8: Reporting start date | H8: 45911
A9: Social Media | B9: Lost | C9: Mosquitoes | D9: Mosquito Service | G9: Reporting end date | H9: 46276
A10: Vehicle Sign | C10: Rodents | D10: Commercial Service
A11: Partner Referral | C11: Termites | G11: Maximum quote or win amount | H11: 1000000
A12: Repeat Customer | C12: Wasps
A13: Other
