Workbook

Sheet Summary
A1: Pest Control Route Profitability Summary
A2: Fictional examples are for internal route planning only. Completed service records drive the profitability indicators below.
A4: Completed Service Indicators
A5: Completed Visits | B5: =COUNTIF('Service Log'!$M$5:$M$104,"Completed") | C5: Revenue | D5: =IF($B$5=0,"",SUMIF('Service Log'!$M$5:$M$104,"Completed",'Service Log'!$L$5:$L$104)) | E5: Variable Cost | F5: =IF($B$5=0,"",SUMIF('Service Log'!$M$5:$M$104,"Completed",'Service Log'!$T$5:$T$104)) | G5: Contribution | H5: =IF($B$5=0,"",$D$5-$F$5)
A7: Service Hours | B7: =IF($B$5=0,"",SUMIF('Service Log'!$M$5:$M$104,"Completed",'Service Log'!$J$5:$J$104)) | C7: Route Miles | D7: =IF($B$5=0,"",SUMIF('Service Log'!$M$5:$M$104,"Completed",'Service Log'!$K$5:$K$104)) | E7: Contribution Margin | F7: =IFERROR($H$5/$D$5,"") | G7: Revenue per Hour | H7: =IFERROR($D$5/$B$7,"")
A9: Records Requiring Review | B9: =COUNTIF('Service Log'!$W$5:$W$104,"?*")
A11: Only records marked Completed are included in revenue, cost, and route contribution totals.
A13: Completed Route Comparison
A14: Route | B14: Visits | C14: Revenue | D14: Labor Cost | E14: Mileage Cost | F14: Product Cost | G14: Variable Cost | H14: Contribution | I14: Margin | K14: Route | L14: Contribution
A15: =Assumptions!$D$5 | B15: =IF($A15="","",COUNTIFS('Service Log'!$B$5:$B$104,$A15,'Service Log'!$M$5:$M$104,"Completed")) | C15: =IF($B15=0,"",SUMIFS('Service Log'!$L$5:$L$104,'Service Log'!$B$5:$B$104,$A15,'Service Log'!$M$5:$M$104,"Completed")) | D15: =IF($B15=0,"",SUMIFS('Service Log'!$Q$5:$Q$104,'Service Log'!$B$5:$B$104,$A15,'Service Log'!$M$5:$M$104,"Completed")) | E15: =IF($B15=0,"",SUMIFS('Service Log'!$R$5:$R$104,'Service Log'!$B$5:$B$104,$A15,'Service Log'!$M$5:$M$104,"Completed")) | F15: =IF($B15=0,"",SUMIFS('Service Log'!$S$5:$S$104,'Service Log'!$B$5:$B$104,$A15,'Service Log'!$M$5:$M$104,"Completed")) | G15: =IF($B15=0,"",SUM($D15:$F15)) | H15: =IF($B15=0,"",$C15-$G15) | I15: =IFERROR($H15/$C15,"") | K15: =$A15 | L15: =IF($B15=0,"",$H15)
A16: =Assumptions!$D$6 | B16: =IF($A16="","",COUNTIFS('Service Log'!$B$5:$B$104,$A16,'Service Log'!$M$5:$M$104,"Completed")) | C16: =IF($B16=0,"",SUMIFS('Service Log'!$L$5:$L$104,'Service Log'!$B$5:$B$104,$A16,'Service Log'!$M$5:$M$104,"Completed")) | D16: =IF($B16=0,"",SUMIFS('Service Log'!$Q$5:$Q$104,'Service Log'!$B$5:$B$104,$A16,'Service Log'!$M$5:$M$104,"Completed")) | E16: =IF($B16=0,"",SUMIFS('Service Log'!$R$5:$R$104,'Service Log'!$B$5:$B$104,$A16,'Service Log'!$M$5:$M$104,"Completed")) | F16: =IF($B16=0,"",SUMIFS('Service Log'!$S$5:$S$104,'Service Log'!$B$5:$B$104,$A16,'Service Log'!$M$5:$M$104,"Completed")) | G16: =IF($B16=0,"",SUM($D16:$F16)) | H16: =IF($B16=0,"",$C16-$G16) | I16: =IFERROR($H16/$C16,"") | K16: =$A16 | L16: =IF($B16=0,"",$H16)
A17: =Assumptions!$D$7 | B17: =IF($A17="","",COUNTIFS('Service Log'!$B$5:$B$104,$A17,'Service Log'!$M$5:$M$104,"Completed")) | C17: =IF($B17=0,"",SUMIFS('Service Log'!$L$5:$L$104,'Service Log'!$B$5:$B$104,$A17,'Service Log'!$M$5:$M$104,"Completed")) | D17: =IF($B17=0,"",SUMIFS('Service Log'!$Q$5:$Q$104,'Service Log'!$B$5:$B$104,$A17,'Service Log'!$M$5:$M$104,"Completed")) | E17: =IF($B17=0,"",SUMIFS('Service Log'!$R$5:$R$104,'Service Log'!$B$5:$B$104,$A17,'Service Log'!$M$5:$M$104,"Completed")) | F17: =IF($B17=0,"",SUMIFS('Service Log'!$S$5:$S$104,'Service Log'!$B$5:$B$104,$A17,'Service Log'!$M$5:$M$104,"Completed")) | G17: =IF($B17=0,"",SUM($D17:$F17)) | H17: =IF($B17=0,"",$C17-$G17) | I17: =IFERROR($H17/$C17,"") | K17: =$A17 | L17: =IF($B17=0,"",$H17)
A18: =Assumptions!$D$8 | B18: =IF($A18="","",COUNTIFS('Service Log'!$B$5:$B$104,$A18,'Service Log'!$M$5:$M$104,"Completed")) | C18: =IF($B18=0,"",SUMIFS('Service Log'!$L$5:$L$104,'Service Log'!$B$5:$B$104,$A18,'Service Log'!$M$5:$M$104,"Completed")) | D18: =IF($B18=0,"",SUMIFS('Service Log'!$Q$5:$Q$104,'Service Log'!$B$5:$B$104,$A18,'Service Log'!$M$5:$M$104,"Completed")) | E18: =IF($B18=0,"",SUMIFS('Service Log'!$R$5:$R$104,'Service Log'!$B$5:$B$104,$A18,'Service Log'!$M$5:$M$104,"Completed")) | F18: =IF($B18=0,"",SUMIFS('Service Log'!$S$5:$S$104,'Service Log'!$B$5:$B$104,$A18,'Service Log'!$M$5:$M$104,"Completed")) | G18: =IF($B18=0,"",SUM($D18:$F18)) | H18: =IF($B18=0,"",$C18-$G18) | I18: =IFERROR($H18/$C18,"") | K18: =$A18 | L18: =IF($B18=0,"",$H18)
A19: =Assumptions!$D$9 | B19: =IF($A19="","",COUNTIFS('Service Log'!$B$5:$B$104,$A19,'Service Log'!$M$5:$M$104,"Completed")) | C19: =IF($B19=0,"",SUMIFS('Service Log'!$L$5:$L$104,'Service Log'!$B$5:$B$104,$A19,'Service Log'!$M$5:$M$104,"Completed")) | D19: =IF($B19=0,"",SUMIFS('Service Log'!$Q$5:$Q$104,'Service Log'!$B$5:$B$104,$A19,'Service Log'!$M$5:$M$104,"Completed")) | E19: =IF($B19=0,"",SUMIFS('Service Log'!$R$5:$R$104,'Service Log'!$B$5:$B$104,$A19,'Service Log'!$M$5:$M$104,"Completed")) | F19: =IF($B19=0,"",SUMIFS('Service Log'!$S$5:$S$104,'Service Log'!$B$5:$B$104,$A19,'Service Log'!$M$5:$M$104,"Completed")) | G19: =IF($B19=0,"",SUM($D19:$F19)) | H19: =IF($B19=0,"",$C19-$G19) | I19: =IFERROR($H19/$C19,"") | K19: =$A19 | L19: =IF($B19=0,"",$H19)
A20: =Assumptions!$D$10 | B20: =IF($A20="","",COUNTIFS('Service Log'!$B$5:$B$104,$A20,'Service Log'!$M$5:$M$104,"Completed")) | C20: =IF($B20=0,"",SUMIFS('Service Log'!$L$5:$L$104,'Service Log'!$B$5:$B$104,$A20,'Service Log'!$M$5:$M$104,"Completed")) | D20: =IF($B20=0,"",SUMIFS('Service Log'!$Q$5:$Q$104,'Service Log'!$B$5:$B$104,$A20,'Service Log'!$M$5:$M$104,"Completed")) | E20: =IF($B20=0,"",SUMIFS('Service Log'!$R$5:$R$104,'Service Log'!$B$5:$B$104,$A20,'Service Log'!$M$5:$M$104,"Completed")) | F20: =IF($B20=0,"",SUMIFS('Service Log'!$S$5:$S$104,'Service Log'!$B$5:$B$104,$A20,'Service Log'!$M$5:$M$104,"Completed")) | G20: =IF($B20=0,"",SUM($D20:$F20)) | H20: =IF($B20=0,"",$C20-$G20) | I20: =IFERROR($H20/$C20,"") | K20: =$A20 | L20: =IF($B20=0,"",$H20)
A21: Total | B21: =SUM($B$15:$B$20) | C21: =IF($B$21=0,"",SUM($C$15:$C$20)) | D21: =IF($B$21=0,"",SUM($D$15:$D$20)) | E21: =IF($B$21=0,"",SUM($E$15:$E$20)) | F21: =IF($B$21=0,"",SUM($F$15:$F$20)) | G21: =IF($B$21=0,"",SUM($G$15:$G$20)) | H21: =IF($B$21=0,"",$C$21-$G$21) | I21: =IFERROR($H$21/$C$21,"")

Sheet Service Log
A1: Pest Control Route Profitability Service Log
A2: All examples are fictional. Enter service details in yellow cells; calculated costs use the editable Assumptions sheet.
A4: Service Date | B4: Route | C4: Customer | D4: Service Site | E4: Pest Concern | F4: Service | G4: Technician | H4: Product | I4: Product Qty (oz) | J4: Service Hours | K4: Miles | L4: Revenue | M4: Status | N4: Labor Rate | O4: Mileage Rate | P4: Product Cost per Oz | Q4: Labor Cost | R4: Mileage Cost | S4: Product Cost | T4: Variable Cost | U4: Contribution Margin | V4: Margin % | W4: Check Alert
A5: 46266 | B5: Fictional Route North | C5: Fictional Blue Lantern Bakery | D5: 101 Imaginary Avenue, Mythic, ZZ 00000 | E5: Ant activity | F5: Fictional Routine Visit | G5: Fictional Technician Juniper | H5: Fictional Product Aster | I5: 4 | J5: 1.2 | K5: 15.5 | L5: 190 | M5: Completed | N5: =IF($A5="","",Assumptions!$B$5) | O5: =IF($A5="","",Assumptions!$B$6) | P5: =IF(OR($A5="",$H5=""),"",IFERROR(VLOOKUP($H5,Assumptions!$H$5:$I$10,2,FALSE),"")) | Q5: =IF(OR($A5="",$J5="",$N5=""),"",IFERROR($J5*$N5,"")) | R5: =IF(OR($A5="",$K5="",$O5=""),"",IFERROR($K5*$O5,"")) | S5: =IF(OR($A5="",$H5="",$I5="",$P5=""),"",IFERROR($I5*$P5,"")) | T5: =IF(OR($A5="",$L5=""),"",IFERROR(SUM($Q5:$S5),"")) | U5: =IF(OR($A5="",$L5="",$T5=""),"",IFERROR($L5-$T5,"")) | V5: =IF(OR($A5="",$L5="",$L5=0),"",IFERROR($U5/$L5,"")) | W5: =IF(COUNTA($A5:$M5)=0,"",IF($A5="","Check service date",IF(OR($B5="",$C5="",$D5="",$E5="",$F5="",$G5="",$M5=""),"Check required service details",IF($M5<>"Completed","Review status before profitability use",IF(OR($J5="",$K5="",$L5=""),"Check missing labor, mileage, or revenue",IF($J5<=0,"Check service hours",IF($L5<=0,"Check revenue amount",IF(OR(AND($H5="",$I5<>""),AND($H5<>"",$I5="")),"Check product details",IF(AND($H5<>"",$P5=""),"Check product cost setup",IF($K5>Assumptions!$B$8,"Mileage above review threshold",IF($V5<Assumptions!$B$7,"Margin below target",""))))))))))
A6: 46267 | B6: Fictional Route East | C6: Fictional Copper Kettle Books | D6: 202 Pretend Street, Storyville, ZZ 00000 | E6: Stored-product insects | F6: Fictional Inspection | G6: Fictional Technician Rowan | H6: No Product Used | I6: 0 | J6: 0.9 | K6: 12.2 | L6: 155 | M6: Completed | N6: =IF($A6="","",Assumptions!$B$5) | O6: =IF($A6="","",Assumptions!$B$6) | P6: =IF(OR($A6="",$H6=""),"",IFERROR(VLOOKUP($H6,Assumptions!$H$5:$I$10,2,FALSE),"")) | Q6: =IF(OR($A6="",$J6="",$N6=""),"",IFERROR($J6*$N6,"")) | R6: =IF(OR($A6="",$K6="",$O6=""),"",IFERROR($K6*$O6,"")) | S6: =IF(OR($A6="",$H6="",$I6="",$P6=""),"",IFERROR($I6*$P6,"")) | T6: =IF(OR($A6="",$L6=""),"",IFERROR(SUM($Q6:$S6),"")) | U6: =IF(OR($A6="",$L6="",$T6=""),"",IFERROR($L6-$T6,"")) | V6: =IF(OR($A6="",$L6="",$L6=0),"",IFERROR($U6/$L6,"")) | W6: =IF(COUNTA($A6:$M6)=0,"",IF($A6="","Check service date",IF(OR($B6="",$C6="",$D6="",$E6="",$F6="",$G6="",$M6=""),"Check required service details",IF($M6<>"Completed","Review status before profitability use",IF(OR($J6="",$K6="",$L6=""),"Check missing labor, mileage, or revenue",IF($J6<=0,"Check service hours",IF($L6<=0,"Check revenue amount",IF(OR(AND($H6="",$I6<>""),AND($H6<>"",$I6="")),"Check product details",IF(AND($H6<>"",$P6=""),"Check product cost setup",IF($K6>Assumptions!$B$8,"Mileage above review threshold",IF($V6<Assumptions!$B$7,"Margin below target",""))))))))))
A7: 46268 | B7: Fictional Route West | C7: Fictional Silver Comet Theater | D7: 303 Make-Believe Road, Fableton, ZZ 00000 | E7: Rodent signs | F7: Fictional Follow-Up | G7: Fictional Technician Sage | H7: Fictional Product Birch | I7: 2.5 | J7: 1.5 | K7: 28 | L7: 240 | M7: Completed | N7: =IF($A7="","",Assumptions!$B$5) | O7: =IF($A7="","",Assumptions!$B$6) | P7: =IF(OR($A7="",$H7=""),"",IFERROR(VLOOKUP($H7,Assumptions!$H$5:$I$10,2,FALSE),"")) | Q7: =IF(OR($A7="",$J7="",$N7=""),"",IFERROR($J7*$N7,"")) | R7: =IF(OR($A7="",$K7="",$O7=""),"",IFERROR($K7*$O7,"")) | S7: =IF(OR($A7="",$H7="",$I7="",$P7=""),"",IFERROR($I7*$P7,"")) | T7: =IF(OR($A7="",$L7=""),"",IFERROR(SUM($Q7:$S7),"")) | U7: =IF(OR($A7="",$L7="",$T7=""),"",IFERROR($L7-$T7,"")) | V7: =IF(OR($A7="",$L7="",$L7=0),"",IFERROR($U7/$L7,"")) | W7: =IF(COUNTA($A7:$M7)=0,"",IF($A7="","Check service date",IF(OR($B7="",$C7="",$D7="",$E7="",$F7="",$G7="",$M7=""),"Check required service details",IF($M7<>"Completed","Review status before profitability use",IF(OR($J7="",$K7="",$L7=""),"Check missing labor, mileage, or revenue",IF($J7<=0,"Check service hours",IF($L7<=0,"Check revenue amount",IF(OR(AND($H7="",$I7<>""),AND($H7<>"",$I7="")),"Check product details",IF(AND($H7<>"",$P7=""),"Check product cost setup",IF($K7>Assumptions!$B$8,"Mileage above review threshold",IF($V7<Assumptions!$B$7,"Margin below target",""))))))))))
A8: 46269 | B8: Fictional Route South | C8: Fictional Moonbeam Greenhouse | D8: 404 Imaginary Lane, Dreamfield, ZZ 00000 | E8: Wasp activity | F8: Fictional Exterior Visit | G8: Fictional Technician Aspen | H8: Fictional Product Cedar | I8: 5 | J8: 1.75 | K8: 49.6 | L8: 315 | M8: Completed | N8: =IF($A8="","",Assumptions!$B$5) | O8: =IF($A8="","",Assumptions!$B$6) | P8: =IF(OR($A8="",$H8=""),"",IFERROR(VLOOKUP($H8,Assumptions!$H$5:$I$10,2,FALSE),"")) | Q8: =IF(OR($A8="",$J8="",$N8=""),"",IFERROR($J8*$N8,"")) | R8: =IF(OR($A8="",$K8="",$O8=""),"",IFERROR($K8*$O8,"")) | S8: =IF(OR($A8="",$H8="",$I8="",$P8=""),"",IFERROR($I8*$P8,"")) | T8: =IF(OR($A8="",$L8=""),"",IFERROR(SUM($Q8:$S8),"")) | U8: =IF(OR($A8="",$L8="",$T8=""),"",IFERROR($L8-$T8,"")) | V8: =IF(OR($A8="",$L8="",$L8=0),"",IFERROR($U8/$L8,"")) | W8: =IF(COUNTA($A8:$M8)=0,"",IF($A8="","Check service date",IF(OR($B8="",$C8="",$D8="",$E8="",$F8="",$G8="",$M8=""),"Check required service details",IF($M8<>"Completed","Review status before profitability use",IF(OR($J8="",$K8="",$L8=""),"Check missing labor, mileage, or revenue",IF($J8<=0,"Check service hours",IF($L8<=0,"Check revenue amount",IF(OR(AND($H8="",$I8<>""),AND($H8<>"",$I8="")),"Check product details",IF(AND($H8<>"",$P8=""),"Check product cost setup",IF($K8>Assumptions!$B$8,"Mileage above review threshold",IF($V8<Assumptions!$B$7,"Margin below target",""))))))))))
A9: 46270 | B9: Fictional Route North | C9: Fictional Paper Airplane Cafe | D9: 505 Pretend Boulevard, Tale City, ZZ 00000 | E9: Cockroach activity | F9: Fictional Routine Visit | G9: Fictional Technician Juniper | H9: Fictional Product Ember | I9: 2 | J9: 1.4 | K9: 19.3 | L9: 275 | M9: Completed | N9: =IF($A9="","",Assumptions!$B$5) | O9: =IF($A9="","",Assumptions!$B$6) | P9: =IF(OR($A9="",$H9=""),"",IFERROR(VLOOKUP($H9,Assumptions!$H$5:$I$10,2,FALSE),"")) | Q9: =IF(OR($A9="",$J9="",$N9=""),"",IFERROR($J9*$N9,"")) | R9: =IF(OR($A9="",$K9="",$O9=""),"",IFERROR($K9*$O9,"")) | S9: =IF(OR($A9="",$H9="",$I9="",$P9=""),"",IFERROR($I9*$P9,"")) | T9: =IF(OR($A9="",$L9=""),"",IFERROR(SUM($Q9:$S9),"")) | U9: =IF(OR($A9="",$L9="",$T9=""),"",IFERROR($L9-$T9,"")) | V9: =IF(OR($A9="",$L9="",$L9=0),"",IFERROR($U9/$L9,"")) | W9: =IF(COUNTA($A9:$M9)=0,"",IF($A9="","Check service date",IF(OR($B9="",$C9="",$D9="",$E9="",$F9="",$G9="",$M9=""),"Check required service details",IF($M9<>"Completed","Review status before profitability use",IF(OR($J9="",$K9="",$L9=""),"Check missing labor, mileage, or revenue",IF($J9<=0,"Check service hours",IF($L9<=0,"Check revenue amount",IF(OR(AND($H9="",$I9<>""),AND($H9<>"",$I9="")),"Check product details",IF(AND($H9<>"",$P9=""),"Check product cost setup",IF($K9>Assumptions!$B$8,"Mileage above review threshold",IF($V9<Assumptions!$B$7,"Margin below target",""))))))))))
A10: 46271 | B10: Fictional Route East | C10: Fictional Velvet Compass Warehouse | D10: 606 Fictional Parkway, Novelton, ZZ 00000 | E10: Stored-product insects | F10: Fictional Monitoring Visit | G10: Fictional Technician Rowan | H10: Fictional Product Drift | I10: 8 | J10: 2.2 | K10: 42.5 | L10: 160 | M10: Completed | N10: =IF($A10="","",Assumptions!$B$5) | O10: =IF($A10="","",Assumptions!$B$6) | P10: =IF(OR($A10="",$H10=""),"",IFERROR(VLOOKUP($H10,Assumptions!$H$5:$I$10,2,FALSE),"")) | Q10: =IF(OR($A10="",$J10="",$N10=""),"",IFERROR($J10*$N10,"")) | R10: =IF(OR($A10="",$K10="",$O10=""),"",IFERROR($K10*$O10,"")) | S10: =IF(OR($A10="",$H10="",$I10="",$P10=""),"",IFERROR($I10*$P10,"")) | T10: =IF(OR($A10="",$L10=""),"",IFERROR(SUM($Q10:$S10),"")) | U10: =IF(OR($A10="",$L10="",$T10=""),"",IFERROR($L10-$T10,"")) | V10: =IF(OR($A10="",$L10="",$L10=0),"",IFERROR($U10/$L10,"")) | W10: =IF(COUNTA($A10:$M10)=0,"",IF($A10="","Check service date",IF(OR($B10="",$C10="",$D10="",$E10="",$F10="",$G10="",$M10=""),"Check required service details",IF($M10<>"Completed","Review status before profitability use",IF(OR($J10="",$K10="",$L10=""),"Check missing labor, mileage, or revenue",IF($J10<=0,"Check service hours",IF($L10<=0,"Check revenue amount",IF(OR(AND($H10="",$I10<>""),AND($H10<>"",$I10="")),"Check product details",IF(AND($H10<>"",$P10=""),"Check product cost setup",IF($K10>Assumptions!$B$8,"Mileage above review threshold",IF($V10<Assumptions!$B$7,"Margin below target",""))))))))))
A11: 46272 | B11: Fictional Route West | C11: Fictional Painted Cloud Studio | D11: 707 Imaginary Court, Mythic, ZZ 00000 | E11: General inspection | F11: Fictional Inspection | G11: Fictional Technician Sage | H11: No Product Used | I11: 0 | J11: 0.8 | K11: 10.1 | L11: 145 | M11: Completed | N11: =IF($A11="","",Assumptions!$B$5) | O11: =IF($A11="","",Assumptions!$B$6) | P11: =IF(OR($A11="",$H11=""),"",IFERROR(VLOOKUP($H11,Assumptions!$H$5:$I$10,2,FALSE),"")) | Q11: =IF(OR($A11="",$J11="",$N11=""),"",IFERROR($J11*$N11,"")) | R11: =IF(OR($A11="",$K11="",$O11=""),"",IFERROR($K11*$O11,"")) | S11: =IF(OR($A11="",$H11="",$I11="",$P11=""),"",IFERROR($I11*$P11,"")) | T11: =IF(OR($A11="",$L11=""),"",IFERROR(SUM($Q11:$S11),"")) | U11: =IF(OR($A11="",$L11="",$T11=""),"",IFERROR($L11-$T11,"")) | V11: =IF(OR($A11="",$L11="",$L11=0),"",IFERROR($U11/$L11,"")) | W11: =IF(COUNTA($A11:$M11)=0,"",IF($A11="","Check service date",IF(OR($B11="",$C11="",$D11="",$E11="",$F11="",$G11="",$M11=""),"Check required service details",IF($M11<>"Completed","Review status before profitability use",IF(OR($J11="",$K11="",$L11=""),"Check missing labor, mileage, or revenue",IF($J11<=0,"Check service hours",IF($L11<=0,"Check revenue amount",IF(OR(AND($H11="",$I11<>""),AND($H11<>"",$I11="")),"Check product details",IF(AND($H11<>"",$P11=""),"Check product cost setup",IF($K11>Assumptions!$B$8,"Mileage above review threshold",IF($V11<Assumptions!$B$7,"Margin below target",""))))))))))
A12: 46273 | B12: Fictional Route South | C12: Fictional Golden Thimble Inn | D12: 808 Make-Believe Terrace, Fableton, ZZ 00000 | E12: Ant activity | F12: Fictional Follow-Up | G12: Fictional Technician Aspen | H12: Fictional Product Aster | I12: 3 | J12: 1.1 | K12: 31.8 | L12: 210 | M12: Completed | N12: =IF($A12="","",Assumptions!$B$5) | O12: =IF($A12="","",Assumptions!$B$6) | P12: =IF(OR($A12="",$H12=""),"",IFERROR(VLOOKUP($H12,Assumptions!$H$5:$I$10,2,FALSE),"")) | Q12: =IF(OR($A12="",$J12="",$N12=""),"",IFERROR($J12*$N12,"")) | R12: =IF(OR($A12="",$K12="",$O12=""),"",IFERROR($K12*$O12,"")) | S12: =IF(OR($A12="",$H12="",$I12="",$P12=""),"",IFERROR($I12*$P12,"")) | T12: =IF(OR($A12="",$L12=""),"",IFERROR(SUM($Q12:$S12),"")) | U12: =IF(OR($A12="",$L12="",$T12=""),"",IFERROR($L12-$T12,"")) | V12: =IF(OR($A12="",$L12="",$L12=0),"",IFERROR($U12/$L12,"")) | W12: =IF(COUNTA($A12:$M12)=0,"",IF($A12="","Check service date",IF(OR($B12="",$C12="",$D12="",$E12="",$F12="",$G12="",$M12=""),"Check required service details",IF($M12<>"Completed","Review status before profitability use",IF(OR($J12="",$K12="",$L12=""),"Check missing labor, mileage, or revenue",IF($J12<=0,"Check service hours",IF($L12<=0,"Check revenue amount",IF(OR(AND($H12="",$I12<>""),AND($H12<>"",$I12="")),"Check product details",IF(AND($H12<>"",$P12=""),"Check product cost setup",IF($K12>Assumptions!$B$8,"Mileage above review threshold",IF($V12<Assumptions!$B$7,"Margin below target",""))))))))))
A13: 46278 | B13: Fictional Route North | C13: Fictional Kite String Market | D13: 909 Pretend Plaza, Storyville, ZZ 00000 | E13: Rodent signs | F13: Fictional Routine Visit | G13: Fictional Technician Juniper | H13: Fictional Product Birch | I13: 3 | J13: 1.25 | K13: 22 | L13: 225 | M13: Scheduled | N13: =IF($A13="","",Assumptions!$B$5) | O13: =IF($A13="","",Assumptions!$B$6) | P13: =IF(OR($A13="",$H13=""),"",IFERROR(VLOOKUP($H13,Assumptions!$H$5:$I$10,2,FALSE),"")) | Q13: =IF(OR($A13="",$J13="",$N13=""),"",IFERROR($J13*$N13,"")) | R13: =IF(OR($A13="",$K13="",$O13=""),"",IFERROR($K13*$O13,"")) | S13: =IF(OR($A13="",$H13="",$I13="",$P13=""),"",IFERROR($I13*$P13,"")) | T13: =IF(OR($A13="",$L13=""),"",IFERROR(SUM($Q13:$S13),"")) | U13: =IF(OR($A13="",$L13="",$T13=""),"",IFERROR($L13-$T13,"")) | V13: =IF(OR($A13="",$L13="",$L13=0),"",IFERROR($U13/$L13,"")) | W13: =IF(COUNTA($A13:$M13)=0,"",IF($A13="","Check service date",IF(OR($B13="",$C13="",$D13="",$E13="",$F13="",$G13="",$M13=""),"Check required service details",IF($M13<>"Completed","Review status before profitability use",IF(OR($J13="",$K13="",$L13=""),"Check missing labor, mileage, or revenue",IF($J13<=0,"Check service hours",IF($L13<=0,"Check revenue amount",IF(OR(AND($H13="",$I13<>""),AND($H13<>"",$I13="")),"Check product details",IF(AND($H13<>"",$P13=""),"Check product cost setup",IF($K13>Assumptions!$B$8,"Mileage above review threshold",IF($V13<Assumptions!$B$7,"Margin below target",""))))))))))
A14: 46274 | B14: Fictional Route East | C14: Fictional Glass Acorn Gallery | D14: 1001 Fictional Drive, Dreamfield, ZZ 00000 | E14: General inspection | F14: Fictional Inspection | G14: Fictional Technician Rowan | H14: No Product Used | I14: 0 | J14: 0 | K14: 0 | L14: 0 | M14: Canceled | N14: =IF($A14="","",Assumptions!$B$5) | O14: =IF($A14="","",Assumptions!$B$6) | P14: =IF(OR($A14="",$H14=""),"",IFERROR(VLOOKUP($H14,Assumptions!$H$5:$I$10,2,FALSE),"")) | Q14: =IF(OR($A14="",$J14="",$N14=""),"",IFERROR($J14*$N14,"")) | R14: =IF(OR($A14="",$K14="",$O14=""),"",IFERROR($K14*$O14,"")) | S14: =IF(OR($A14="",$H14="",$I14="",$P14=""),"",IFERROR($I14*$P14,"")) | T14: =IF(OR($A14="",$L14=""),"",IFERROR(SUM($Q14:$S14),"")) | U14: =IF(OR($A14="",$L14="",$T14=""),"",IFERROR($L14-$T14,"")) | V14: =IF(OR($A14="",$L14="",$L14=0),"",IFERROR($U14/$L14,"")) | W14: =IF(COUNTA($A14:$M14)=0,"",IF($A14="","Check service date",IF(OR($B14="",$C14="",$D14="",$E14="",$F14="",$G14="",$M14=""),"Check required service details",IF($M14<>"Completed","Review status before profitability use",IF(OR($J14="",$K14="",$L14=""),"Check missing labor, mileage, or revenue",IF($J14<=0,"Check service hours",IF($L14<=0,"Check revenue amount",IF(OR(AND($H14="",$I14<>""),AND($H14<>"",$I14="")),"Check product details",IF(AND($H14<>"",$P14=""),"Check product cost setup",IF($K14>Assumptions!$B$8,"Mileage above review threshold",IF($V14<Assumptions!$B$7,"Margin below target",""))))))))))
N15: =IF($A15="","",Assumptions!$B$5) | O15: =IF($A15="","",Assumptions!$B$6) | P15: =IF(OR($A15="",$H15=""),"",IFERROR(VLOOKUP($H15,Assumptions!$H$5:$I$10,2,FALSE),"")) | Q15: =IF(OR($A15="",$J15="",$N15=""),"",IFERROR($J15*$N15,"")) | R15: =IF(OR($A15="",$K15="",$O15=""),"",IFERROR($K15*$O15,"")) | S15: =IF(OR($A15="",$H15="",$I15="",$P15=""),"",IFERROR($I15*$P15,"")) | T15: =IF(OR($A15="",$L15=""),"",IFERROR(SUM($Q15:$S15),"")) | U15: =IF(OR($A15="",$L15="",$T15=""),"",IFERROR($L15-$T15,"")) | V15: =IF(OR($A15="",$L15="",$L15=0),"",IFERROR($U15/$L15,"")) | W15: =IF(COUNTA($A15:$M15)=0,"",IF($A15="","Check service date",IF(OR($B15="",$C15="",$D15="",$E15="",$F15="",$G15="",$M15=""),"Check required service details",IF($M15<>"Completed","Review status before profitability use",IF(OR($J15="",$K15="",$L15=""),"Check missing labor, mileage, or revenue",IF($J15<=0,"Check service hours",IF($L15<=0,"Check revenue amount",IF(OR(AND($H15="",$I15<>""),AND($H15<>"",$I15="")),"Check product details",IF(AND($H15<>"",$P15=""),"Check product cost setup",IF($K15>Assumptions!$B$8,"Mileage above review threshold",IF($V15<Assumptions!$B$7,"Margin below target",""))))))))))
N16: =IF($A16="","",Assumptions!$B$5) | O16: =IF($A16="","",Assumptions!$B$6) | P16: =IF(OR($A16="",$H16=""),"",IFERROR(VLOOKUP($H16,Assumptions!$H$5:$I$10,2,FALSE),"")) | Q16: =IF(OR($A16="",$J16="",$N16=""),"",IFERROR($J16*$N16,"")) | R16: =IF(OR($A16="",$K16="",$O16=""),"",IFERROR($K16*$O16,"")) | S16: =IF(OR($A16="",$H16="",$I16="",$P16=""),"",IFERROR($I16*$P16,"")) | T16: =IF(OR($A16="",$L16=""),"",IFERROR(SUM($Q16:$S16),"")) | U16: =IF(OR($A16="",$L16="",$T16=""),"",IFERROR($L16-$T16,"")) | V16: =IF(OR($A16="",$L16="",$L16=0),"",IFERROR($U16/$L16,"")) | W16: =IF(COUNTA($A16:$M16)=0,"",IF($A16="","Check service date",IF(OR($B16="",$C16="",$D16="",$E16="",$F16="",$G16="",$M16=""),"Check required service details",IF($M16<>"Completed","Review status before profitability use",IF(OR($J16="",$K16="",$L16=""),"Check missing labor, mileage, or revenue",IF($J16<=0,"Check service hours",IF($L16<=0,"Check revenue amount",IF(OR(AND($H16="",$I16<>""),AND($H16<>"",$I16="")),"Check product details",IF(AND($H16<>"",$P16=""),"Check product cost setup",IF($K16>Assumptions!$B$8,"Mileage above review threshold",IF($V16<Assumptions!$B$7,"Margin below target",""))))))))))
N17: =IF($A17="","",Assumptions!$B$5) | O17: =IF($A17="","",Assumptions!$B$6) | P17: =IF(OR($A17="",$H17=""),"",IFERROR(VLOOKUP($H17,Assumptions!$H$5:$I$10,2,FALSE),"")) | Q17: =IF(OR($A17="",$J17="",$N17=""),"",IFERROR($J17*$N17,"")) | R17: =IF(OR($A17="",$K17="",$O17=""),"",IFERROR($K17*$O17,"")) | S17: =IF(OR($A17="",$H17="",$I17="",$P17=""),"",IFERROR($I17*$P17,"")) | T17: =IF(OR($A17="",$L17=""),"",IFERROR(SUM($Q17:$S17),"")) | U17: =IF(OR($A17="",$L17="",$T17=""),"",IFERROR($L17-$T17,"")) | V17: =IF(OR($A17="",$L17="",$L17=0),"",IFERROR($U17/$L17,"")) | W17: =IF(COUNTA($A17:$M17)=0,"",IF($A17="","Check service date",IF(OR($B17="",$C17="",$D17="",$E17="",$F17="",$G17="",$M17=""),"Check required service details",IF($M17<>"Completed","Review status before profitability use",IF(OR($J17="",$K17="",$L17=""),"Check missing labor, mileage, or revenue",IF($J17<=0,"Check service hours",IF($L17<=0,"Check revenue amount",IF(OR(AND($H17="",$I17<>""),AND($H17<>"",$I17="")),"Check product details",IF(AND($H17<>"",$P17=""),"Check product cost setup",IF($K17>Assumptions!$B$8,"Mileage above review threshold",IF($V17<Assumptions!$B$7,"Margin below target",""))))))))))
N18: =IF($A18="","",Assumptions!$B$5) | O18: =IF($A18="","",Assumptions!$B$6) | P18: =IF(OR($A18="",$H18=""),"",IFERROR(VLOOKUP($H18,Assumptions!$H$5:$I$10,2,FALSE),"")) | Q18: =IF(OR($A18="",$J18="",$N18=""),"",IFERROR($J18*$N18,"")) | R18: =IF(OR($A18="",$K18="",$O18=""),"",IFERROR($K18*$O18,"")) | S18: =IF(OR($A18="",$H18="",$I18="",$P18=""),"",IFERROR($I18*$P18,"")) | T18: =IF(OR($A18="",$L18=""),"",IFERROR(SUM($Q18:$S18),"")) | U18: =IF(OR($A18="",$L18="",$T18=""),"",IFERROR($L18-$T18,"")) | V18: =IF(OR($A18="",$L18="",$L18=0),"",IFERROR($U18/$L18,"")) | W18: =IF(COUNTA($A18:$M18)=0,"",IF($A18="","Check service date",IF(OR($B18="",$C18="",$D18="",$E18="",$F18="",$G18="",$M18=""),"Check required service details",IF($M18<>"Completed","Review status before profitability use",IF(OR($J18="",$K18="",$L18=""),"Check missing labor, mileage, or revenue",IF($J18<=0,"Check service hours",IF($L18<=0,"Check revenue amount",IF(OR(AND($H18="",$I18<>""),AND($H18<>"",$I18="")),"Check product details",IF(AND($H18<>"",$P18=""),"Check product cost setup",IF($K18>Assumptions!$B$8,"Mileage above review threshold",IF($V18<Assumptions!$B$7,"Margin below target",""))))))))))
N19: =IF($A19="","",Assumptions!$B$5) | O19: =IF($A19="","",Assumptions!$B$6) | P19: =IF(OR($A19="",$H19=""),"",IFERROR(VLOOKUP($H19,Assumptions!$H$5:$I$10,2,FALSE),"")) | Q19: =IF(OR($A19="",$J19="",$N19=""),"",IFERROR($J19*$N19,"")) | R19: =IF(OR($A19="",$K19="",$O19=""),"",IFERROR($K19*$O19,"")) | S19: =IF(OR($A19="",$H19="",$I19="",$P19=""),"",IFERROR($I19*$P19,"")) | T19: =IF(OR($A19="",$L19=""),"",IFERROR(SUM($Q19:$S19),"")) | U19: =IF(OR($A19="",$L19="",$T19=""),"",IFERROR($L19-$T19,"")) | V19: =IF(OR($A19="",$L19="",$L19=0),"",IFERROR($U19/$L19,"")) | W19: =IF(COUNTA($A19:$M19)=0,"",IF($A19="","Check service date",IF(OR($B19="",$C19="",$D19="",$E19="",$F19="",$G19="",$M19=""),"Check required service details",IF($M19<>"Completed","Review status before profitability use",IF(OR($J19="",$K19="",$L19=""),"Check missing labor, mileage, or revenue",IF($J19<=0,"Check service hours",IF($L19<=0,"Check revenue amount",IF(OR(AND($H19="",$I19<>""),AND($H19<>"",$I19="")),"Check product details",IF(AND($H19<>"",$P19=""),"Check product cost setup",IF($K19>Assumptions!$B$8,"Mileage above review threshold",IF($V19<Assumptions!$B$7,"Margin below target",""))))))))))
N20: =IF($A20="","",Assumptions!$B$5) | O20: =IF($A20="","",Assumptions!$B$6) | P20: =IF(OR($A20="",$H20=""),"",IFERROR(VLOOKUP($H20,Assumptions!$H$5:$I$10,2,FALSE),"")) | Q20: =IF(OR($A20="",$J20="",$N20=""),"",IFERROR($J20*$N20,"")) | R20: =IF(OR($A20="",$K20="",$O20=""),"",IFERROR($K20*$O20,"")) | S20: =IF(OR($A20="",$H20="",$I20="",$P20=""),"",IFERROR($I20*$P20,"")) | T20: =IF(OR($A20="",$L20=""),"",IFERROR(SUM($Q20:$S20),"")) | U20: =IF(OR($A20="",$L20="",$T20=""),"",IFERROR($L20-$T20,"")) | V20: =IF(OR($A20="",$L20="",$L20=0),"",IFERROR($U20/$L20,"")) | W20: =IF(COUNTA($A20:$M20)=0,"",IF($A20="","Check service date",IF(OR($B20="",$C20="",$D20="",$E20="",$F20="",$G20="",$M20=""),"Check required service details",IF($M20<>"Completed","Review status before profitability use",IF(OR($J20="",$K20="",$L20=""),"Check missing labor, mileage, or revenue",IF($J20<=0,"Check service hours",IF($L20<=0,"Check revenue amount",IF(OR(AND($H20="",$I20<>""),AND($H20<>"",$I20="")),"Check product details",IF(AND($H20<>"",$P20=""),"Check product cost setup",IF($K20>Assumptions!$B$8,"Mileage above review threshold",IF($V20<Assumptions!$B$7,"Margin below target",""))))))))))
N21: =IF($A21="","",Assumptions!$B$5) | O21: =IF($A21="","",Assumptions!$B$6) | P21: =IF(OR($A21="",$H21=""),"",IFERROR(VLOOKUP($H21,Assumptions!$H$5:$I$10,2,FALSE),"")) | Q21: =IF(OR($A21="",$J21="",$N21=""),"",IFERROR($J21*$N21,"")) | R21: =IF(OR($A21="",$K21="",$O21=""),"",IFERROR($K21*$O21,"")) | S21: =IF(OR($A21="",$H21="",$I21="",$P21=""),"",IFERROR($I21*$P21,"")) | T21: =IF(OR($A21="",$L21=""),"",IFERROR(SUM($Q21:$S21),"")) | U21: =IF(OR($A21="",$L21="",$T21=""),"",IFERROR($L21-$T21,"")) | V21: =IF(OR($A21="",$L21="",$L21=0),"",IFERROR($U21/$L21,"")) | W21: =IF(COUNTA($A21:$M21)=0,"",IF($A21="","Check service date",IF(OR($B21="",$C21="",$D21="",$E21="",$F21="",$G21="",$M21=""),"Check required service details",IF($M21<>"Completed","Review status before profitability use",IF(OR($J21="",$K21="",$L21=""),"Check missing labor, mileage, or revenue",IF($J21<=0,"Check service hours",IF($L21<=0,"Check revenue amount",IF(OR(AND($H21="",$I21<>""),AND($H21<>"",$I21="")),"Check product details",IF(AND($H21<>"",$P21=""),"Check product cost setup",IF($K21>Assumptions!$B$8,"Mileage above review threshold",IF($V21<Assumptions!$B$7,"Margin below target",""))))))))))
N22: =IF($A22="","",Assumptions!$B$5) | O22: =IF($A22="","",Assumptions!$B$6) | P22: =IF(OR($A22="",$H22=""),"",IFERROR(VLOOKUP($H22,Assumptions!$H$5:$I$10,2,FALSE),"")) | Q22: =IF(OR($A22="",$J22="",$N22=""),"",IFERROR($J22*$N22,"")) | R22: =IF(OR($A22="",$K22="",$O22=""),"",IFERROR($K22*$O22,"")) | S22: =IF(OR($A22="",$H22="",$I22="",$P22=""),"",IFERROR($I22*$P22,"")) | T22: =IF(OR($A22="",$L22=""),"",IFERROR(SUM($Q22:$S22),"")) | U22: =IF(OR($A22="",$L22="",$T22=""),"",IFERROR($L22-$T22,"")) | V22: =IF(OR($A22="",$L22="",$L22=0),"",IFERROR($U22/$L22,"")) | W22: =IF(COUNTA($A22:$M22)=0,"",IF($A22="","Check service date",IF(OR($B22="",$C22="",$D22="",$E22="",$F22="",$G22="",$M22=""),"Check required service details",IF($M22<>"Completed","Review status before profitability use",IF(OR($J22="",$K22="",$L22=""),"Check missing labor, mileage, or revenue",IF($J22<=0,"Check service hours",IF($L22<=0,"Check revenue amount",IF(OR(AND($H22="",$I22<>""),AND($H22<>"",$I22="")),"Check product details",IF(AND($H22<>"",$P22=""),"Check product cost setup",IF($K22>Assumptions!$B$8,"Mileage above review threshold",IF($V22<Assumptions!$B$7,"Margin below target",""))))))))))
N23: =IF($A23="","",Assumptions!$B$5) | O23: =IF($A23="","",Assumptions!$B$6) | P23: =IF(OR($A23="",$H23=""),"",IFERROR(VLOOKUP($H23,Assumptions!$H$5:$I$10,2,FALSE),"")) | Q23: =IF(OR($A23="",$J23="",$N23=""),"",IFERROR($J23*$N23,"")) | R23: =IF(OR($A23="",$K23="",$O23=""),"",IFERROR($K23*$O23,"")) | S23: =IF(OR($A23="",$H23="",$I23="",$P23=""),"",IFERROR($I23*$P23,"")) | T23: =IF(OR($A23="",$L23=""),"",IFERROR(SUM($Q23:$S23),"")) | U23: =IF(OR($A23="",$L23="",$T23=""),"",IFERROR($L23-$T23,"")) | V23: =IF(OR($A23="",$L23="",$L23=0),"",IFERROR($U23/$L23,"")) | W23: =IF(COUNTA($A23:$M23)=0,"",IF($A23="","Check service date",IF(OR($B23="",$C23="",$D23="",$E23="",$F23="",$G23="",$M23=""),"Check required service details",IF($M23<>"Completed","Review status before profitability use",IF(OR($J23="",$K23="",$L23=""),"Check missing labor, mileage, or revenue",IF($J23<=0,"Check service hours",IF($L23<=0,"Check revenue amount",IF(OR(AND($H23="",$I23<>""),AND($H23<>"",$I23="")),"Check product details",IF(AND($H23<>"",$P23=""),"Check product cost setup",IF($K23>Assumptions!$B$8,"Mileage above review threshold",IF($V23<Assumptions!$B$7,"Margin below target",""))))))))))
N24: =IF($A24="","",Assumptions!$B$5) | O24: =IF($A24="","",Assumptions!$B$6) | P24: =IF(OR($A24="",$H24=""),"",IFERROR(VLOOKUP($H24,Assumptions!$H$5:$I$10,2,FALSE),"")) | Q24: =IF(OR($A24="",$J24="",$N24=""),"",IFERROR($J24*$N24,"")) | R24: =IF(OR($A24="",$K24="",$O24=""),"",IFERROR($K24*$O24,"")) | S24: =IF(OR($A24="",$H24="",$I24="",$P24=""),"",IFERROR($I24*$P24,"")) | T24: =IF(OR($A24="",$L24=""),"",IFERROR(SUM($Q24:$S24),"")) | U24: =IF(OR($A24="",$L24="",$T24=""),"",IFERROR($L24-$T24,"")) | V24: =IF(OR($A24="",$L24="",$L24=0),"",IFERROR($U24/$L24,"")) | W24: =IF(COUNTA($A24:$M24)=0,"",IF($A24="","Check service date",IF(OR($B24="",$C24="",$D24="",$E24="",$F24="",$G24="",$M24=""),"Check required service details",IF($M24<>"Completed","Review status before profitability use",IF(OR($J24="",$K24="",$L24=""),"Check missing labor, mileage, or revenue",IF($J24<=0,"Check service hours",IF($L24<=0,"Check revenue amount",IF(OR(AND($H24="",$I24<>""),AND($H24<>"",$I24="")),"Check product details",IF(AND($H24<>"",$P24=""),"Check product cost setup",IF($K24>Assumptions!$B$8,"Mileage above review threshold",IF($V24<Assumptions!$B$7,"Margin below target",""))))))))))
N25: =IF($A25="","",Assumptions!$B$5) | O25: =IF($A25="","",Assumptions!$B$6) | P25: =IF(OR($A25="",$H25=""),"",IFERROR(VLOOKUP($H25,Assumptions!$H$5:$I$10,2,FALSE),"")) | Q25: =IF(OR($A25="",$J25="",$N25=""),"",IFERROR($J25*$N25,"")) | R25: =IF(OR($A25="",$K25="",$O25=""),"",IFERROR($K25*$O25,"")) | S25: =IF(OR($A25="",$H25="",$I25="",$P25=""),"",IFERROR($I25*$P25,"")) | T25: =IF(OR($A25="",$L25=""),"",IFERROR(SUM($Q25:$S25),"")) | U25: =IF(OR($A25="",$L25="",$T25=""),"",IFERROR($L25-$T25,"")) | V25: =IF(OR($A25="",$L25="",$L25=0),"",IFERROR($U25/$L25,"")) | W25: =IF(COUNTA($A25:$M25)=0,"",IF($A25="","Check service date",IF(OR($B25="",$C25="",$D25="",$E25="",$F25="",$G25="",$M25=""),"Check required service details",IF($M25<>"Completed","Review status before profitability use",IF(OR($J25="",$K25="",$L25=""),"Check missing labor, mileage, or revenue",IF($J25<=0,"Check service hours",IF($L25<=0,"Check revenue amount",IF(OR(AND($H25="",$I25<>""),AND($H25<>"",$I25="")),"Check product details",IF(AND($H25<>"",$P25=""),"Check product cost setup",IF($K25>Assumptions!$B$8,"Mileage above review threshold",IF($V25<Assumptions!$B$7,"Margin below target",""))))))))))
N26: =IF($A26="","",Assumptions!$B$5) | O26: =IF($A26="","",Assumptions!$B$6) | P26: =IF(OR($A26="",$H26=""),"",IFERROR(VLOOKUP($H26,Assumptions!$H$5:$I$10,2,FALSE),"")) | Q26: =IF(OR($A26="",$J26="",$N26=""),"",IFERROR($J26*$N26,"")) | R26: =IF(OR($A26="",$K26="",$O26=""),"",IFERROR($K26*$O26,"")) | S26: =IF(OR($A26="",$H26="",$I26="",$P26=""),"",IFERROR($I26*$P26,"")) | T26: =IF(OR($A26="",$L26=""),"",IFERROR(SUM($Q26:$S26),"")) | U26: =IF(OR($A26="",$L26="",$T26=""),"",IFERROR($L26-$T26,"")) | V26: =IF(OR($A26="",$L26="",$L26=0),"",IFERROR($U26/$L26,"")) | W26: =IF(COUNTA($A26:$M26)=0,"",IF($A26="","Check service date",IF(OR($B26="",$C26="",$D26="",$E26="",$F26="",$G26="",$M26=""),"Check required service details",IF($M26<>"Completed","Review status before profitability use",IF(OR($J26="",$K26="",$L26=""),"Check missing labor, mileage, or revenue",IF($J26<=0,"Check service hours",IF($L26<=0,"Check revenue amount",IF(OR(AND($H26="",$I26<>""),AND($H26<>"",$I26="")),"Check product details",IF(AND($H26<>"",$P26=""),"Check product cost setup",IF($K26>Assumptions!$B$8,"Mileage above review threshold",IF($V26<Assumptions!$B$7,"Margin below target",""))))))))))
... N104: =IF($A104="","",Assumptions!$B$5) | O104: =IF($A104="","",Assumptions!$B$6) | P104: =IF(OR($A104="",$H104=""),"",IFERROR(VLOOKUP($H104,Assumptions!$H$5:$I$10,2,FALSE),"")) | Q104: =IF(OR($A104="",$J104="",$N104=""),"",IFERROR($J104*$N104,"")) | R104: =IF(OR($A104="",$K104="",$O104=""),"",IFERROR($K104*$O104,"")) | S104: =IF(OR($A104="",$H104="",$I104="",$P104=""),"",IFERROR($I104*$P104,"")) | T104: =IF(OR($A104="",$L104=""),"",IFERROR(SUM($Q104:$S104),"")) | U104: =IF(OR($A104="",$L104="",$T104=""),"",IFERROR($L104-$T104,"")) | V104: =IF(OR($A104="",$L104="",$L104=0),"",IFERROR($U104/$L104,"")) | W104: =IF(COUNTA($A104:$M104)=0,"",IF($A104="","Check service date",IF(OR($B104="",$C104="",$D104="",$E104="",$F104="",$G104="",$M104=""),"Check required service details",IF($M104<>"Completed","Review status before profitability use",IF(OR($J104="",$K104="",$L104=""),"Check missing labor, mileage, or revenue",IF($J104<=0,"Check service hours",IF($L104<=0,"Check revenue amount",IF(OR(AND($H104="",$I104<>""),AND($H104<>"",$I104="")),"Check product details",IF(AND($H104<>"",$P104=""),"Check product cost setup",IF($K104>Assumptions!$B$8,"Mileage above review threshold",IF($V104<Assumptions!$B$7,"Margin below target",""))))))))))

Sheet Assumptions
A1: Route Profitability Assumptions
A2: Edit yellow cells to reflect internal planning estimates. Rates, costs, and review thresholds are not guaranteed.
A4: Assumption | B4: Value | C4: Unit | D4: Routes | E4: Statuses | F4: Pest Concerns | G4: Services | H4: Products | I4: Cost per Ounce | K4: Technicians
A5: Labor hourly cost | B5: 32 | C5: $ per hour | D5: Fictional Route North | E5: Completed | F5: Ant activity | G5: Fictional Routine Visit | H5: Fictional Product Aster | I5: 1.85 | K5: Fictional Technician Juniper
A6: Mileage cost rate | B6: 0.72 | C6: $ per mile | D6: Fictional Route East | E6: Scheduled | F6: Rodent signs | G6: Fictional Inspection | H6: Fictional Product Birch | I6: 2.4 | K6: Fictional Technician Rowan
A7: Target contribution margin | B7: 0.35 | C7: Percent | D7: Fictional Route West | E7: Canceled | F7: Cockroach activity | G7: Fictional Follow-Up | H7: Fictional Product Cedar | I7: 3.1 | K7: Fictional Technician Sage
A8: High-mile visit check | B8: 45 | C8: Miles | D8: Fictional Route South | F8: Wasp activity | G8: Fictional Exterior Visit | H8: Fictional Product Drift | I8: 0.95 | K8: Fictional Technician Aspen
D9: Fictional Route Central | F9: Stored-product insects | G9: Fictional Monitoring Visit | H9: Fictional Product Ember | I9: 4.25
D10: Fictional Route Lakeside | F10: General inspection | H10: No Product Used | I10: 0
