Workbook

Sheet Summary
A1: Pest Control Sales Pipeline Summary
A2: Calculated from Pipeline entries. All included customers, sites, owners, routes, and opportunities are fictional.
A4: Pipeline Indicator | B4: Calculated Value | D4: Outcome Indicator | E4: Calculated Value
A5: Open or Held Opportunities | B5: =COUNTIF(Pipeline!$O$4:$O$103,"Open")+COUNTIF(Pipeline!$O$4:$O$103,"On Hold") | D5: Won Quoted Value | E5: =SUMIF(Pipeline!$O$4:$O$103,"Won",Pipeline!$L$4:$L$103)
A6: Open or Held Quoted Value | B6: =SUMIF(Pipeline!$O$4:$O$103,"Open",Pipeline!$L$4:$L$103)+SUMIF(Pipeline!$O$4:$O$103,"On Hold",Pipeline!$L$4:$L$103) | D6: Decision Win Rate | E6: =IFERROR(COUNTIF(Pipeline!$O$4:$O$103,"Won")/(COUNTIF(Pipeline!$O$4:$O$103,"Won")+COUNTIF(Pipeline!$O$4:$O$103,"Lost")),"")
A7: Open or Held Expected Value | B7: =SUMIF(Pipeline!$O$4:$O$103,"Open",Pipeline!$M$4:$M$103)+SUMIF(Pipeline!$O$4:$O$103,"On Hold",Pipeline!$M$4:$M$103) | D7: Targets in Forecast Horizon | E7: =COUNTIFS(Pipeline!$O$4:$O$103,"Open",Pipeline!$I$4:$I$103,">="&TODAY(),Pipeline!$I$4:$I$103,"<="&TODAY()+Assumptions!$K$9)+COUNTIFS(Pipeline!$O$4:$O$103,"On Hold",Pipeline!$I$4:$I$103,">="&TODAY(),Pipeline!$I$4:$I$103,"<="&TODAY()+Assumptions!$K$9)
A8: Average Open or Held Deal | B8: =IFERROR(B6/B5,"") | D8: Overdue Follow-Ups | E8: =COUNTIFS(Pipeline!$O$4:$O$103,"Open",Pipeline!$N$4:$N$103,"<"&TODAY(),Pipeline!$N$4:$N$103,"<>")+COUNTIFS(Pipeline!$O$4:$O$103,"On Hold",Pipeline!$N$4:$N$103,"<"&TODAY(),Pipeline!$N$4:$N$103,"<>")
A9: Pipeline Records | B9: =COUNTA(Pipeline!$A$4:$A$103) | D9: Won Opportunities | E9: =COUNTIF(Pipeline!$O$4:$O$103,"Won")
A12: Sales Stage | B12: Opportunity Count | C12: Quoted Amount | D12: Expected Value
A13: =Assumptions!A5 | B13: =COUNTIF(Pipeline!$J$4:$J$103,A13) | C13: =SUMIF(Pipeline!$J$4:$J$103,A13,Pipeline!$L$4:$L$103) | D13: =SUMIF(Pipeline!$J$4:$J$103,A13,Pipeline!$M$4:$M$103) | F13: Status | G13: Count | H13: Quoted Amount
A14: =Assumptions!A6 | B14: =COUNTIF(Pipeline!$J$4:$J$103,A14) | C14: =SUMIF(Pipeline!$J$4:$J$103,A14,Pipeline!$L$4:$L$103) | D14: =SUMIF(Pipeline!$J$4:$J$103,A14,Pipeline!$M$4:$M$103) | F14: =Assumptions!H5 | G14: =COUNTIF(Pipeline!$O$4:$O$103,F14) | H14: =SUMIF(Pipeline!$O$4:$O$103,F14,Pipeline!$L$4:$L$103)
A15: =Assumptions!A7 | B15: =COUNTIF(Pipeline!$J$4:$J$103,A15) | C15: =SUMIF(Pipeline!$J$4:$J$103,A15,Pipeline!$L$4:$L$103) | D15: =SUMIF(Pipeline!$J$4:$J$103,A15,Pipeline!$M$4:$M$103) | F15: =Assumptions!H6 | G15: =COUNTIF(Pipeline!$O$4:$O$103,F15) | H15: =SUMIF(Pipeline!$O$4:$O$103,F15,Pipeline!$L$4:$L$103)
A16: =Assumptions!A8 | B16: =COUNTIF(Pipeline!$J$4:$J$103,A16) | C16: =SUMIF(Pipeline!$J$4:$J$103,A16,Pipeline!$L$4:$L$103) | D16: =SUMIF(Pipeline!$J$4:$J$103,A16,Pipeline!$M$4:$M$103) | F16: =Assumptions!H7 | G16: =COUNTIF(Pipeline!$O$4:$O$103,F16) | H16: =SUMIF(Pipeline!$O$4:$O$103,F16,Pipeline!$L$4:$L$103)
A17: =Assumptions!A9 | B17: =COUNTIF(Pipeline!$J$4:$J$103,A17) | C17: =SUMIF(Pipeline!$J$4:$J$103,A17,Pipeline!$L$4:$L$103) | D17: =SUMIF(Pipeline!$J$4:$J$103,A17,Pipeline!$M$4:$M$103) | F17: =Assumptions!H8 | G17: =COUNTIF(Pipeline!$O$4:$O$103,F17) | H17: =SUMIF(Pipeline!$O$4:$O$103,F17,Pipeline!$L$4:$L$103)
A18: =Assumptions!A10 | B18: =COUNTIF(Pipeline!$J$4:$J$103,A18) | C18: =SUMIF(Pipeline!$J$4:$J$103,A18,Pipeline!$L$4:$L$103) | D18: =SUMIF(Pipeline!$J$4:$J$103,A18,Pipeline!$M$4:$M$103)
A19: =Assumptions!A11 | B19: =COUNTIF(Pipeline!$J$4:$J$103,A19) | C19: =SUMIF(Pipeline!$J$4:$J$103,A19,Pipeline!$L$4:$L$103) | D19: =SUMIF(Pipeline!$J$4:$J$103,A19,Pipeline!$M$4:$M$103)

Sheet Pipeline
A1: Pest Control Sales Pipeline
A2: Yellow cells are for entry. Calculated values and alerts update from the entered data and editable assumptions.
A3: Opportunity ID | B3: Customer | C3: Service Site | D3: Pest Concern | E3: Proposed Service | F3: Route | G3: Opportunity Owner | H3: Date Added | I3: Target Close Date | J3: Sales Stage | K3: Probability | L3: Quoted Amount | M3: Expected Value | N3: Next Follow-Up | O3: Status | P3: Days to Target | Q3: Human Check
A4: DEMO-26001 | B4: Fictional Lantern Café | C4: Fictional Site A, 101 Make-Believe Ave, Exampleville, TX 00000 | D4: Ants | E4: General Pest Service | F4: Demo Route Alpha | G4: Avery Example (Fictional) | H4: 46268 | I4: 46306 | J4: New Lead | K4: =IF(J4="","",IFERROR(VLOOKUP(J4,Assumptions!$A$5:$B$11,2,FALSE),"")) | L4: 1200 | M4: =IF(OR(K4="",L4=""),"",IFERROR(K4*L4,"")) | N4: 46275 | O4: Open | P4: =IF(OR(A4="",I4="",O4="Won",O4="Lost"),"",IFERROR(I4-TODAY(),"")) | Q4: =IF(A4="","",IF(OR(AND(O4="Won",J4<>"Closed Won"),AND(O4="Lost",J4<>"Closed Lost"),AND(J4="Closed Won",O4<>"Won"),AND(J4="Closed Lost",O4<>"Lost")),"Check stage/status",IF(OR(O4="Won",O4="Lost"),"",IF(I4="","Add target date",IF(I4<TODAY(),"Target date passed",IF(N4="","Add follow-up date",IF(N4<TODAY(),"Follow-up overdue","")))))))
A5: DEMO-26002 | B5: Imaginary Willow Offices | C5: Fictional Site B, 202 Pretend Plaza, Sampletown, TX 00000 | D5: Cockroaches | E5: Commercial Pest Service | F5: Demo Route Bravo | G5: Jordan Sample (Fictional) | H5: 46262 | I5: 46291 | J5: Qualified | K5: =IF(J5="","",IFERROR(VLOOKUP(J5,Assumptions!$A$5:$B$11,2,FALSE),"")) | L5: 2400 | M5: =IF(OR(K5="",L5=""),"",IFERROR(K5*L5,"")) | N5: 46276 | O5: Open | P5: =IF(OR(A5="",I5="",O5="Won",O5="Lost"),"",IFERROR(I5-TODAY(),"")) | Q5: =IF(A5="","",IF(OR(AND(O5="Won",J5<>"Closed Won"),AND(O5="Lost",J5<>"Closed Lost"),AND(J5="Closed Won",O5<>"Won"),AND(J5="Closed Lost",O5<>"Lost")),"Check stage/status",IF(OR(O5="Won",O5="Lost"),"",IF(I5="","Add target date",IF(I5<TODAY(),"Target date passed",IF(N5="","Add follow-up date",IF(N5<TODAY(),"Follow-up overdue","")))))))
A6: DEMO-26003 | B6: Demo Harbor Apartments | C6: Fictional Site C, 303 Imaginary Harbor Rd, Exampleville, FL 00000 | D6: Rodents | E6: Rodent Inspection | F6: Demo Route Cedar | G6: Morgan Demo (Fictional) | H6: 46256 | I6: 46283 | J6: Site Review | K6: =IF(J6="","",IFERROR(VLOOKUP(J6,Assumptions!$A$5:$B$11,2,FALSE),"")) | L6: 3600 | M6: =IF(OR(K6="",L6=""),"",IFERROR(K6*L6,"")) | N6: 46278 | O6: Open | P6: =IF(OR(A6="",I6="",O6="Won",O6="Lost"),"",IFERROR(I6-TODAY(),"")) | Q6: =IF(A6="","",IF(OR(AND(O6="Won",J6<>"Closed Won"),AND(O6="Lost",J6<>"Closed Lost"),AND(J6="Closed Won",O6<>"Won"),AND(J6="Closed Lost",O6<>"Lost")),"Check stage/status",IF(OR(O6="Won",O6="Lost"),"",IF(I6="","Add target date",IF(I6<TODAY(),"Target date passed",IF(N6="","Add follow-up date",IF(N6<TODAY(),"Follow-up overdue","")))))))
A7: DEMO-26004 | B7: Example Star Market | C7: Fictional Site D, 404 Sample Star St, Pretend City, AZ 00000 | D7: Cockroaches | E7: Commercial Pest Service | F7: Demo Route Delta | G7: Riley Placeholder (Fictional) | H7: 46251 | I7: 46297 | J7: Proposal Sent | K7: =IF(J7="","",IFERROR(VLOOKUP(J7,Assumptions!$A$5:$B$11,2,FALSE),"")) | L7: 1850 | M7: =IF(OR(K7="",L7=""),"",IFERROR(K7*L7,"")) | N7: 46279 | O7: Open | P7: =IF(OR(A7="",I7="",O7="Won",O7="Lost"),"",IFERROR(I7-TODAY(),"")) | Q7: =IF(A7="","",IF(OR(AND(O7="Won",J7<>"Closed Won"),AND(O7="Lost",J7<>"Closed Lost"),AND(J7="Closed Won",O7<>"Won"),AND(J7="Closed Lost",O7<>"Lost")),"Check stage/status",IF(OR(O7="Won",O7="Lost"),"",IF(I7="","Add target date",IF(I7<TODAY(),"Target date passed",IF(N7="","Add follow-up date",IF(N7<TODAY(),"Follow-up overdue","")))))))
A8: DEMO-26005 | B8: Fictional Bluebird Bakery | C8: Fictional Site E, 505 Make-Believe Blvd, Sampletown, GA 00000 | D8: Wasps | E8: Exterior Perimeter Service | F8: Demo Route Alpha | G8: Avery Example (Fictional) | H8: 46245 | I8: 46281 | J8: Verbal Yes | K8: =IF(J8="","",IFERROR(VLOOKUP(J8,Assumptions!$A$5:$B$11,2,FALSE),"")) | L8: 4200 | M8: =IF(OR(K8="",L8=""),"",IFERROR(K8*L8,"")) | N8: 46277 | O8: Open | P8: =IF(OR(A8="",I8="",O8="Won",O8="Lost"),"",IFERROR(I8-TODAY(),"")) | Q8: =IF(A8="","",IF(OR(AND(O8="Won",J8<>"Closed Won"),AND(O8="Lost",J8<>"Closed Lost"),AND(J8="Closed Won",O8<>"Won"),AND(J8="Closed Lost",O8<>"Lost")),"Check stage/status",IF(OR(O8="Won",O8="Lost"),"",IF(I8="","Add target date",IF(I8<TODAY(),"Target date passed",IF(N8="","Add follow-up date",IF(N8<TODAY(),"Follow-up overdue","")))))))
A9: DEMO-26006 | B9: Imaginary Cedar Warehouse | C9: Fictional Site F, 606 Pretend Cedar Ln, Example City, OH 00000 | D9: Rodents | E9: Commercial Pest Service | F9: Demo Route Bravo | G9: Jordan Sample (Fictional) | H9: 46231 | I9: 46266 | J9: Closed Won | K9: =IF(J9="","",IFERROR(VLOOKUP(J9,Assumptions!$A$5:$B$11,2,FALSE),"")) | L9: 5100 | M9: =IF(OR(K9="",L9=""),"",IFERROR(K9*L9,"")) | O9: Won | P9: =IF(OR(A9="",I9="",O9="Won",O9="Lost"),"",IFERROR(I9-TODAY(),"")) | Q9: =IF(A9="","",IF(OR(AND(O9="Won",J9<>"Closed Won"),AND(O9="Lost",J9<>"Closed Lost"),AND(J9="Closed Won",O9<>"Won"),AND(J9="Closed Lost",O9<>"Lost")),"Check stage/status",IF(OR(O9="Won",O9="Lost"),"",IF(I9="","Add target date",IF(I9<TODAY(),"Target date passed",IF(N9="","Add follow-up date",IF(N9<TODAY(),"Follow-up overdue","")))))))
A10: DEMO-26007 | B10: Demo Copper Hotel | C10: Fictional Site G, 707 Imaginary Copper Dr, Sample City, NV 00000 | D10: Termites | E10: Termite Inspection | F10: Demo Route Cedar | G10: Morgan Demo (Fictional) | H10: 46236 | I10: 46262 | J10: Closed Lost | K10: =IF(J10="","",IFERROR(VLOOKUP(J10,Assumptions!$A$5:$B$11,2,FALSE),"")) | L10: 900 | M10: =IF(OR(K10="",L10=""),"",IFERROR(K10*L10,"")) | O10: Lost | P10: =IF(OR(A10="",I10="",O10="Won",O10="Lost"),"",IFERROR(I10-TODAY(),"")) | Q10: =IF(A10="","",IF(OR(AND(O10="Won",J10<>"Closed Won"),AND(O10="Lost",J10<>"Closed Lost"),AND(J10="Closed Won",O10<>"Won"),AND(J10="Closed Lost",O10<>"Lost")),"Check stage/status",IF(OR(O10="Won",O10="Lost"),"",IF(I10="","Add target date",IF(I10<TODAY(),"Target date passed",IF(N10="","Add follow-up date",IF(N10<TODAY(),"Follow-up overdue","")))))))
A11: DEMO-26008 | B11: Example Meadow Clinic | C11: Fictional Site H, 808 Sample Meadow Ct, Pretend Town, CO 00000 | D11: Mosquitoes | E11: Mosquito Service | F11: Demo Route Delta | G11: Riley Placeholder (Fictional) | H11: 46258 | I11: 46321 | J11: Qualified | K11: =IF(J11="","",IFERROR(VLOOKUP(J11,Assumptions!$A$5:$B$11,2,FALSE),"")) | L11: 2750 | M11: =IF(OR(K11="",L11=""),"",IFERROR(K11*L11,"")) | N11: 46286 | O11: On Hold | P11: =IF(OR(A11="",I11="",O11="Won",O11="Lost"),"",IFERROR(I11-TODAY(),"")) | Q11: =IF(A11="","",IF(OR(AND(O11="Won",J11<>"Closed Won"),AND(O11="Lost",J11<>"Closed Lost"),AND(J11="Closed Won",O11<>"Won"),AND(J11="Closed Lost",O11<>"Lost")),"Check stage/status",IF(OR(O11="Won",O11="Lost"),"",IF(I11="","Add target date",IF(I11<TODAY(),"Target date passed",IF(N11="","Add follow-up date",IF(N11<TODAY(),"Follow-up overdue","")))))))
A12: DEMO-26009 | B12: Fictional Moonlight Diner | C12: Fictional Site I, 909 Make-Believe Moon Way, Example City, TN 00000 | D12: Ants | E12: General Pest Service | F12: Demo Route Alpha | G12: Avery Example (Fictional) | H12: 46247 | I12: 46274 | J12: Proposal Sent | K12: =IF(J12="","",IFERROR(VLOOKUP(J12,Assumptions!$A$5:$B$11,2,FALSE),"")) | L12: 3300 | M12: =IF(OR(K12="",L12=""),"",IFERROR(K12*L12,"")) | N12: 46273 | O12: Open | P12: =IF(OR(A12="",I12="",O12="Won",O12="Lost"),"",IFERROR(I12-TODAY(),"")) | Q12: =IF(A12="","",IF(OR(AND(O12="Won",J12<>"Closed Won"),AND(O12="Lost",J12<>"Closed Lost"),AND(J12="Closed Won",O12<>"Won"),AND(J12="Closed Lost",O12<>"Lost")),"Check stage/status",IF(OR(O12="Won",O12="Lost"),"",IF(I12="","Add target date",IF(I12<TODAY(),"Target date passed",IF(N12="","Add follow-up date",IF(N12<TODAY(),"Follow-up overdue","")))))))
A13: DEMO-26010 | B13: Imaginary Acorn Storage | C13: Fictional Site J, 100 Pretend Acorn Pkwy, Sampletown, NC 00000 | D13: Wasps | E13: Exterior Perimeter Service | F13: Demo Route Bravo | G13: Jordan Sample (Fictional) | H13: 46274 | I13: 46336 | J13: New Lead | K13: =IF(J13="","",IFERROR(VLOOKUP(J13,Assumptions!$A$5:$B$11,2,FALSE),"")) | L13: 0 | M13: =IF(OR(K13="",L13=""),"",IFERROR(K13*L13,"")) | N13: 46290 | O13: Open | P13: =IF(OR(A13="",I13="",O13="Won",O13="Lost"),"",IFERROR(I13-TODAY(),"")) | Q13: =IF(A13="","",IF(OR(AND(O13="Won",J13<>"Closed Won"),AND(O13="Lost",J13<>"Closed Lost"),AND(J13="Closed Won",O13<>"Won"),AND(J13="Closed Lost",O13<>"Lost")),"Check stage/status",IF(OR(O13="Won",O13="Lost"),"",IF(I13="","Add target date",IF(I13<TODAY(),"Target date passed",IF(N13="","Add follow-up date",IF(N13<TODAY(),"Follow-up overdue","")))))))
K14: =IF(J14="","",IFERROR(VLOOKUP(J14,Assumptions!$A$5:$B$11,2,FALSE),"")) | M14: =IF(OR(K14="",L14=""),"",IFERROR(K14*L14,"")) | P14: =IF(OR(A14="",I14="",O14="Won",O14="Lost"),"",IFERROR(I14-TODAY(),"")) | Q14: =IF(A14="","",IF(OR(AND(O14="Won",J14<>"Closed Won"),AND(O14="Lost",J14<>"Closed Lost"),AND(J14="Closed Won",O14<>"Won"),AND(J14="Closed Lost",O14<>"Lost")),"Check stage/status",IF(OR(O14="Won",O14="Lost"),"",IF(I14="","Add target date",IF(I14<TODAY(),"Target date passed",IF(N14="","Add follow-up date",IF(N14<TODAY(),"Follow-up overdue","")))))))
K15: =IF(J15="","",IFERROR(VLOOKUP(J15,Assumptions!$A$5:$B$11,2,FALSE),"")) | M15: =IF(OR(K15="",L15=""),"",IFERROR(K15*L15,"")) | P15: =IF(OR(A15="",I15="",O15="Won",O15="Lost"),"",IFERROR(I15-TODAY(),"")) | Q15: =IF(A15="","",IF(OR(AND(O15="Won",J15<>"Closed Won"),AND(O15="Lost",J15<>"Closed Lost"),AND(J15="Closed Won",O15<>"Won"),AND(J15="Closed Lost",O15<>"Lost")),"Check stage/status",IF(OR(O15="Won",O15="Lost"),"",IF(I15="","Add target date",IF(I15<TODAY(),"Target date passed",IF(N15="","Add follow-up date",IF(N15<TODAY(),"Follow-up overdue","")))))))
K16: =IF(J16="","",IFERROR(VLOOKUP(J16,Assumptions!$A$5:$B$11,2,FALSE),"")) | M16: =IF(OR(K16="",L16=""),"",IFERROR(K16*L16,"")) | P16: =IF(OR(A16="",I16="",O16="Won",O16="Lost"),"",IFERROR(I16-TODAY(),"")) | Q16: =IF(A16="","",IF(OR(AND(O16="Won",J16<>"Closed Won"),AND(O16="Lost",J16<>"Closed Lost"),AND(J16="Closed Won",O16<>"Won"),AND(J16="Closed Lost",O16<>"Lost")),"Check stage/status",IF(OR(O16="Won",O16="Lost"),"",IF(I16="","Add target date",IF(I16<TODAY(),"Target date passed",IF(N16="","Add follow-up date",IF(N16<TODAY(),"Follow-up overdue","")))))))
K17: =IF(J17="","",IFERROR(VLOOKUP(J17,Assumptions!$A$5:$B$11,2,FALSE),"")) | M17: =IF(OR(K17="",L17=""),"",IFERROR(K17*L17,"")) | P17: =IF(OR(A17="",I17="",O17="Won",O17="Lost"),"",IFERROR(I17-TODAY(),"")) | Q17: =IF(A17="","",IF(OR(AND(O17="Won",J17<>"Closed Won"),AND(O17="Lost",J17<>"Closed Lost"),AND(J17="Closed Won",O17<>"Won"),AND(J17="Closed Lost",O17<>"Lost")),"Check stage/status",IF(OR(O17="Won",O17="Lost"),"",IF(I17="","Add target date",IF(I17<TODAY(),"Target date passed",IF(N17="","Add follow-up date",IF(N17<TODAY(),"Follow-up overdue","")))))))
K18: =IF(J18="","",IFERROR(VLOOKUP(J18,Assumptions!$A$5:$B$11,2,FALSE),"")) | M18: =IF(OR(K18="",L18=""),"",IFERROR(K18*L18,"")) | P18: =IF(OR(A18="",I18="",O18="Won",O18="Lost"),"",IFERROR(I18-TODAY(),"")) | Q18: =IF(A18="","",IF(OR(AND(O18="Won",J18<>"Closed Won"),AND(O18="Lost",J18<>"Closed Lost"),AND(J18="Closed Won",O18<>"Won"),AND(J18="Closed Lost",O18<>"Lost")),"Check stage/status",IF(OR(O18="Won",O18="Lost"),"",IF(I18="","Add target date",IF(I18<TODAY(),"Target date passed",IF(N18="","Add follow-up date",IF(N18<TODAY(),"Follow-up overdue","")))))))
K19: =IF(J19="","",IFERROR(VLOOKUP(J19,Assumptions!$A$5:$B$11,2,FALSE),"")) | M19: =IF(OR(K19="",L19=""),"",IFERROR(K19*L19,"")) | P19: =IF(OR(A19="",I19="",O19="Won",O19="Lost"),"",IFERROR(I19-TODAY(),"")) | Q19: =IF(A19="","",IF(OR(AND(O19="Won",J19<>"Closed Won"),AND(O19="Lost",J19<>"Closed Lost"),AND(J19="Closed Won",O19<>"Won"),AND(J19="Closed Lost",O19<>"Lost")),"Check stage/status",IF(OR(O19="Won",O19="Lost"),"",IF(I19="","Add target date",IF(I19<TODAY(),"Target date passed",IF(N19="","Add follow-up date",IF(N19<TODAY(),"Follow-up overdue","")))))))
K20: =IF(J20="","",IFERROR(VLOOKUP(J20,Assumptions!$A$5:$B$11,2,FALSE),"")) | M20: =IF(OR(K20="",L20=""),"",IFERROR(K20*L20,"")) | P20: =IF(OR(A20="",I20="",O20="Won",O20="Lost"),"",IFERROR(I20-TODAY(),"")) | Q20: =IF(A20="","",IF(OR(AND(O20="Won",J20<>"Closed Won"),AND(O20="Lost",J20<>"Closed Lost"),AND(J20="Closed Won",O20<>"Won"),AND(J20="Closed Lost",O20<>"Lost")),"Check stage/status",IF(OR(O20="Won",O20="Lost"),"",IF(I20="","Add target date",IF(I20<TODAY(),"Target date passed",IF(N20="","Add follow-up date",IF(N20<TODAY(),"Follow-up overdue","")))))))
K21: =IF(J21="","",IFERROR(VLOOKUP(J21,Assumptions!$A$5:$B$11,2,FALSE),"")) | M21: =IF(OR(K21="",L21=""),"",IFERROR(K21*L21,"")) | P21: =IF(OR(A21="",I21="",O21="Won",O21="Lost"),"",IFERROR(I21-TODAY(),"")) | Q21: =IF(A21="","",IF(OR(AND(O21="Won",J21<>"Closed Won"),AND(O21="Lost",J21<>"Closed Lost"),AND(J21="Closed Won",O21<>"Won"),AND(J21="Closed Lost",O21<>"Lost")),"Check stage/status",IF(OR(O21="Won",O21="Lost"),"",IF(I21="","Add target date",IF(I21<TODAY(),"Target date passed",IF(N21="","Add follow-up date",IF(N21<TODAY(),"Follow-up overdue","")))))))
K22: =IF(J22="","",IFERROR(VLOOKUP(J22,Assumptions!$A$5:$B$11,2,FALSE),"")) | M22: =IF(OR(K22="",L22=""),"",IFERROR(K22*L22,"")) | P22: =IF(OR(A22="",I22="",O22="Won",O22="Lost"),"",IFERROR(I22-TODAY(),"")) | Q22: =IF(A22="","",IF(OR(AND(O22="Won",J22<>"Closed Won"),AND(O22="Lost",J22<>"Closed Lost"),AND(J22="Closed Won",O22<>"Won"),AND(J22="Closed Lost",O22<>"Lost")),"Check stage/status",IF(OR(O22="Won",O22="Lost"),"",IF(I22="","Add target date",IF(I22<TODAY(),"Target date passed",IF(N22="","Add follow-up date",IF(N22<TODAY(),"Follow-up overdue","")))))))
K23: =IF(J23="","",IFERROR(VLOOKUP(J23,Assumptions!$A$5:$B$11,2,FALSE),"")) | M23: =IF(OR(K23="",L23=""),"",IFERROR(K23*L23,"")) | P23: =IF(OR(A23="",I23="",O23="Won",O23="Lost"),"",IFERROR(I23-TODAY(),"")) | Q23: =IF(A23="","",IF(OR(AND(O23="Won",J23<>"Closed Won"),AND(O23="Lost",J23<>"Closed Lost"),AND(J23="Closed Won",O23<>"Won"),AND(J23="Closed Lost",O23<>"Lost")),"Check stage/status",IF(OR(O23="Won",O23="Lost"),"",IF(I23="","Add target date",IF(I23<TODAY(),"Target date passed",IF(N23="","Add follow-up date",IF(N23<TODAY(),"Follow-up overdue","")))))))
K24: =IF(J24="","",IFERROR(VLOOKUP(J24,Assumptions!$A$5:$B$11,2,FALSE),"")) | M24: =IF(OR(K24="",L24=""),"",IFERROR(K24*L24,"")) | P24: =IF(OR(A24="",I24="",O24="Won",O24="Lost"),"",IFERROR(I24-TODAY(),"")) | Q24: =IF(A24="","",IF(OR(AND(O24="Won",J24<>"Closed Won"),AND(O24="Lost",J24<>"Closed Lost"),AND(J24="Closed Won",O24<>"Won"),AND(J24="Closed Lost",O24<>"Lost")),"Check stage/status",IF(OR(O24="Won",O24="Lost"),"",IF(I24="","Add target date",IF(I24<TODAY(),"Target date passed",IF(N24="","Add follow-up date",IF(N24<TODAY(),"Follow-up overdue","")))))))
K25: =IF(J25="","",IFERROR(VLOOKUP(J25,Assumptions!$A$5:$B$11,2,FALSE),"")) | M25: =IF(OR(K25="",L25=""),"",IFERROR(K25*L25,"")) | P25: =IF(OR(A25="",I25="",O25="Won",O25="Lost"),"",IFERROR(I25-TODAY(),"")) | Q25: =IF(A25="","",IF(OR(AND(O25="Won",J25<>"Closed Won"),AND(O25="Lost",J25<>"Closed Lost"),AND(J25="Closed Won",O25<>"Won"),AND(J25="Closed Lost",O25<>"Lost")),"Check stage/status",IF(OR(O25="Won",O25="Lost"),"",IF(I25="","Add target date",IF(I25<TODAY(),"Target date passed",IF(N25="","Add follow-up date",IF(N25<TODAY(),"Follow-up overdue","")))))))
... K103: =IF(J103="","",IFERROR(VLOOKUP(J103,Assumptions!$A$5:$B$11,2,FALSE),"")) | M103: =IF(OR(K103="",L103=""),"",IFERROR(K103*L103,"")) | P103: =IF(OR(A103="",I103="",O103="Won",O103="Lost"),"",IFERROR(I103-TODAY(),"")) | Q103: =IF(A103="","",IF(OR(AND(O103="Won",J103<>"Closed Won"),AND(O103="Lost",J103<>"Closed Lost"),AND(J103="Closed Won",O103<>"Won"),AND(J103="Closed Lost",O103<>"Lost")),"Check stage/status",IF(OR(O103="Won",O103="Lost"),"",IF(I103="","Add target date",IF(I103<TODAY(),"Target date passed",IF(N103="","Add follow-up date",IF(N103<TODAY(),"Follow-up overdue","")))))))

Sheet Assumptions
A1: Assumptions & Lists
A2: Yellow cells are editable. Update choices and limits before using the forecast.
A4: Sales Stage | B4: Probability | D4: Pest Concern | E4: Proposed Service | F4: Route | G4: Opportunity Owner | H4: Status | J4: Setting | K4: Value | L4: Unit or Purpose
A5: New Lead | B5: 0.1 | D5: Ants | E5: General Pest Service | F5: Demo Route Alpha | G5: Avery Example (Fictional) | H5: Open | J5: Minimum quoted amount | K5: 0 | L5: US dollars
A6: Qualified | B6: 0.25 | D6: Cockroaches | E6: Rodent Inspection | F6: Demo Route Bravo | G6: Jordan Sample (Fictional) | H6: On Hold | J6: Maximum quoted amount | K6: 100000 | L6: US dollars
A7: Site Review | B7: 0.45 | D7: Rodents | E7: Termite Inspection | F7: Demo Route Cedar | G7: Morgan Demo (Fictional) | H7: Won | J7: Earliest entry date | K7: 45911 | L7: MM/DD/YYYY
A8: Proposal Sent | B8: 0.65 | D8: Termites | E8: Mosquito Service | F8: Demo Route Delta | G8: Riley Placeholder (Fictional) | H8: Lost | J8: Latest planning date | K8: 47006 | L8: MM/DD/YYYY
A9: Verbal Yes | B9: 0.85 | D9: Mosquitoes | E9: Exterior Perimeter Service | J9: Forecast horizon | K9: 30 | L9: days
A10: Closed Won | B10: 1 | D10: Wasps | E10: Commercial Pest Service
A11: Closed Lost | B11: 0
A13: Probabilities are planning assumptions, not guarantees. Review all alerts manually.
