Workbook

Sheet Summary
A1: Pest Control Service Line Margin Analysis
A2: Completed fictional service records within the selected dates only. Targets and cost assumptions are editable, and alerts require a human review.
A3: Analysis Start | B3: =Assumptions!$B$3 | D3: Completed Services | E3: =SUM($B$9:$B$13) | G3: Overall Margin % | H3: =IFERROR($E$6/$E$4,"")
A4: Analysis End | B4: =Assumptions!$B$4 | D4: Revenue | E4: =IF($E$3=0,"",SUM($C$9:$C$13)) | G4: Lines Below Target | H4: =COUNTIF($J$9:$J$13,"Below target")
D5: Direct Cost | E5: =IF($E$3=0,"",SUM($D$9:$D$13)) | G5: Records Needing Review | H5: =COUNTIFS('Service Records'!$R$5:$R$124,"Completed",'Service Records'!$Y$5:$Y$124,"<>OK",'Service Records'!$Y$5:$Y$124,"<>",'Service Records'!$A$5:$A$124,">="&Assumptions!$B$3,'Service Records'!$A$5:$A$124,"<="&Assumptions!$B$4)
D6: Gross Margin | E6: =IF(OR($E$4="",$E$5=""),"",$E$4-$E$5) | G6: Average Revenue / Service | H6: =IFERROR($E$4/$E$3,"")
A8: Service Line | B8: Completed | C8: Revenue | D8: Direct Cost | E8: Gross Margin | F8: Margin % | G8: Target | H8: Variance | I8: Average Revenue | J8: Review
A9: General Pest | B9: =COUNTIFS('Service Records'!$E$5:$E$124,$A9,'Service Records'!$R$5:$R$124,"Completed",'Service Records'!$A$5:$A$124,">="&Assumptions!$B$3,'Service Records'!$A$5:$A$124,"<="&Assumptions!$B$4) | C9: =IF($B9=0,"",SUMIFS('Service Records'!$K$5:$K$124,'Service Records'!$E$5:$E$124,$A9,'Service Records'!$R$5:$R$124,"Completed",'Service Records'!$A$5:$A$124,">="&Assumptions!$B$3,'Service Records'!$A$5:$A$124,"<="&Assumptions!$B$4)) | D9: =IF($B9=0,"",SUMIFS('Service Records'!$V$5:$V$124,'Service Records'!$E$5:$E$124,$A9,'Service Records'!$R$5:$R$124,"Completed",'Service Records'!$A$5:$A$124,">="&Assumptions!$B$3,'Service Records'!$A$5:$A$124,"<="&Assumptions!$B$4)) | E9: =IF(OR($C9="",$D9=""),"",$C9-$D9) | F9: =IFERROR($E9/$C9,"") | G9: =IFERROR(VLOOKUP($A9,Assumptions!$D$3:$E$7,2,FALSE),"") | H9: =IF(OR($F9="",$G9=""),"",$F9-$G9) | I9: =IFERROR($C9/$B9,"") | J9: =IF($B9=0,"No completed data",IF(OR($F9="",$G9=""),"Review revenue",IF($F9<$G9,"Below target","At/above target")))
A10: Termite | B10: =COUNTIFS('Service Records'!$E$5:$E$124,$A10,'Service Records'!$R$5:$R$124,"Completed",'Service Records'!$A$5:$A$124,">="&Assumptions!$B$3,'Service Records'!$A$5:$A$124,"<="&Assumptions!$B$4) | C10: =IF($B10=0,"",SUMIFS('Service Records'!$K$5:$K$124,'Service Records'!$E$5:$E$124,$A10,'Service Records'!$R$5:$R$124,"Completed",'Service Records'!$A$5:$A$124,">="&Assumptions!$B$3,'Service Records'!$A$5:$A$124,"<="&Assumptions!$B$4)) | D10: =IF($B10=0,"",SUMIFS('Service Records'!$V$5:$V$124,'Service Records'!$E$5:$E$124,$A10,'Service Records'!$R$5:$R$124,"Completed",'Service Records'!$A$5:$A$124,">="&Assumptions!$B$3,'Service Records'!$A$5:$A$124,"<="&Assumptions!$B$4)) | E10: =IF(OR($C10="",$D10=""),"",$C10-$D10) | F10: =IFERROR($E10/$C10,"") | G10: =IFERROR(VLOOKUP($A10,Assumptions!$D$3:$E$7,2,FALSE),"") | H10: =IF(OR($F10="",$G10=""),"",$F10-$G10) | I10: =IFERROR($C10/$B10,"") | J10: =IF($B10=0,"No completed data",IF(OR($F10="",$G10=""),"Review revenue",IF($F10<$G10,"Below target","At/above target")))
A11: Rodent | B11: =COUNTIFS('Service Records'!$E$5:$E$124,$A11,'Service Records'!$R$5:$R$124,"Completed",'Service Records'!$A$5:$A$124,">="&Assumptions!$B$3,'Service Records'!$A$5:$A$124,"<="&Assumptions!$B$4) | C11: =IF($B11=0,"",SUMIFS('Service Records'!$K$5:$K$124,'Service Records'!$E$5:$E$124,$A11,'Service Records'!$R$5:$R$124,"Completed",'Service Records'!$A$5:$A$124,">="&Assumptions!$B$3,'Service Records'!$A$5:$A$124,"<="&Assumptions!$B$4)) | D11: =IF($B11=0,"",SUMIFS('Service Records'!$V$5:$V$124,'Service Records'!$E$5:$E$124,$A11,'Service Records'!$R$5:$R$124,"Completed",'Service Records'!$A$5:$A$124,">="&Assumptions!$B$3,'Service Records'!$A$5:$A$124,"<="&Assumptions!$B$4)) | E11: =IF(OR($C11="",$D11=""),"",$C11-$D11) | F11: =IFERROR($E11/$C11,"") | G11: =IFERROR(VLOOKUP($A11,Assumptions!$D$3:$E$7,2,FALSE),"") | H11: =IF(OR($F11="",$G11=""),"",$F11-$G11) | I11: =IFERROR($C11/$B11,"") | J11: =IF($B11=0,"No completed data",IF(OR($F11="",$G11=""),"Review revenue",IF($F11<$G11,"Below target","At/above target")))
A12: Mosquito | B12: =COUNTIFS('Service Records'!$E$5:$E$124,$A12,'Service Records'!$R$5:$R$124,"Completed",'Service Records'!$A$5:$A$124,">="&Assumptions!$B$3,'Service Records'!$A$5:$A$124,"<="&Assumptions!$B$4) | C12: =IF($B12=0,"",SUMIFS('Service Records'!$K$5:$K$124,'Service Records'!$E$5:$E$124,$A12,'Service Records'!$R$5:$R$124,"Completed",'Service Records'!$A$5:$A$124,">="&Assumptions!$B$3,'Service Records'!$A$5:$A$124,"<="&Assumptions!$B$4)) | D12: =IF($B12=0,"",SUMIFS('Service Records'!$V$5:$V$124,'Service Records'!$E$5:$E$124,$A12,'Service Records'!$R$5:$R$124,"Completed",'Service Records'!$A$5:$A$124,">="&Assumptions!$B$3,'Service Records'!$A$5:$A$124,"<="&Assumptions!$B$4)) | E12: =IF(OR($C12="",$D12=""),"",$C12-$D12) | F12: =IFERROR($E12/$C12,"") | G12: =IFERROR(VLOOKUP($A12,Assumptions!$D$3:$E$7,2,FALSE),"") | H12: =IF(OR($F12="",$G12=""),"",$F12-$G12) | I12: =IFERROR($C12/$B12,"") | J12: =IF($B12=0,"No completed data",IF(OR($F12="",$G12=""),"Review revenue",IF($F12<$G12,"Below target","At/above target")))
A13: Specialty | B13: =COUNTIFS('Service Records'!$E$5:$E$124,$A13,'Service Records'!$R$5:$R$124,"Completed",'Service Records'!$A$5:$A$124,">="&Assumptions!$B$3,'Service Records'!$A$5:$A$124,"<="&Assumptions!$B$4) | C13: =IF($B13=0,"",SUMIFS('Service Records'!$K$5:$K$124,'Service Records'!$E$5:$E$124,$A13,'Service Records'!$R$5:$R$124,"Completed",'Service Records'!$A$5:$A$124,">="&Assumptions!$B$3,'Service Records'!$A$5:$A$124,"<="&Assumptions!$B$4)) | D13: =IF($B13=0,"",SUMIFS('Service Records'!$V$5:$V$124,'Service Records'!$E$5:$E$124,$A13,'Service Records'!$R$5:$R$124,"Completed",'Service Records'!$A$5:$A$124,">="&Assumptions!$B$3,'Service Records'!$A$5:$A$124,"<="&Assumptions!$B$4)) | E13: =IF(OR($C13="",$D13=""),"",$C13-$D13) | F13: =IFERROR($E13/$C13,"") | G13: =IFERROR(VLOOKUP($A13,Assumptions!$D$3:$E$7,2,FALSE),"") | H13: =IF(OR($F13="",$G13=""),"",$F13-$G13) | I13: =IFERROR($C13/$B13,"") | J13: =IF($B13=0,"No completed data",IF(OR($F13="",$G13=""),"Review revenue",IF($F13<$G13,"Below target","At/above target")))

Sheet Service Records
A1: Fictional Pest Control Service Records
A2: Yellow cells are user inputs. Calculated direct costs use editable assumptions. Review alerts are prompts for a human check and do not represent an official status.
A4: Service Date | B4: Customer | C4: Service Site | D4: Pest Concern | E4: Service Line | F4: Technician | G4: Route | H4: Product | I4: Product Quantity | J4: Product Unit | K4: Revenue | L4: Labor Hours | M4: Labor Rate | N4: Product Unit Cost | O4: Route Miles | P4: Mileage Rate | Q4: Other Direct Cost | R4: Status | S4: Labor Cost | T4: Product Cost | U4: Mileage Cost | V4: Total Direct Cost | W4: Gross Margin | X4: Margin % | Y4: Review Alert
A5: 46186 | B5: Fictional Blue Acorn Bakery | C5: Fictional Site A, 100 Imaginary Way, Exampleville, ZZ 00000 | D5: General Insect Activity | E5: General Pest | F5: Fictional Technician Indigo | G5: Fictional Route Amber | H5: Demo Residual A (Fictional) | I5: 2 | J5: =IF($A5="","",IF($H5="","",IFERROR(VLOOKUP($H5,Assumptions!$N$3:$P$8,2,FALSE),""))) | K5: 165 | L5: 1.5 | M5: =IF($A5="","",IF($F5="","",IFERROR(VLOOKUP($F5,Assumptions!$I$3:$J$6,2,FALSE),""))) | N5: =IF($A5="","",IF($H5="","",IFERROR(VLOOKUP($H5,Assumptions!$N$3:$P$8,3,FALSE),""))) | O5: 14 | P5: =IF(OR($A5="",$O5=""),"",Assumptions!$B$5) | Q5: 0 | R5: Completed | S5: =IF(OR($A5="",$L5="",$M5=""),"",IFERROR($L5*$M5,"")) | T5: =IF($A5="","",IF($H5="",0,IF(OR($I5="",$N5=""),"",IFERROR($I5*$N5,"")))) | U5: =IF($A5="","",IF($O5="",0,IFERROR($O5*$P5,""))) | V5: =IF(OR($A5="",$K5="",$L5="",$M5=""),"",IF(AND($H5<>"",OR($I5="",$N5="")),"",IF(AND($O5<>"",$P5=""),"",SUM($Q5,$S5:$U5)))) | W5: =IF(OR($A5="",$K5="",$V5=""),"",$K5-$V5) | X5: =IF(OR($A5="",$K5="",$W5=""),"",IFERROR($W5/$K5,"")) | Y5: =IF($A5="","",IF($R5="Canceled","Excluded: canceled",IF(OR($B5="",$C5="",$D5="",$E5="",$F5="",$G5="",$K5="",$L5="",$R5=""),"Review missing input",IF($R5<>"Completed","Review status",IF($K5=0,"Review zero revenue",IF(OR(AND($H5<>"",OR($I5="",$N5="")),AND($H5="",$I5<>"")),"Review product input",IF(IFERROR(VLOOKUP($E5,Assumptions!$D$3:$E$7,2,FALSE),"")="","Review target",IF($X5<IFERROR(VLOOKUP($E5,Assumptions!$D$3:$E$7,2,FALSE),0),"Below target","OK"))))))))
A6: 46194 | B6: Fictional Silver Kite Storage | C6: Fictional Site B, 200 Placeholder Road, Sampletown, ZZ 00000 | D6: Termite Evidence | E6: Termite | F6: Fictional Technician Cedar | G6: Fictional Route Copper | H6: Demo Liquid C (Fictional) | I6: 1 | J6: =IF($A6="","",IF($H6="","",IFERROR(VLOOKUP($H6,Assumptions!$N$3:$P$8,2,FALSE),""))) | K6: 1450 | L6: 6.5 | M6: =IF($A6="","",IF($F6="","",IFERROR(VLOOKUP($F6,Assumptions!$I$3:$J$6,2,FALSE),""))) | N6: =IF($A6="","",IF($H6="","",IFERROR(VLOOKUP($H6,Assumptions!$N$3:$P$8,3,FALSE),""))) | O6: 28 | P6: =IF(OR($A6="",$O6=""),"",Assumptions!$B$5) | Q6: 95 | R6: Completed | S6: =IF(OR($A6="",$L6="",$M6=""),"",IFERROR($L6*$M6,"")) | T6: =IF($A6="","",IF($H6="",0,IF(OR($I6="",$N6=""),"",IFERROR($I6*$N6,"")))) | U6: =IF($A6="","",IF($O6="",0,IFERROR($O6*$P6,""))) | V6: =IF(OR($A6="",$K6="",$L6="",$M6=""),"",IF(AND($H6<>"",OR($I6="",$N6="")),"",IF(AND($O6<>"",$P6=""),"",SUM($Q6,$S6:$U6)))) | W6: =IF(OR($A6="",$K6="",$V6=""),"",$K6-$V6) | X6: =IF(OR($A6="",$K6="",$W6=""),"",IFERROR($W6/$K6,"")) | Y6: =IF($A6="","",IF($R6="Canceled","Excluded: canceled",IF(OR($B6="",$C6="",$D6="",$E6="",$F6="",$G6="",$K6="",$L6="",$R6=""),"Review missing input",IF($R6<>"Completed","Review status",IF($K6=0,"Review zero revenue",IF(OR(AND($H6<>"",OR($I6="",$N6="")),AND($H6="",$I6<>"")),"Review product input",IF(IFERROR(VLOOKUP($E6,Assumptions!$D$3:$E$7,2,FALSE),"")="","Review target",IF($X6<IFERROR(VLOOKUP($E6,Assumptions!$D$3:$E$7,2,FALSE),0),"Below target","OK"))))))))
A7: 46203 | B7: Fictional Red Lantern Cafe | C7: Fictional Site C, 300 Fiction Lane, Exampleville, ZZ 00000 | D7: Rodent Activity | E7: Rodent | F7: Fictional Technician Juniper | G7: Fictional Route Blue | H7: Demo Bait Station B (Fictional) | I7: 4 | J7: =IF($A7="","",IF($H7="","",IFERROR(VLOOKUP($H7,Assumptions!$N$3:$P$8,2,FALSE),""))) | K7: 420 | L7: 3 | M7: =IF($A7="","",IF($F7="","",IFERROR(VLOOKUP($F7,Assumptions!$I$3:$J$6,2,FALSE),""))) | N7: =IF($A7="","",IF($H7="","",IFERROR(VLOOKUP($H7,Assumptions!$N$3:$P$8,3,FALSE),""))) | O7: 19 | P7: =IF(OR($A7="",$O7=""),"",Assumptions!$B$5) | Q7: 12 | R7: Completed | S7: =IF(OR($A7="",$L7="",$M7=""),"",IFERROR($L7*$M7,"")) | T7: =IF($A7="","",IF($H7="",0,IF(OR($I7="",$N7=""),"",IFERROR($I7*$N7,"")))) | U7: =IF($A7="","",IF($O7="",0,IFERROR($O7*$P7,""))) | V7: =IF(OR($A7="",$K7="",$L7="",$M7=""),"",IF(AND($H7<>"",OR($I7="",$N7="")),"",IF(AND($O7<>"",$P7=""),"",SUM($Q7,$S7:$U7)))) | W7: =IF(OR($A7="",$K7="",$V7=""),"",$K7-$V7) | X7: =IF(OR($A7="",$K7="",$W7=""),"",IFERROR($W7/$K7,"")) | Y7: =IF($A7="","",IF($R7="Canceled","Excluded: canceled",IF(OR($B7="",$C7="",$D7="",$E7="",$F7="",$G7="",$K7="",$L7="",$R7=""),"Review missing input",IF($R7<>"Completed","Review status",IF($K7=0,"Review zero revenue",IF(OR(AND($H7<>"",OR($I7="",$N7="")),AND($H7="",$I7<>"")),"Review product input",IF(IFERROR(VLOOKUP($E7,Assumptions!$D$3:$E$7,2,FALSE),"")="","Review target",IF($X7<IFERROR(VLOOKUP($E7,Assumptions!$D$3:$E$7,2,FALSE),0),"Below target","OK"))))))))
A8: 46212 | B8: Fictional Moonberry Offices | C8: Fictional Site D, 400 Imaginary Circle, Sampletown, ZZ 00000 | D8: Mosquito Activity | E8: Mosquito | F8: Fictional Technician Orbit | G8: Fictional Route Green | H8: Demo Liquid C (Fictional) | I8: 1.5 | J8: =IF($A8="","",IF($H8="","",IFERROR(VLOOKUP($H8,Assumptions!$N$3:$P$8,2,FALSE),""))) | K8: 235 | L8: 1.75 | M8: =IF($A8="","",IF($F8="","",IFERROR(VLOOKUP($F8,Assumptions!$I$3:$J$6,2,FALSE),""))) | N8: =IF($A8="","",IF($H8="","",IFERROR(VLOOKUP($H8,Assumptions!$N$3:$P$8,3,FALSE),""))) | O8: 22 | P8: =IF(OR($A8="",$O8=""),"",Assumptions!$B$5) | Q8: 0 | R8: Completed | S8: =IF(OR($A8="",$L8="",$M8=""),"",IFERROR($L8*$M8,"")) | T8: =IF($A8="","",IF($H8="",0,IF(OR($I8="",$N8=""),"",IFERROR($I8*$N8,"")))) | U8: =IF($A8="","",IF($O8="",0,IFERROR($O8*$P8,""))) | V8: =IF(OR($A8="",$K8="",$L8="",$M8=""),"",IF(AND($H8<>"",OR($I8="",$N8="")),"",IF(AND($O8<>"",$P8=""),"",SUM($Q8,$S8:$U8)))) | W8: =IF(OR($A8="",$K8="",$V8=""),"",$K8-$V8) | X8: =IF(OR($A8="",$K8="",$W8=""),"",IFERROR($W8/$K8,"")) | Y8: =IF($A8="","",IF($R8="Canceled","Excluded: canceled",IF(OR($B8="",$C8="",$D8="",$E8="",$F8="",$G8="",$K8="",$L8="",$R8=""),"Review missing input",IF($R8<>"Completed","Review status",IF($K8=0,"Review zero revenue",IF(OR(AND($H8<>"",OR($I8="",$N8="")),AND($H8="",$I8<>"")),"Review product input",IF(IFERROR(VLOOKUP($E8,Assumptions!$D$3:$E$7,2,FALSE),"")="","Review target",IF($X8<IFERROR(VLOOKUP($E8,Assumptions!$D$3:$E$7,2,FALSE),0),"Below target","OK"))))))))
A9: 46221 | B9: Fictional Paper Fox Workshop | C9: Fictional Site E, 500 Placeholder Avenue, Exampleville, ZZ 00000 | D9: Specialty Pest Concern | E9: Specialty | F9: Fictional Technician Cedar | G9: Fictional Route Copper | H9: Demo Dust D (Fictional) | I9: 2 | J9: =IF($A9="","",IF($H9="","",IFERROR(VLOOKUP($H9,Assumptions!$N$3:$P$8,2,FALSE),""))) | K9: 680 | L9: 4.25 | M9: =IF($A9="","",IF($F9="","",IFERROR(VLOOKUP($F9,Assumptions!$I$3:$J$6,2,FALSE),""))) | N9: =IF($A9="","",IF($H9="","",IFERROR(VLOOKUP($H9,Assumptions!$N$3:$P$8,3,FALSE),""))) | O9: 31 | P9: =IF(OR($A9="",$O9=""),"",Assumptions!$B$5) | Q9: 45 | R9: Completed | S9: =IF(OR($A9="",$L9="",$M9=""),"",IFERROR($L9*$M9,"")) | T9: =IF($A9="","",IF($H9="",0,IF(OR($I9="",$N9=""),"",IFERROR($I9*$N9,"")))) | U9: =IF($A9="","",IF($O9="",0,IFERROR($O9*$P9,""))) | V9: =IF(OR($A9="",$K9="",$L9="",$M9=""),"",IF(AND($H9<>"",OR($I9="",$N9="")),"",IF(AND($O9<>"",$P9=""),"",SUM($Q9,$S9:$U9)))) | W9: =IF(OR($A9="",$K9="",$V9=""),"",$K9-$V9) | X9: =IF(OR($A9="",$K9="",$W9=""),"",IFERROR($W9/$K9,"")) | Y9: =IF($A9="","",IF($R9="Canceled","Excluded: canceled",IF(OR($B9="",$C9="",$D9="",$E9="",$F9="",$G9="",$K9="",$L9="",$R9=""),"Review missing input",IF($R9<>"Completed","Review status",IF($K9=0,"Review zero revenue",IF(OR(AND($H9<>"",OR($I9="",$N9="")),AND($H9="",$I9<>"")),"Review product input",IF(IFERROR(VLOOKUP($E9,Assumptions!$D$3:$E$7,2,FALSE),"")="","Review target",IF($X9<IFERROR(VLOOKUP($E9,Assumptions!$D$3:$E$7,2,FALSE),0),"Below target","OK"))))))))
A10: 46233 | B10: Fictional Golden Pebble Market | C10: Fictional Site F, 600 Fiction Drive, Sampletown, ZZ 00000 | D10: General Insect Activity | E10: General Pest | F10: Fictional Technician Indigo | G10: Fictional Route Amber | H10: Demo Monitor F (Fictional) | I10: 3 | J10: =IF($A10="","",IF($H10="","",IFERROR(VLOOKUP($H10,Assumptions!$N$3:$P$8,2,FALSE),""))) | K10: 185 | L10: 1.25 | M10: =IF($A10="","",IF($F10="","",IFERROR(VLOOKUP($F10,Assumptions!$I$3:$J$6,2,FALSE),""))) | N10: =IF($A10="","",IF($H10="","",IFERROR(VLOOKUP($H10,Assumptions!$N$3:$P$8,3,FALSE),""))) | O10: 11 | P10: =IF(OR($A10="",$O10=""),"",Assumptions!$B$5) | Q10: 0 | R10: Completed | S10: =IF(OR($A10="",$L10="",$M10=""),"",IFERROR($L10*$M10,"")) | T10: =IF($A10="","",IF($H10="",0,IF(OR($I10="",$N10=""),"",IFERROR($I10*$N10,"")))) | U10: =IF($A10="","",IF($O10="",0,IFERROR($O10*$P10,""))) | V10: =IF(OR($A10="",$K10="",$L10="",$M10=""),"",IF(AND($H10<>"",OR($I10="",$N10="")),"",IF(AND($O10<>"",$P10=""),"",SUM($Q10,$S10:$U10)))) | W10: =IF(OR($A10="",$K10="",$V10=""),"",$K10-$V10) | X10: =IF(OR($A10="",$K10="",$W10=""),"",IFERROR($W10/$K10,"")) | Y10: =IF($A10="","",IF($R10="Canceled","Excluded: canceled",IF(OR($B10="",$C10="",$D10="",$E10="",$F10="",$G10="",$K10="",$L10="",$R10=""),"Review missing input",IF($R10<>"Completed","Review status",IF($K10=0,"Review zero revenue",IF(OR(AND($H10<>"",OR($I10="",$N10="")),AND($H10="",$I10<>"")),"Review product input",IF(IFERROR(VLOOKUP($E10,Assumptions!$D$3:$E$7,2,FALSE),"")="","Review target",IF($X10<IFERROR(VLOOKUP($E10,Assumptions!$D$3:$E$7,2,FALSE),0),"Below target","OK"))))))))
A11: 46244 | B11: Fictional Violet Compass Depot | C11: Fictional Site G, 700 Imaginary Parkway, Exampleville, ZZ 00000 | D11: Termite Evidence | E11: Termite | F11: Fictional Technician Cedar | G11: Fictional Route Green | H11: Demo Liquid C (Fictional) | I11: 1 | J11: =IF($A11="","",IF($H11="","",IFERROR(VLOOKUP($H11,Assumptions!$N$3:$P$8,2,FALSE),""))) | K11: 1325 | L11: 6 | M11: =IF($A11="","",IF($F11="","",IFERROR(VLOOKUP($F11,Assumptions!$I$3:$J$6,2,FALSE),""))) | N11: =IF($A11="","",IF($H11="","",IFERROR(VLOOKUP($H11,Assumptions!$N$3:$P$8,3,FALSE),""))) | O11: 26 | P11: =IF(OR($A11="",$O11=""),"",Assumptions!$B$5) | Q11: 80 | R11: Scheduled | S11: =IF(OR($A11="",$L11="",$M11=""),"",IFERROR($L11*$M11,"")) | T11: =IF($A11="","",IF($H11="",0,IF(OR($I11="",$N11=""),"",IFERROR($I11*$N11,"")))) | U11: =IF($A11="","",IF($O11="",0,IFERROR($O11*$P11,""))) | V11: =IF(OR($A11="",$K11="",$L11="",$M11=""),"",IF(AND($H11<>"",OR($I11="",$N11="")),"",IF(AND($O11<>"",$P11=""),"",SUM($Q11,$S11:$U11)))) | W11: =IF(OR($A11="",$K11="",$V11=""),"",$K11-$V11) | X11: =IF(OR($A11="",$K11="",$W11=""),"",IFERROR($W11/$K11,"")) | Y11: =IF($A11="","",IF($R11="Canceled","Excluded: canceled",IF(OR($B11="",$C11="",$D11="",$E11="",$F11="",$G11="",$K11="",$L11="",$R11=""),"Review missing input",IF($R11<>"Completed","Review status",IF($K11=0,"Review zero revenue",IF(OR(AND($H11<>"",OR($I11="",$N11="")),AND($H11="",$I11<>"")),"Review product input",IF(IFERROR(VLOOKUP($E11,Assumptions!$D$3:$E$7,2,FALSE),"")="","Review target",IF($X11<IFERROR(VLOOKUP($E11,Assumptions!$D$3:$E$7,2,FALSE),0),"Below target","OK"))))))))
A12: 46251 | B12: Fictional Copper Cloud Studio | C12: Fictional Site H, 800 Placeholder Street, Sampletown, ZZ 00000 | D12: Rodent Activity | E12: Rodent | F12: Fictional Technician Juniper | G12: Fictional Route Blue | H12: Demo Trap E (Fictional) | I12: 2 | J12: =IF($A12="","",IF($H12="","",IFERROR(VLOOKUP($H12,Assumptions!$N$3:$P$8,2,FALSE),""))) | K12: 0 | L12: 0 | M12: =IF($A12="","",IF($F12="","",IFERROR(VLOOKUP($F12,Assumptions!$I$3:$J$6,2,FALSE),""))) | N12: =IF($A12="","",IF($H12="","",IFERROR(VLOOKUP($H12,Assumptions!$N$3:$P$8,3,FALSE),""))) | O12: 8 | P12: =IF(OR($A12="",$O12=""),"",Assumptions!$B$5) | Q12: 0 | R12: Canceled | S12: =IF(OR($A12="",$L12="",$M12=""),"",IFERROR($L12*$M12,"")) | T12: =IF($A12="","",IF($H12="",0,IF(OR($I12="",$N12=""),"",IFERROR($I12*$N12,"")))) | U12: =IF($A12="","",IF($O12="",0,IFERROR($O12*$P12,""))) | V12: =IF(OR($A12="",$K12="",$L12="",$M12=""),"",IF(AND($H12<>"",OR($I12="",$N12="")),"",IF(AND($O12<>"",$P12=""),"",SUM($Q12,$S12:$U12)))) | W12: =IF(OR($A12="",$K12="",$V12=""),"",$K12-$V12) | X12: =IF(OR($A12="",$K12="",$W12=""),"",IFERROR($W12/$K12,"")) | Y12: =IF($A12="","",IF($R12="Canceled","Excluded: canceled",IF(OR($B12="",$C12="",$D12="",$E12="",$F12="",$G12="",$K12="",$L12="",$R12=""),"Review missing input",IF($R12<>"Completed","Review status",IF($K12=0,"Review zero revenue",IF(OR(AND($H12<>"",OR($I12="",$N12="")),AND($H12="",$I12<>"")),"Review product input",IF(IFERROR(VLOOKUP($E12,Assumptions!$D$3:$E$7,2,FALSE),"")="","Review target",IF($X12<IFERROR(VLOOKUP($E12,Assumptions!$D$3:$E$7,2,FALSE),0),"Below target","OK"))))))))
A13: 46262 | B13: Fictional Cedar Lantern Inn | C13: Fictional Site I, 900 Fiction Court, Exampleville, ZZ 00000 | D13: Mosquito Activity | E13: Mosquito | F13: Fictional Technician Orbit | G13: Fictional Route Green | H13: Demo Liquid C (Fictional) | I13: 0.75 | J13: =IF($A13="","",IF($H13="","",IFERROR(VLOOKUP($H13,Assumptions!$N$3:$P$8,2,FALSE),""))) | K13: 0 | L13: 1.5 | M13: =IF($A13="","",IF($F13="","",IFERROR(VLOOKUP($F13,Assumptions!$I$3:$J$6,2,FALSE),""))) | N13: =IF($A13="","",IF($H13="","",IFERROR(VLOOKUP($H13,Assumptions!$N$3:$P$8,3,FALSE),""))) | O13: 17 | P13: =IF(OR($A13="",$O13=""),"",Assumptions!$B$5) | Q13: 0 | R13: Completed | S13: =IF(OR($A13="",$L13="",$M13=""),"",IFERROR($L13*$M13,"")) | T13: =IF($A13="","",IF($H13="",0,IF(OR($I13="",$N13=""),"",IFERROR($I13*$N13,"")))) | U13: =IF($A13="","",IF($O13="",0,IFERROR($O13*$P13,""))) | V13: =IF(OR($A13="",$K13="",$L13="",$M13=""),"",IF(AND($H13<>"",OR($I13="",$N13="")),"",IF(AND($O13<>"",$P13=""),"",SUM($Q13,$S13:$U13)))) | W13: =IF(OR($A13="",$K13="",$V13=""),"",$K13-$V13) | X13: =IF(OR($A13="",$K13="",$W13=""),"",IFERROR($W13/$K13,"")) | Y13: =IF($A13="","",IF($R13="Canceled","Excluded: canceled",IF(OR($B13="",$C13="",$D13="",$E13="",$F13="",$G13="",$K13="",$L13="",$R13=""),"Review missing input",IF($R13<>"Completed","Review status",IF($K13=0,"Review zero revenue",IF(OR(AND($H13<>"",OR($I13="",$N13="")),AND($H13="",$I13<>"")),"Review product input",IF(IFERROR(VLOOKUP($E13,Assumptions!$D$3:$E$7,2,FALSE),"")="","Review target",IF($X13<IFERROR(VLOOKUP($E13,Assumptions!$D$3:$E$7,2,FALSE),0),"Below target","OK"))))))))
A14: 46271 | B14: Fictional Teal Rocket Theater | C14: Fictional Site J, 1000 Imaginary Terrace, Sampletown, ZZ 00000 | D14: Specialty Pest Concern | E14: Specialty | F14: Fictional Technician Cedar | G14: Fictional Route Copper | H14: Demo Dust D (Fictional) | I14: 3.5 | J14: =IF($A14="","",IF($H14="","",IFERROR(VLOOKUP($H14,Assumptions!$N$3:$P$8,2,FALSE),""))) | K14: 920 | L14: 5 | M14: =IF($A14="","",IF($F14="","",IFERROR(VLOOKUP($F14,Assumptions!$I$3:$J$6,2,FALSE),""))) | N14: =IF($A14="","",IF($H14="","",IFERROR(VLOOKUP($H14,Assumptions!$N$3:$P$8,3,FALSE),""))) | O14: 35 | P14: =IF(OR($A14="",$O14=""),"",Assumptions!$B$5) | Q14: 60 | R14: Completed | S14: =IF(OR($A14="",$L14="",$M14=""),"",IFERROR($L14*$M14,"")) | T14: =IF($A14="","",IF($H14="",0,IF(OR($I14="",$N14=""),"",IFERROR($I14*$N14,"")))) | U14: =IF($A14="","",IF($O14="",0,IFERROR($O14*$P14,""))) | V14: =IF(OR($A14="",$K14="",$L14="",$M14=""),"",IF(AND($H14<>"",OR($I14="",$N14="")),"",IF(AND($O14<>"",$P14=""),"",SUM($Q14,$S14:$U14)))) | W14: =IF(OR($A14="",$K14="",$V14=""),"",$K14-$V14) | X14: =IF(OR($A14="",$K14="",$W14=""),"",IFERROR($W14/$K14,"")) | Y14: =IF($A14="","",IF($R14="Canceled","Excluded: canceled",IF(OR($B14="",$C14="",$D14="",$E14="",$F14="",$G14="",$K14="",$L14="",$R14=""),"Review missing input",IF($R14<>"Completed","Review status",IF($K14=0,"Review zero revenue",IF(OR(AND($H14<>"",OR($I14="",$N14="")),AND($H14="",$I14<>"")),"Review product input",IF(IFERROR(VLOOKUP($E14,Assumptions!$D$3:$E$7,2,FALSE),"")="","Review target",IF($X14<IFERROR(VLOOKUP($E14,Assumptions!$D$3:$E$7,2,FALSE),0),"Below target","OK"))))))))
J15: =IF($A15="","",IF($H15="","",IFERROR(VLOOKUP($H15,Assumptions!$N$3:$P$8,2,FALSE),""))) | M15: =IF($A15="","",IF($F15="","",IFERROR(VLOOKUP($F15,Assumptions!$I$3:$J$6,2,FALSE),""))) | N15: =IF($A15="","",IF($H15="","",IFERROR(VLOOKUP($H15,Assumptions!$N$3:$P$8,3,FALSE),""))) | P15: =IF(OR($A15="",$O15=""),"",Assumptions!$B$5) | S15: =IF(OR($A15="",$L15="",$M15=""),"",IFERROR($L15*$M15,"")) | T15: =IF($A15="","",IF($H15="",0,IF(OR($I15="",$N15=""),"",IFERROR($I15*$N15,"")))) | U15: =IF($A15="","",IF($O15="",0,IFERROR($O15*$P15,""))) | V15: =IF(OR($A15="",$K15="",$L15="",$M15=""),"",IF(AND($H15<>"",OR($I15="",$N15="")),"",IF(AND($O15<>"",$P15=""),"",SUM($Q15,$S15:$U15)))) | W15: =IF(OR($A15="",$K15="",$V15=""),"",$K15-$V15) | X15: =IF(OR($A15="",$K15="",$W15=""),"",IFERROR($W15/$K15,"")) | Y15: =IF($A15="","",IF($R15="Canceled","Excluded: canceled",IF(OR($B15="",$C15="",$D15="",$E15="",$F15="",$G15="",$K15="",$L15="",$R15=""),"Review missing input",IF($R15<>"Completed","Review status",IF($K15=0,"Review zero revenue",IF(OR(AND($H15<>"",OR($I15="",$N15="")),AND($H15="",$I15<>"")),"Review product input",IF(IFERROR(VLOOKUP($E15,Assumptions!$D$3:$E$7,2,FALSE),"")="","Review target",IF($X15<IFERROR(VLOOKUP($E15,Assumptions!$D$3:$E$7,2,FALSE),0),"Below target","OK"))))))))
J16: =IF($A16="","",IF($H16="","",IFERROR(VLOOKUP($H16,Assumptions!$N$3:$P$8,2,FALSE),""))) | M16: =IF($A16="","",IF($F16="","",IFERROR(VLOOKUP($F16,Assumptions!$I$3:$J$6,2,FALSE),""))) | N16: =IF($A16="","",IF($H16="","",IFERROR(VLOOKUP($H16,Assumptions!$N$3:$P$8,3,FALSE),""))) | P16: =IF(OR($A16="",$O16=""),"",Assumptions!$B$5) | S16: =IF(OR($A16="",$L16="",$M16=""),"",IFERROR($L16*$M16,"")) | T16: =IF($A16="","",IF($H16="",0,IF(OR($I16="",$N16=""),"",IFERROR($I16*$N16,"")))) | U16: =IF($A16="","",IF($O16="",0,IFERROR($O16*$P16,""))) | V16: =IF(OR($A16="",$K16="",$L16="",$M16=""),"",IF(AND($H16<>"",OR($I16="",$N16="")),"",IF(AND($O16<>"",$P16=""),"",SUM($Q16,$S16:$U16)))) | W16: =IF(OR($A16="",$K16="",$V16=""),"",$K16-$V16) | X16: =IF(OR($A16="",$K16="",$W16=""),"",IFERROR($W16/$K16,"")) | Y16: =IF($A16="","",IF($R16="Canceled","Excluded: canceled",IF(OR($B16="",$C16="",$D16="",$E16="",$F16="",$G16="",$K16="",$L16="",$R16=""),"Review missing input",IF($R16<>"Completed","Review status",IF($K16=0,"Review zero revenue",IF(OR(AND($H16<>"",OR($I16="",$N16="")),AND($H16="",$I16<>"")),"Review product input",IF(IFERROR(VLOOKUP($E16,Assumptions!$D$3:$E$7,2,FALSE),"")="","Review target",IF($X16<IFERROR(VLOOKUP($E16,Assumptions!$D$3:$E$7,2,FALSE),0),"Below target","OK"))))))))
J17: =IF($A17="","",IF($H17="","",IFERROR(VLOOKUP($H17,Assumptions!$N$3:$P$8,2,FALSE),""))) | M17: =IF($A17="","",IF($F17="","",IFERROR(VLOOKUP($F17,Assumptions!$I$3:$J$6,2,FALSE),""))) | N17: =IF($A17="","",IF($H17="","",IFERROR(VLOOKUP($H17,Assumptions!$N$3:$P$8,3,FALSE),""))) | P17: =IF(OR($A17="",$O17=""),"",Assumptions!$B$5) | S17: =IF(OR($A17="",$L17="",$M17=""),"",IFERROR($L17*$M17,"")) | T17: =IF($A17="","",IF($H17="",0,IF(OR($I17="",$N17=""),"",IFERROR($I17*$N17,"")))) | U17: =IF($A17="","",IF($O17="",0,IFERROR($O17*$P17,""))) | V17: =IF(OR($A17="",$K17="",$L17="",$M17=""),"",IF(AND($H17<>"",OR($I17="",$N17="")),"",IF(AND($O17<>"",$P17=""),"",SUM($Q17,$S17:$U17)))) | W17: =IF(OR($A17="",$K17="",$V17=""),"",$K17-$V17) | X17: =IF(OR($A17="",$K17="",$W17=""),"",IFERROR($W17/$K17,"")) | Y17: =IF($A17="","",IF($R17="Canceled","Excluded: canceled",IF(OR($B17="",$C17="",$D17="",$E17="",$F17="",$G17="",$K17="",$L17="",$R17=""),"Review missing input",IF($R17<>"Completed","Review status",IF($K17=0,"Review zero revenue",IF(OR(AND($H17<>"",OR($I17="",$N17="")),AND($H17="",$I17<>"")),"Review product input",IF(IFERROR(VLOOKUP($E17,Assumptions!$D$3:$E$7,2,FALSE),"")="","Review target",IF($X17<IFERROR(VLOOKUP($E17,Assumptions!$D$3:$E$7,2,FALSE),0),"Below target","OK"))))))))
J18: =IF($A18="","",IF($H18="","",IFERROR(VLOOKUP($H18,Assumptions!$N$3:$P$8,2,FALSE),""))) | M18: =IF($A18="","",IF($F18="","",IFERROR(VLOOKUP($F18,Assumptions!$I$3:$J$6,2,FALSE),""))) | N18: =IF($A18="","",IF($H18="","",IFERROR(VLOOKUP($H18,Assumptions!$N$3:$P$8,3,FALSE),""))) | P18: =IF(OR($A18="",$O18=""),"",Assumptions!$B$5) | S18: =IF(OR($A18="",$L18="",$M18=""),"",IFERROR($L18*$M18,"")) | T18: =IF($A18="","",IF($H18="",0,IF(OR($I18="",$N18=""),"",IFERROR($I18*$N18,"")))) | U18: =IF($A18="","",IF($O18="",0,IFERROR($O18*$P18,""))) | V18: =IF(OR($A18="",$K18="",$L18="",$M18=""),"",IF(AND($H18<>"",OR($I18="",$N18="")),"",IF(AND($O18<>"",$P18=""),"",SUM($Q18,$S18:$U18)))) | W18: =IF(OR($A18="",$K18="",$V18=""),"",$K18-$V18) | X18: =IF(OR($A18="",$K18="",$W18=""),"",IFERROR($W18/$K18,"")) | Y18: =IF($A18="","",IF($R18="Canceled","Excluded: canceled",IF(OR($B18="",$C18="",$D18="",$E18="",$F18="",$G18="",$K18="",$L18="",$R18=""),"Review missing input",IF($R18<>"Completed","Review status",IF($K18=0,"Review zero revenue",IF(OR(AND($H18<>"",OR($I18="",$N18="")),AND($H18="",$I18<>"")),"Review product input",IF(IFERROR(VLOOKUP($E18,Assumptions!$D$3:$E$7,2,FALSE),"")="","Review target",IF($X18<IFERROR(VLOOKUP($E18,Assumptions!$D$3:$E$7,2,FALSE),0),"Below target","OK"))))))))
J19: =IF($A19="","",IF($H19="","",IFERROR(VLOOKUP($H19,Assumptions!$N$3:$P$8,2,FALSE),""))) | M19: =IF($A19="","",IF($F19="","",IFERROR(VLOOKUP($F19,Assumptions!$I$3:$J$6,2,FALSE),""))) | N19: =IF($A19="","",IF($H19="","",IFERROR(VLOOKUP($H19,Assumptions!$N$3:$P$8,3,FALSE),""))) | P19: =IF(OR($A19="",$O19=""),"",Assumptions!$B$5) | S19: =IF(OR($A19="",$L19="",$M19=""),"",IFERROR($L19*$M19,"")) | T19: =IF($A19="","",IF($H19="",0,IF(OR($I19="",$N19=""),"",IFERROR($I19*$N19,"")))) | U19: =IF($A19="","",IF($O19="",0,IFERROR($O19*$P19,""))) | V19: =IF(OR($A19="",$K19="",$L19="",$M19=""),"",IF(AND($H19<>"",OR($I19="",$N19="")),"",IF(AND($O19<>"",$P19=""),"",SUM($Q19,$S19:$U19)))) | W19: =IF(OR($A19="",$K19="",$V19=""),"",$K19-$V19) | X19: =IF(OR($A19="",$K19="",$W19=""),"",IFERROR($W19/$K19,"")) | Y19: =IF($A19="","",IF($R19="Canceled","Excluded: canceled",IF(OR($B19="",$C19="",$D19="",$E19="",$F19="",$G19="",$K19="",$L19="",$R19=""),"Review missing input",IF($R19<>"Completed","Review status",IF($K19=0,"Review zero revenue",IF(OR(AND($H19<>"",OR($I19="",$N19="")),AND($H19="",$I19<>"")),"Review product input",IF(IFERROR(VLOOKUP($E19,Assumptions!$D$3:$E$7,2,FALSE),"")="","Review target",IF($X19<IFERROR(VLOOKUP($E19,Assumptions!$D$3:$E$7,2,FALSE),0),"Below target","OK"))))))))
J20: =IF($A20="","",IF($H20="","",IFERROR(VLOOKUP($H20,Assumptions!$N$3:$P$8,2,FALSE),""))) | M20: =IF($A20="","",IF($F20="","",IFERROR(VLOOKUP($F20,Assumptions!$I$3:$J$6,2,FALSE),""))) | N20: =IF($A20="","",IF($H20="","",IFERROR(VLOOKUP($H20,Assumptions!$N$3:$P$8,3,FALSE),""))) | P20: =IF(OR($A20="",$O20=""),"",Assumptions!$B$5) | S20: =IF(OR($A20="",$L20="",$M20=""),"",IFERROR($L20*$M20,"")) | T20: =IF($A20="","",IF($H20="",0,IF(OR($I20="",$N20=""),"",IFERROR($I20*$N20,"")))) | U20: =IF($A20="","",IF($O20="",0,IFERROR($O20*$P20,""))) | V20: =IF(OR($A20="",$K20="",$L20="",$M20=""),"",IF(AND($H20<>"",OR($I20="",$N20="")),"",IF(AND($O20<>"",$P20=""),"",SUM($Q20,$S20:$U20)))) | W20: =IF(OR($A20="",$K20="",$V20=""),"",$K20-$V20) | X20: =IF(OR($A20="",$K20="",$W20=""),"",IFERROR($W20/$K20,"")) | Y20: =IF($A20="","",IF($R20="Canceled","Excluded: canceled",IF(OR($B20="",$C20="",$D20="",$E20="",$F20="",$G20="",$K20="",$L20="",$R20=""),"Review missing input",IF($R20<>"Completed","Review status",IF($K20=0,"Review zero revenue",IF(OR(AND($H20<>"",OR($I20="",$N20="")),AND($H20="",$I20<>"")),"Review product input",IF(IFERROR(VLOOKUP($E20,Assumptions!$D$3:$E$7,2,FALSE),"")="","Review target",IF($X20<IFERROR(VLOOKUP($E20,Assumptions!$D$3:$E$7,2,FALSE),0),"Below target","OK"))))))))
J21: =IF($A21="","",IF($H21="","",IFERROR(VLOOKUP($H21,Assumptions!$N$3:$P$8,2,FALSE),""))) | M21: =IF($A21="","",IF($F21="","",IFERROR(VLOOKUP($F21,Assumptions!$I$3:$J$6,2,FALSE),""))) | N21: =IF($A21="","",IF($H21="","",IFERROR(VLOOKUP($H21,Assumptions!$N$3:$P$8,3,FALSE),""))) | P21: =IF(OR($A21="",$O21=""),"",Assumptions!$B$5) | S21: =IF(OR($A21="",$L21="",$M21=""),"",IFERROR($L21*$M21,"")) | T21: =IF($A21="","",IF($H21="",0,IF(OR($I21="",$N21=""),"",IFERROR($I21*$N21,"")))) | U21: =IF($A21="","",IF($O21="",0,IFERROR($O21*$P21,""))) | V21: =IF(OR($A21="",$K21="",$L21="",$M21=""),"",IF(AND($H21<>"",OR($I21="",$N21="")),"",IF(AND($O21<>"",$P21=""),"",SUM($Q21,$S21:$U21)))) | W21: =IF(OR($A21="",$K21="",$V21=""),"",$K21-$V21) | X21: =IF(OR($A21="",$K21="",$W21=""),"",IFERROR($W21/$K21,"")) | Y21: =IF($A21="","",IF($R21="Canceled","Excluded: canceled",IF(OR($B21="",$C21="",$D21="",$E21="",$F21="",$G21="",$K21="",$L21="",$R21=""),"Review missing input",IF($R21<>"Completed","Review status",IF($K21=0,"Review zero revenue",IF(OR(AND($H21<>"",OR($I21="",$N21="")),AND($H21="",$I21<>"")),"Review product input",IF(IFERROR(VLOOKUP($E21,Assumptions!$D$3:$E$7,2,FALSE),"")="","Review target",IF($X21<IFERROR(VLOOKUP($E21,Assumptions!$D$3:$E$7,2,FALSE),0),"Below target","OK"))))))))
J22: =IF($A22="","",IF($H22="","",IFERROR(VLOOKUP($H22,Assumptions!$N$3:$P$8,2,FALSE),""))) | M22: =IF($A22="","",IF($F22="","",IFERROR(VLOOKUP($F22,Assumptions!$I$3:$J$6,2,FALSE),""))) | N22: =IF($A22="","",IF($H22="","",IFERROR(VLOOKUP($H22,Assumptions!$N$3:$P$8,3,FALSE),""))) | P22: =IF(OR($A22="",$O22=""),"",Assumptions!$B$5) | S22: =IF(OR($A22="",$L22="",$M22=""),"",IFERROR($L22*$M22,"")) | T22: =IF($A22="","",IF($H22="",0,IF(OR($I22="",$N22=""),"",IFERROR($I22*$N22,"")))) | U22: =IF($A22="","",IF($O22="",0,IFERROR($O22*$P22,""))) | V22: =IF(OR($A22="",$K22="",$L22="",$M22=""),"",IF(AND($H22<>"",OR($I22="",$N22="")),"",IF(AND($O22<>"",$P22=""),"",SUM($Q22,$S22:$U22)))) | W22: =IF(OR($A22="",$K22="",$V22=""),"",$K22-$V22) | X22: =IF(OR($A22="",$K22="",$W22=""),"",IFERROR($W22/$K22,"")) | Y22: =IF($A22="","",IF($R22="Canceled","Excluded: canceled",IF(OR($B22="",$C22="",$D22="",$E22="",$F22="",$G22="",$K22="",$L22="",$R22=""),"Review missing input",IF($R22<>"Completed","Review status",IF($K22=0,"Review zero revenue",IF(OR(AND($H22<>"",OR($I22="",$N22="")),AND($H22="",$I22<>"")),"Review product input",IF(IFERROR(VLOOKUP($E22,Assumptions!$D$3:$E$7,2,FALSE),"")="","Review target",IF($X22<IFERROR(VLOOKUP($E22,Assumptions!$D$3:$E$7,2,FALSE),0),"Below target","OK"))))))))
J23: =IF($A23="","",IF($H23="","",IFERROR(VLOOKUP($H23,Assumptions!$N$3:$P$8,2,FALSE),""))) | M23: =IF($A23="","",IF($F23="","",IFERROR(VLOOKUP($F23,Assumptions!$I$3:$J$6,2,FALSE),""))) | N23: =IF($A23="","",IF($H23="","",IFERROR(VLOOKUP($H23,Assumptions!$N$3:$P$8,3,FALSE),""))) | P23: =IF(OR($A23="",$O23=""),"",Assumptions!$B$5) | S23: =IF(OR($A23="",$L23="",$M23=""),"",IFERROR($L23*$M23,"")) | T23: =IF($A23="","",IF($H23="",0,IF(OR($I23="",$N23=""),"",IFERROR($I23*$N23,"")))) | U23: =IF($A23="","",IF($O23="",0,IFERROR($O23*$P23,""))) | V23: =IF(OR($A23="",$K23="",$L23="",$M23=""),"",IF(AND($H23<>"",OR($I23="",$N23="")),"",IF(AND($O23<>"",$P23=""),"",SUM($Q23,$S23:$U23)))) | W23: =IF(OR($A23="",$K23="",$V23=""),"",$K23-$V23) | X23: =IF(OR($A23="",$K23="",$W23=""),"",IFERROR($W23/$K23,"")) | Y23: =IF($A23="","",IF($R23="Canceled","Excluded: canceled",IF(OR($B23="",$C23="",$D23="",$E23="",$F23="",$G23="",$K23="",$L23="",$R23=""),"Review missing input",IF($R23<>"Completed","Review status",IF($K23=0,"Review zero revenue",IF(OR(AND($H23<>"",OR($I23="",$N23="")),AND($H23="",$I23<>"")),"Review product input",IF(IFERROR(VLOOKUP($E23,Assumptions!$D$3:$E$7,2,FALSE),"")="","Review target",IF($X23<IFERROR(VLOOKUP($E23,Assumptions!$D$3:$E$7,2,FALSE),0),"Below target","OK"))))))))
J24: =IF($A24="","",IF($H24="","",IFERROR(VLOOKUP($H24,Assumptions!$N$3:$P$8,2,FALSE),""))) | M24: =IF($A24="","",IF($F24="","",IFERROR(VLOOKUP($F24,Assumptions!$I$3:$J$6,2,FALSE),""))) | N24: =IF($A24="","",IF($H24="","",IFERROR(VLOOKUP($H24,Assumptions!$N$3:$P$8,3,FALSE),""))) | P24: =IF(OR($A24="",$O24=""),"",Assumptions!$B$5) | S24: =IF(OR($A24="",$L24="",$M24=""),"",IFERROR($L24*$M24,"")) | T24: =IF($A24="","",IF($H24="",0,IF(OR($I24="",$N24=""),"",IFERROR($I24*$N24,"")))) | U24: =IF($A24="","",IF($O24="",0,IFERROR($O24*$P24,""))) | V24: =IF(OR($A24="",$K24="",$L24="",$M24=""),"",IF(AND($H24<>"",OR($I24="",$N24="")),"",IF(AND($O24<>"",$P24=""),"",SUM($Q24,$S24:$U24)))) | W24: =IF(OR($A24="",$K24="",$V24=""),"",$K24-$V24) | X24: =IF(OR($A24="",$K24="",$W24=""),"",IFERROR($W24/$K24,"")) | Y24: =IF($A24="","",IF($R24="Canceled","Excluded: canceled",IF(OR($B24="",$C24="",$D24="",$E24="",$F24="",$G24="",$K24="",$L24="",$R24=""),"Review missing input",IF($R24<>"Completed","Review status",IF($K24=0,"Review zero revenue",IF(OR(AND($H24<>"",OR($I24="",$N24="")),AND($H24="",$I24<>"")),"Review product input",IF(IFERROR(VLOOKUP($E24,Assumptions!$D$3:$E$7,2,FALSE),"")="","Review target",IF($X24<IFERROR(VLOOKUP($E24,Assumptions!$D$3:$E$7,2,FALSE),0),"Below target","OK"))))))))
J25: =IF($A25="","",IF($H25="","",IFERROR(VLOOKUP($H25,Assumptions!$N$3:$P$8,2,FALSE),""))) | M25: =IF($A25="","",IF($F25="","",IFERROR(VLOOKUP($F25,Assumptions!$I$3:$J$6,2,FALSE),""))) | N25: =IF($A25="","",IF($H25="","",IFERROR(VLOOKUP($H25,Assumptions!$N$3:$P$8,3,FALSE),""))) | P25: =IF(OR($A25="",$O25=""),"",Assumptions!$B$5) | S25: =IF(OR($A25="",$L25="",$M25=""),"",IFERROR($L25*$M25,"")) | T25: =IF($A25="","",IF($H25="",0,IF(OR($I25="",$N25=""),"",IFERROR($I25*$N25,"")))) | U25: =IF($A25="","",IF($O25="",0,IFERROR($O25*$P25,""))) | V25: =IF(OR($A25="",$K25="",$L25="",$M25=""),"",IF(AND($H25<>"",OR($I25="",$N25="")),"",IF(AND($O25<>"",$P25=""),"",SUM($Q25,$S25:$U25)))) | W25: =IF(OR($A25="",$K25="",$V25=""),"",$K25-$V25) | X25: =IF(OR($A25="",$K25="",$W25=""),"",IFERROR($W25/$K25,"")) | Y25: =IF($A25="","",IF($R25="Canceled","Excluded: canceled",IF(OR($B25="",$C25="",$D25="",$E25="",$F25="",$G25="",$K25="",$L25="",$R25=""),"Review missing input",IF($R25<>"Completed","Review status",IF($K25=0,"Review zero revenue",IF(OR(AND($H25<>"",OR($I25="",$N25="")),AND($H25="",$I25<>"")),"Review product input",IF(IFERROR(VLOOKUP($E25,Assumptions!$D$3:$E$7,2,FALSE),"")="","Review target",IF($X25<IFERROR(VLOOKUP($E25,Assumptions!$D$3:$E$7,2,FALSE),0),"Below target","OK"))))))))
J26: =IF($A26="","",IF($H26="","",IFERROR(VLOOKUP($H26,Assumptions!$N$3:$P$8,2,FALSE),""))) | M26: =IF($A26="","",IF($F26="","",IFERROR(VLOOKUP($F26,Assumptions!$I$3:$J$6,2,FALSE),""))) | N26: =IF($A26="","",IF($H26="","",IFERROR(VLOOKUP($H26,Assumptions!$N$3:$P$8,3,FALSE),""))) | P26: =IF(OR($A26="",$O26=""),"",Assumptions!$B$5) | S26: =IF(OR($A26="",$L26="",$M26=""),"",IFERROR($L26*$M26,"")) | T26: =IF($A26="","",IF($H26="",0,IF(OR($I26="",$N26=""),"",IFERROR($I26*$N26,"")))) | U26: =IF($A26="","",IF($O26="",0,IFERROR($O26*$P26,""))) | V26: =IF(OR($A26="",$K26="",$L26="",$M26=""),"",IF(AND($H26<>"",OR($I26="",$N26="")),"",IF(AND($O26<>"",$P26=""),"",SUM($Q26,$S26:$U26)))) | W26: =IF(OR($A26="",$K26="",$V26=""),"",$K26-$V26) | X26: =IF(OR($A26="",$K26="",$W26=""),"",IFERROR($W26/$K26,"")) | Y26: =IF($A26="","",IF($R26="Canceled","Excluded: canceled",IF(OR($B26="",$C26="",$D26="",$E26="",$F26="",$G26="",$K26="",$L26="",$R26=""),"Review missing input",IF($R26<>"Completed","Review status",IF($K26=0,"Review zero revenue",IF(OR(AND($H26<>"",OR($I26="",$N26="")),AND($H26="",$I26<>"")),"Review product input",IF(IFERROR(VLOOKUP($E26,Assumptions!$D$3:$E$7,2,FALSE),"")="","Review target",IF($X26<IFERROR(VLOOKUP($E26,Assumptions!$D$3:$E$7,2,FALSE),0),"Below target","OK"))))))))
... J124: =IF($A124="","",IF($H124="","",IFERROR(VLOOKUP($H124,Assumptions!$N$3:$P$8,2,FALSE),""))) | M124: =IF($A124="","",IF($F124="","",IFERROR(VLOOKUP($F124,Assumptions!$I$3:$J$6,2,FALSE),""))) | N124: =IF($A124="","",IF($H124="","",IFERROR(VLOOKUP($H124,Assumptions!$N$3:$P$8,3,FALSE),""))) | P124: =IF(OR($A124="",$O124=""),"",Assumptions!$B$5) | S124: =IF(OR($A124="",$L124="",$M124=""),"",IFERROR($L124*$M124,"")) | T124: =IF($A124="","",IF($H124="",0,IF(OR($I124="",$N124=""),"",IFERROR($I124*$N124,"")))) | U124: =IF($A124="","",IF($O124="",0,IFERROR($O124*$P124,""))) | V124: =IF(OR($A124="",$K124="",$L124="",$M124=""),"",IF(AND($H124<>"",OR($I124="",$N124="")),"",IF(AND($O124<>"",$P124=""),"",SUM($Q124,$S124:$U124)))) | W124: =IF(OR($A124="",$K124="",$V124=""),"",$K124-$V124) | X124: =IF(OR($A124="",$K124="",$W124=""),"",IFERROR($W124/$K124,"")) | Y124: =IF($A124="","",IF($R124="Canceled","Excluded: canceled",IF(OR($B124="",$C124="",$D124="",$E124="",$F124="",$G124="",$K124="",$L124="",$R124=""),"Review missing input",IF($R124<>"Completed","Review status",IF($K124=0,"Review zero revenue",IF(OR(AND($H124<>"",OR($I124="",$N124="")),AND($H124="",$I124<>"")),"Review product input",IF(IFERROR(VLOOKUP($E124,Assumptions!$D$3:$E$7,2,FALSE),"")="","Review target",IF($X124<IFERROR(VLOOKUP($E124,Assumptions!$D$3:$E$7,2,FALSE),0),"Below target","OK"))))))))

Sheet Assumptions
A1: Margin Analysis Assumptions and Lists
A2: Analysis Setting | B2: Editable Value | D2: Service Line | E2: Target Margin | G2: Pest Concern | I2: Technician | J2: Labor Cost / Hour | L2: Route | N2: Product | O2: Unit | P2: Unit Cost | R2: Status
A3: Analysis Start | B3: 46156 | D3: General Pest | E3: 0.45 | G3: General Insect Activity | I3: Fictional Technician Indigo | J3: 28.5 | L3: Fictional Route Amber | N3: Demo Residual A (Fictional) | O3: ounces | P3: 3.25 | R3: Completed
A4: Analysis End | B4: 46276 | D4: Termite | E4: 0.5 | G4: Termite Evidence | I4: Fictional Technician Juniper | J4: 31.25 | L4: Fictional Route Blue | N4: Demo Bait Station B (Fictional) | O4: each | P4: 8.5 | R4: Scheduled
A5: Internal Mileage Cost / Mile | B5: 0.7 | D5: Rodent | E5: 0.42 | G5: Rodent Activity | I5: Fictional Technician Orbit | J5: 29.75 | L5: Fictional Route Copper | N5: Demo Liquid C (Fictional) | O5: gallons | P5: 78 | R5: Canceled
D6: Mosquito | E6: 0.48 | G6: Mosquito Activity | I6: Fictional Technician Cedar | J6: 33 | L6: Fictional Route Green | N6: Demo Dust D (Fictional) | O6: pounds | P6: 18.75
D7: Specialty | E7: 0.4 | G7: Specialty Pest Concern | N7: Demo Trap E (Fictional) | O7: each | P7: 12
A8: Yellow cells contain editable planning assumptions and fictional list values. Review local business requirements before using any rate or target. | N8: Demo Monitor F (Fictional) | O8: each | P8: 6.25
