Workbook

Sheet Summary
A1: Pest Control Service Plan Comparison Summary
A2: Calculated from entered plan options. All included sample records are fictional.
A4: Calculated Indicator | B4: Value | D4: Lowest-Cost Entered Option | E4: Calculated Value
A5: Plan Options Entered | B5: =COUNTIF('Plan Comparison'!$A$5:$A$104,"<>") | D5: Plan Option | E5: =IF(COUNT('Plan Comparison'!$S$5:$S$104)=0,"",IFERROR(INDEX('Plan Comparison'!$A$5:$A$104,MATCH(MIN('Plan Comparison'!$S$5:$S$104),'Plan Comparison'!$S$5:$S$104,0)),""))
A6: Shortlisted Options | B6: =COUNTIF('Plan Comparison'!$P$5:$P$104,"Shortlisted") | D6: Customer | E6: =IF(COUNT('Plan Comparison'!$S$5:$S$104)=0,"",IFERROR(INDEX('Plan Comparison'!$B$5:$B$104,MATCH(MIN('Plan Comparison'!$S$5:$S$104),'Plan Comparison'!$S$5:$S$104,0)),""))
A7: Options Under Review | B7: =COUNTIF('Plan Comparison'!$P$5:$P$104,"Under Review") | D7: Service Site | E7: =IF(COUNT('Plan Comparison'!$S$5:$S$104)=0,"",IFERROR(INDEX('Plan Comparison'!$C$5:$C$104,MATCH(MIN('Plan Comparison'!$S$5:$S$104),'Plan Comparison'!$S$5:$S$104,0)),""))
A8: Options Needing Human Review | B8: =COUNTIF('Plan Comparison'!$U$5:$U$104,"Review needed*") | D8: Status | E8: =IF(COUNT('Plan Comparison'!$S$5:$S$104)=0,"",IFERROR(INDEX('Plan Comparison'!$P$5:$P$104,MATCH(MIN('Plan Comparison'!$S$5:$S$104),'Plan Comparison'!$S$5:$S$104,0)),""))
A9: Average Annual Customer Cost | B9: =IFERROR(AVERAGE('Plan Comparison'!$S$5:$S$104),"") | D9: Quote Date | E9: =IF(COUNT('Plan Comparison'!$S$5:$S$104)=0,"",IFERROR(INDEX('Plan Comparison'!$D$5:$D$104,MATCH(MIN('Plan Comparison'!$S$5:$S$104),'Plan Comparison'!$S$5:$S$104,0)),""))
A10: Lowest Annual Customer Cost | B10: =IF(COUNT('Plan Comparison'!$S$5:$S$104)=0,"",MIN('Plan Comparison'!$S$5:$S$104)) | D10: Pest Concern | E10: =IF(COUNT('Plan Comparison'!$S$5:$S$104)=0,"",IFERROR(INDEX('Plan Comparison'!$E$5:$E$104,MATCH(MIN('Plan Comparison'!$S$5:$S$104),'Plan Comparison'!$S$5:$S$104,0)),""))
A11: Highest Annual Customer Cost | B11: =IF(COUNT('Plan Comparison'!$S$5:$S$104)=0,"",MAX('Plan Comparison'!$S$5:$S$104))
A12: Average Planned Visits | B12: =IFERROR(AVERAGE('Plan Comparison'!$G$5:$G$104),"")
A13: Options with Included Response Visits | B13: =COUNTIF('Plan Comparison'!$H$5:$H$104,">0")
A16: Plan Option | B16: Annual Customer Cost
A17: =IF('Plan Comparison'!$A$5="","",'Plan Comparison'!$A$5) | B17: =IF('Plan Comparison'!$S$5="","",'Plan Comparison'!$S$5)
A18: =IF('Plan Comparison'!$A$6="","",'Plan Comparison'!$A$6) | B18: =IF('Plan Comparison'!$S$6="","",'Plan Comparison'!$S$6)
A19: =IF('Plan Comparison'!$A$7="","",'Plan Comparison'!$A$7) | B19: =IF('Plan Comparison'!$S$7="","",'Plan Comparison'!$S$7)
A20: =IF('Plan Comparison'!$A$8="","",'Plan Comparison'!$A$8) | B20: =IF('Plan Comparison'!$S$8="","",'Plan Comparison'!$S$8)
A21: =IF('Plan Comparison'!$A$9="","",'Plan Comparison'!$A$9) | B21: =IF('Plan Comparison'!$S$9="","",'Plan Comparison'!$S$9)
A22: =IF('Plan Comparison'!$A$10="","",'Plan Comparison'!$A$10) | B22: =IF('Plan Comparison'!$S$10="","",'Plan Comparison'!$S$10)
A23: =IF('Plan Comparison'!$A$11="","",'Plan Comparison'!$A$11) | B23: =IF('Plan Comparison'!$S$11="","",'Plan Comparison'!$S$11)
A24: =IF('Plan Comparison'!$A$12="","",'Plan Comparison'!$A$12) | B24: =IF('Plan Comparison'!$S$12="","",'Plan Comparison'!$S$12)
A25: =IF('Plan Comparison'!$A$13="","",'Plan Comparison'!$A$13) | B25: =IF('Plan Comparison'!$S$13="","",'Plan Comparison'!$S$13)
A26: =IF('Plan Comparison'!$A$14="","",'Plan Comparison'!$A$14) | B26: =IF('Plan Comparison'!$S$14="","",'Plan Comparison'!$S$14)

Sheet Plan Comparison
A1: Pest Control Service Plan Comparison
A2: All sample customers, sites, plans, and quotes are fictional. Yellow cells are editable; alerts require human review.
A3: Annual costs use the editable billing multipliers on the Assumptions sheet.
A4: Plan Option | B4: Customer | C4: Service Site | D4: Quote Date | E4: Pest Concern | F4: Core Service Coverage | G4: Planned Visits / Year | H4: Included Response Visits / Year | I4: Response Window Hours | J4: Quote Amount | K4: Billing Frequency | L4: Add-on | M4: Add-on Quote Amount | N4: Add-on Billing Frequency | O4: Customer Responsibility | P4: Status | Q4: Annual Base Cost | R4: Annual Add-on Cost | S4: Annual Customer Cost | T4: Cost per Planned Visit | U4: Human Review Alert
A5: Fictional Plan A | B5: Fictional Customer — Blue Acorn Demo | C5: 100 Imaginary Oak Ave, Exampleville, ZZ 00000 | D5: 46216 | E5: General crawling insects | F5: Exterior inspection and stated crawling-insect coverage | G5: 4 | H5: 0 | I5: 0 | J5: 119 | K5: Quarterly | L5: None | O5: Provide access and complete stated preparation steps | P5: Draft | Q5: =IF(OR($A5="",$J5="",$K5=""),"",IFERROR($J5*VLOOKUP($K5,Assumptions!$B$5:$C$8,2,FALSE),"")) | R5: =IF($A5="","",IF($L5="","",IF($L5="None",0,IF(OR($M5="",$N5=""),"",IFERROR($M5*VLOOKUP($N5,Assumptions!$B$5:$C$8,2,FALSE),""))))) | S5: =IF(OR($Q5="",$R5=""),"",SUM($Q5:$R5)) | T5: =IF(OR($S5="",$G5="",$G5=0),"",IFERROR($S5/$G5,"")) | U5: =IF($A5="","",IF($P5="","Review needed: choose status",IF(OR($J5="",$K5=""),"Review needed: base quote",IF($F5="","Review needed: coverage",IF(AND($H5>0,OR($I5="",$I5=0)),"Review needed: response terms",IF(AND($L5<>"",$L5<>"None",OR($M5="",$N5="")),"Review needed: add-on quote",IF($O5="","Review needed: responsibility","Ready for human comparison")))))))
A6: Fictional Plan B | B6: Fictional Customer — Blue Acorn Demo | C6: 100 Imaginary Oak Ave, Exampleville, ZZ 00000 | D6: 46224 | E6: General crawling insects | F6: Interior and exterior inspection with six planned visits | G6: 6 | H6: 1 | I6: 48 | J6: 59 | K6: Monthly | L6: None | O6: Report activity and keep listed areas accessible | P6: Under Review | Q6: =IF(OR($A6="",$J6="",$K6=""),"",IFERROR($J6*VLOOKUP($K6,Assumptions!$B$5:$C$8,2,FALSE),"")) | R6: =IF($A6="","",IF($L6="","",IF($L6="None",0,IF(OR($M6="",$N6=""),"",IFERROR($M6*VLOOKUP($N6,Assumptions!$B$5:$C$8,2,FALSE),""))))) | S6: =IF(OR($Q6="",$R6=""),"",SUM($Q6:$R6)) | T6: =IF(OR($S6="",$G6="",$G6=0),"",IFERROR($S6/$G6,"")) | U6: =IF($A6="","",IF($P6="","Review needed: choose status",IF(OR($J6="",$K6=""),"Review needed: base quote",IF($F6="","Review needed: coverage",IF(AND($H6>0,OR($I6="",$I6=0)),"Review needed: response terms",IF(AND($L6<>"",$L6<>"None",OR($M6="",$N6="")),"Review needed: add-on quote",IF($O6="","Review needed: responsibility","Ready for human comparison")))))))
A7: Fictional Plan C | B7: Fictional Customer — Blue Acorn Demo | C7: 100 Imaginary Oak Ave, Exampleville, ZZ 00000 | D7: 46231 | E7: Mosquitoes | F7: Eight planned exterior visits and two response visits | G7: 8 | H7: 2 | I7: 24 | J7: 199 | K7: Quarterly | L7: Mosquito service | M7: 35 | N7: Monthly | O7: Confirm access dates and remove standing-water containers | P7: Shortlisted | Q7: =IF(OR($A7="",$J7="",$K7=""),"",IFERROR($J7*VLOOKUP($K7,Assumptions!$B$5:$C$8,2,FALSE),"")) | R7: =IF($A7="","",IF($L7="","",IF($L7="None",0,IF(OR($M7="",$N7=""),"",IFERROR($M7*VLOOKUP($N7,Assumptions!$B$5:$C$8,2,FALSE),""))))) | S7: =IF(OR($Q7="",$R7=""),"",SUM($Q7:$R7)) | T7: =IF(OR($S7="",$G7="",$G7=0),"",IFERROR($S7/$G7,"")) | U7: =IF($A7="","",IF($P7="","Review needed: choose status",IF(OR($J7="",$K7=""),"Review needed: base quote",IF($F7="","Review needed: coverage",IF(AND($H7>0,OR($I7="",$I7=0)),"Review needed: response terms",IF(AND($L7<>"",$L7<>"None",OR($M7="",$N7="")),"Review needed: add-on quote",IF($O7="","Review needed: responsibility","Ready for human comparison")))))))
A8: Fictional Plan D | B8: Fictional Customer — Blue Acorn Demo | C8: 100 Imaginary Oak Ave, Exampleville, ZZ 00000 | D8: 46238 | E8: Rodents | F8: Three planned inspections with stated rodent monitoring | G8: 3 | H8: 1 | I8: 72 | J8: 525 | K8: Annual | L8: Rodent monitoring | M8: 120 | N8: Annual | O8: Approve separately quoted exclusion work if desired | P8: Shortlisted | Q8: =IF(OR($A8="",$J8="",$K8=""),"",IFERROR($J8*VLOOKUP($K8,Assumptions!$B$5:$C$8,2,FALSE),"")) | R8: =IF($A8="","",IF($L8="","",IF($L8="None",0,IF(OR($M8="",$N8=""),"",IFERROR($M8*VLOOKUP($N8,Assumptions!$B$5:$C$8,2,FALSE),""))))) | S8: =IF(OR($Q8="",$R8=""),"",SUM($Q8:$R8)) | T8: =IF(OR($S8="",$G8="",$G8=0),"",IFERROR($S8/$G8,"")) | U8: =IF($A8="","",IF($P8="","Review needed: choose status",IF(OR($J8="",$K8=""),"Review needed: base quote",IF($F8="","Review needed: coverage",IF(AND($H8>0,OR($I8="",$I8=0)),"Review needed: response terms",IF(AND($L8<>"",$L8<>"None",OR($M8="",$N8="")),"Review needed: add-on quote",IF($O8="","Review needed: responsibility","Ready for human comparison")))))))
A9: Fictional Plan E | B9: Fictional Customer — Blue Acorn Demo | C9: 100 Imaginary Oak Ave, Exampleville, ZZ 00000 | D9: 46245 | E9: General crawling insects | F9: Five scheduled visits focused on exterior service areas | G9: 5 | H9: 0 | I9: 0 | J9: 145 | K9: Quarterly | L9: Seasonal exterior visit | M9: 85 | N9: Semiannual | O9: Maintain access to the perimeter and listed service areas | P9: Draft | Q9: =IF(OR($A9="",$J9="",$K9=""),"",IFERROR($J9*VLOOKUP($K9,Assumptions!$B$5:$C$8,2,FALSE),"")) | R9: =IF($A9="","",IF($L9="","",IF($L9="None",0,IF(OR($M9="",$N9=""),"",IFERROR($M9*VLOOKUP($N9,Assumptions!$B$5:$C$8,2,FALSE),""))))) | S9: =IF(OR($Q9="",$R9=""),"",SUM($Q9:$R9)) | T9: =IF(OR($S9="",$G9="",$G9=0),"",IFERROR($S9/$G9,"")) | U9: =IF($A9="","",IF($P9="","Review needed: choose status",IF(OR($J9="",$K9=""),"Review needed: base quote",IF($F9="","Review needed: coverage",IF(AND($H9>0,OR($I9="",$I9=0)),"Review needed: response terms",IF(AND($L9<>"",$L9<>"None",OR($M9="",$N9="")),"Review needed: add-on quote",IF($O9="","Review needed: responsibility","Ready for human comparison")))))))
A10: Fictional Plan F | B10: Fictional Customer — Blue Acorn Demo | C10: 100 Imaginary Oak Ave, Exampleville, ZZ 00000 | D10: 46252 | E10: Ants | F10: Six planned visits with three stated response visits | G10: 6 | H10: 3 | I10: 12 | J10: 79 | K10: Monthly | L10: None | O10: Report new activity and follow the quoted preparation list | P10: Under Review | Q10: =IF(OR($A10="",$J10="",$K10=""),"",IFERROR($J10*VLOOKUP($K10,Assumptions!$B$5:$C$8,2,FALSE),"")) | R10: =IF($A10="","",IF($L10="","",IF($L10="None",0,IF(OR($M10="",$N10=""),"",IFERROR($M10*VLOOKUP($N10,Assumptions!$B$5:$C$8,2,FALSE),""))))) | S10: =IF(OR($Q10="",$R10=""),"",SUM($Q10:$R10)) | T10: =IF(OR($S10="",$G10="",$G10=0),"",IFERROR($S10/$G10,"")) | U10: =IF($A10="","",IF($P10="","Review needed: choose status",IF(OR($J10="",$K10=""),"Review needed: base quote",IF($F10="","Review needed: coverage",IF(AND($H10>0,OR($I10="",$I10=0)),"Review needed: response terms",IF(AND($L10<>"",$L10<>"None",OR($M10="",$N10="")),"Review needed: add-on quote",IF($O10="","Review needed: responsibility","Ready for human comparison")))))))
A11: Fictional Plan G | B11: Fictional Customer — Blue Acorn Demo | C11: 100 Imaginary Oak Ave, Exampleville, ZZ 00000 | D11: 46259 | E11: General crawling insects | F11: Four planned inspections and one stated response visit | G11: 4 | H11: 1 | I11: 24 | J11: 129 | K11: Quarterly | L11: Attic inspection | M11: 210 | N11: Annual | P11: Under Review | Q11: =IF(OR($A11="",$J11="",$K11=""),"",IFERROR($J11*VLOOKUP($K11,Assumptions!$B$5:$C$8,2,FALSE),"")) | R11: =IF($A11="","",IF($L11="","",IF($L11="None",0,IF(OR($M11="",$N11=""),"",IFERROR($M11*VLOOKUP($N11,Assumptions!$B$5:$C$8,2,FALSE),""))))) | S11: =IF(OR($Q11="",$R11=""),"",SUM($Q11:$R11)) | T11: =IF(OR($S11="",$G11="",$G11=0),"",IFERROR($S11/$G11,"")) | U11: =IF($A11="","",IF($P11="","Review needed: choose status",IF(OR($J11="",$K11=""),"Review needed: base quote",IF($F11="","Review needed: coverage",IF(AND($H11>0,OR($I11="",$I11=0)),"Review needed: response terms",IF(AND($L11<>"",$L11<>"None",OR($M11="",$N11="")),"Review needed: add-on quote",IF($O11="","Review needed: responsibility","Ready for human comparison")))))))
A12: Fictional Plan H | B12: Fictional Customer — Blue Acorn Demo | C12: 100 Imaginary Oak Ave, Exampleville, ZZ 00000 | D12: 46266 | E12: Stinging insects | F12: Two planned exterior inspections and one response visit | G12: 2 | H12: 1 | I12: 0 | J12: 275 | K12: Semiannual | L12: Stinging insect callout | M12: 95 | N12: Annual | O12: Identify accessible areas and approve separate work in writing | P12: Draft | Q12: =IF(OR($A12="",$J12="",$K12=""),"",IFERROR($J12*VLOOKUP($K12,Assumptions!$B$5:$C$8,2,FALSE),"")) | R12: =IF($A12="","",IF($L12="","",IF($L12="None",0,IF(OR($M12="",$N12=""),"",IFERROR($M12*VLOOKUP($N12,Assumptions!$B$5:$C$8,2,FALSE),""))))) | S12: =IF(OR($Q12="",$R12=""),"",SUM($Q12:$R12)) | T12: =IF(OR($S12="",$G12="",$G12=0),"",IFERROR($S12/$G12,"")) | U12: =IF($A12="","",IF($P12="","Review needed: choose status",IF(OR($J12="",$K12=""),"Review needed: base quote",IF($F12="","Review needed: coverage",IF(AND($H12>0,OR($I12="",$I12=0)),"Review needed: response terms",IF(AND($L12<>"",$L12<>"None",OR($M12="",$N12="")),"Review needed: add-on quote",IF($O12="","Review needed: responsibility","Ready for human comparison")))))))
A13: Fictional Plan I | B13: Fictional Customer — Blue Acorn Demo | C13: 100 Imaginary Oak Ave, Exampleville, ZZ 00000 | D13: 45292 | E13: Other stated concern | F13: One annual inspection with one stated response visit | G13: 1 | H13: 1 | I13: 720 | J13: 340 | K13: Annual | L13: None | O13: Provide access and describe the stated concern before service | P13: Declined | Q13: =IF(OR($A13="",$J13="",$K13=""),"",IFERROR($J13*VLOOKUP($K13,Assumptions!$B$5:$C$8,2,FALSE),"")) | R13: =IF($A13="","",IF($L13="","",IF($L13="None",0,IF(OR($M13="",$N13=""),"",IFERROR($M13*VLOOKUP($N13,Assumptions!$B$5:$C$8,2,FALSE),""))))) | S13: =IF(OR($Q13="",$R13=""),"",SUM($Q13:$R13)) | T13: =IF(OR($S13="",$G13="",$G13=0),"",IFERROR($S13/$G13,"")) | U13: =IF($A13="","",IF($P13="","Review needed: choose status",IF(OR($J13="",$K13=""),"Review needed: base quote",IF($F13="","Review needed: coverage",IF(AND($H13>0,OR($I13="",$I13=0)),"Review needed: response terms",IF(AND($L13<>"",$L13<>"None",OR($M13="",$N13="")),"Review needed: add-on quote",IF($O13="","Review needed: responsibility","Ready for human comparison")))))))
A14: Fictional Plan J | B14: Fictional Customer — Blue Acorn Demo | C14: 100 Imaginary Oak Ave, Exampleville, ZZ 00000 | D14: 47483 | E14: General crawling insects | F14: Fictional weekly comparison scenario with 52 planned visits | G14: 52 | H14: 52 | I14: 4 | J14: 299 | K14: Monthly | L14: None | O14: Coordinate weekly access and document requested service areas | P14: Draft | Q14: =IF(OR($A14="",$J14="",$K14=""),"",IFERROR($J14*VLOOKUP($K14,Assumptions!$B$5:$C$8,2,FALSE),"")) | R14: =IF($A14="","",IF($L14="","",IF($L14="None",0,IF(OR($M14="",$N14=""),"",IFERROR($M14*VLOOKUP($N14,Assumptions!$B$5:$C$8,2,FALSE),""))))) | S14: =IF(OR($Q14="",$R14=""),"",SUM($Q14:$R14)) | T14: =IF(OR($S14="",$G14="",$G14=0),"",IFERROR($S14/$G14,"")) | U14: =IF($A14="","",IF($P14="","Review needed: choose status",IF(OR($J14="",$K14=""),"Review needed: base quote",IF($F14="","Review needed: coverage",IF(AND($H14>0,OR($I14="",$I14=0)),"Review needed: response terms",IF(AND($L14<>"",$L14<>"None",OR($M14="",$N14="")),"Review needed: add-on quote",IF($O14="","Review needed: responsibility","Ready for human comparison")))))))
Q15: =IF(OR($A15="",$J15="",$K15=""),"",IFERROR($J15*VLOOKUP($K15,Assumptions!$B$5:$C$8,2,FALSE),"")) | R15: =IF($A15="","",IF($L15="","",IF($L15="None",0,IF(OR($M15="",$N15=""),"",IFERROR($M15*VLOOKUP($N15,Assumptions!$B$5:$C$8,2,FALSE),""))))) | S15: =IF(OR($Q15="",$R15=""),"",SUM($Q15:$R15)) | T15: =IF(OR($S15="",$G15="",$G15=0),"",IFERROR($S15/$G15,"")) | U15: =IF($A15="","",IF($P15="","Review needed: choose status",IF(OR($J15="",$K15=""),"Review needed: base quote",IF($F15="","Review needed: coverage",IF(AND($H15>0,OR($I15="",$I15=0)),"Review needed: response terms",IF(AND($L15<>"",$L15<>"None",OR($M15="",$N15="")),"Review needed: add-on quote",IF($O15="","Review needed: responsibility","Ready for human comparison")))))))
Q16: =IF(OR($A16="",$J16="",$K16=""),"",IFERROR($J16*VLOOKUP($K16,Assumptions!$B$5:$C$8,2,FALSE),"")) | R16: =IF($A16="","",IF($L16="","",IF($L16="None",0,IF(OR($M16="",$N16=""),"",IFERROR($M16*VLOOKUP($N16,Assumptions!$B$5:$C$8,2,FALSE),""))))) | S16: =IF(OR($Q16="",$R16=""),"",SUM($Q16:$R16)) | T16: =IF(OR($S16="",$G16="",$G16=0),"",IFERROR($S16/$G16,"")) | U16: =IF($A16="","",IF($P16="","Review needed: choose status",IF(OR($J16="",$K16=""),"Review needed: base quote",IF($F16="","Review needed: coverage",IF(AND($H16>0,OR($I16="",$I16=0)),"Review needed: response terms",IF(AND($L16<>"",$L16<>"None",OR($M16="",$N16="")),"Review needed: add-on quote",IF($O16="","Review needed: responsibility","Ready for human comparison")))))))
Q17: =IF(OR($A17="",$J17="",$K17=""),"",IFERROR($J17*VLOOKUP($K17,Assumptions!$B$5:$C$8,2,FALSE),"")) | R17: =IF($A17="","",IF($L17="","",IF($L17="None",0,IF(OR($M17="",$N17=""),"",IFERROR($M17*VLOOKUP($N17,Assumptions!$B$5:$C$8,2,FALSE),""))))) | S17: =IF(OR($Q17="",$R17=""),"",SUM($Q17:$R17)) | T17: =IF(OR($S17="",$G17="",$G17=0),"",IFERROR($S17/$G17,"")) | U17: =IF($A17="","",IF($P17="","Review needed: choose status",IF(OR($J17="",$K17=""),"Review needed: base quote",IF($F17="","Review needed: coverage",IF(AND($H17>0,OR($I17="",$I17=0)),"Review needed: response terms",IF(AND($L17<>"",$L17<>"None",OR($M17="",$N17="")),"Review needed: add-on quote",IF($O17="","Review needed: responsibility","Ready for human comparison")))))))
Q18: =IF(OR($A18="",$J18="",$K18=""),"",IFERROR($J18*VLOOKUP($K18,Assumptions!$B$5:$C$8,2,FALSE),"")) | R18: =IF($A18="","",IF($L18="","",IF($L18="None",0,IF(OR($M18="",$N18=""),"",IFERROR($M18*VLOOKUP($N18,Assumptions!$B$5:$C$8,2,FALSE),""))))) | S18: =IF(OR($Q18="",$R18=""),"",SUM($Q18:$R18)) | T18: =IF(OR($S18="",$G18="",$G18=0),"",IFERROR($S18/$G18,"")) | U18: =IF($A18="","",IF($P18="","Review needed: choose status",IF(OR($J18="",$K18=""),"Review needed: base quote",IF($F18="","Review needed: coverage",IF(AND($H18>0,OR($I18="",$I18=0)),"Review needed: response terms",IF(AND($L18<>"",$L18<>"None",OR($M18="",$N18="")),"Review needed: add-on quote",IF($O18="","Review needed: responsibility","Ready for human comparison")))))))
Q19: =IF(OR($A19="",$J19="",$K19=""),"",IFERROR($J19*VLOOKUP($K19,Assumptions!$B$5:$C$8,2,FALSE),"")) | R19: =IF($A19="","",IF($L19="","",IF($L19="None",0,IF(OR($M19="",$N19=""),"",IFERROR($M19*VLOOKUP($N19,Assumptions!$B$5:$C$8,2,FALSE),""))))) | S19: =IF(OR($Q19="",$R19=""),"",SUM($Q19:$R19)) | T19: =IF(OR($S19="",$G19="",$G19=0),"",IFERROR($S19/$G19,"")) | U19: =IF($A19="","",IF($P19="","Review needed: choose status",IF(OR($J19="",$K19=""),"Review needed: base quote",IF($F19="","Review needed: coverage",IF(AND($H19>0,OR($I19="",$I19=0)),"Review needed: response terms",IF(AND($L19<>"",$L19<>"None",OR($M19="",$N19="")),"Review needed: add-on quote",IF($O19="","Review needed: responsibility","Ready for human comparison")))))))
Q20: =IF(OR($A20="",$J20="",$K20=""),"",IFERROR($J20*VLOOKUP($K20,Assumptions!$B$5:$C$8,2,FALSE),"")) | R20: =IF($A20="","",IF($L20="","",IF($L20="None",0,IF(OR($M20="",$N20=""),"",IFERROR($M20*VLOOKUP($N20,Assumptions!$B$5:$C$8,2,FALSE),""))))) | S20: =IF(OR($Q20="",$R20=""),"",SUM($Q20:$R20)) | T20: =IF(OR($S20="",$G20="",$G20=0),"",IFERROR($S20/$G20,"")) | U20: =IF($A20="","",IF($P20="","Review needed: choose status",IF(OR($J20="",$K20=""),"Review needed: base quote",IF($F20="","Review needed: coverage",IF(AND($H20>0,OR($I20="",$I20=0)),"Review needed: response terms",IF(AND($L20<>"",$L20<>"None",OR($M20="",$N20="")),"Review needed: add-on quote",IF($O20="","Review needed: responsibility","Ready for human comparison")))))))
Q21: =IF(OR($A21="",$J21="",$K21=""),"",IFERROR($J21*VLOOKUP($K21,Assumptions!$B$5:$C$8,2,FALSE),"")) | R21: =IF($A21="","",IF($L21="","",IF($L21="None",0,IF(OR($M21="",$N21=""),"",IFERROR($M21*VLOOKUP($N21,Assumptions!$B$5:$C$8,2,FALSE),""))))) | S21: =IF(OR($Q21="",$R21=""),"",SUM($Q21:$R21)) | T21: =IF(OR($S21="",$G21="",$G21=0),"",IFERROR($S21/$G21,"")) | U21: =IF($A21="","",IF($P21="","Review needed: choose status",IF(OR($J21="",$K21=""),"Review needed: base quote",IF($F21="","Review needed: coverage",IF(AND($H21>0,OR($I21="",$I21=0)),"Review needed: response terms",IF(AND($L21<>"",$L21<>"None",OR($M21="",$N21="")),"Review needed: add-on quote",IF($O21="","Review needed: responsibility","Ready for human comparison")))))))
Q22: =IF(OR($A22="",$J22="",$K22=""),"",IFERROR($J22*VLOOKUP($K22,Assumptions!$B$5:$C$8,2,FALSE),"")) | R22: =IF($A22="","",IF($L22="","",IF($L22="None",0,IF(OR($M22="",$N22=""),"",IFERROR($M22*VLOOKUP($N22,Assumptions!$B$5:$C$8,2,FALSE),""))))) | S22: =IF(OR($Q22="",$R22=""),"",SUM($Q22:$R22)) | T22: =IF(OR($S22="",$G22="",$G22=0),"",IFERROR($S22/$G22,"")) | U22: =IF($A22="","",IF($P22="","Review needed: choose status",IF(OR($J22="",$K22=""),"Review needed: base quote",IF($F22="","Review needed: coverage",IF(AND($H22>0,OR($I22="",$I22=0)),"Review needed: response terms",IF(AND($L22<>"",$L22<>"None",OR($M22="",$N22="")),"Review needed: add-on quote",IF($O22="","Review needed: responsibility","Ready for human comparison")))))))
Q23: =IF(OR($A23="",$J23="",$K23=""),"",IFERROR($J23*VLOOKUP($K23,Assumptions!$B$5:$C$8,2,FALSE),"")) | R23: =IF($A23="","",IF($L23="","",IF($L23="None",0,IF(OR($M23="",$N23=""),"",IFERROR($M23*VLOOKUP($N23,Assumptions!$B$5:$C$8,2,FALSE),""))))) | S23: =IF(OR($Q23="",$R23=""),"",SUM($Q23:$R23)) | T23: =IF(OR($S23="",$G23="",$G23=0),"",IFERROR($S23/$G23,"")) | U23: =IF($A23="","",IF($P23="","Review needed: choose status",IF(OR($J23="",$K23=""),"Review needed: base quote",IF($F23="","Review needed: coverage",IF(AND($H23>0,OR($I23="",$I23=0)),"Review needed: response terms",IF(AND($L23<>"",$L23<>"None",OR($M23="",$N23="")),"Review needed: add-on quote",IF($O23="","Review needed: responsibility","Ready for human comparison")))))))
Q24: =IF(OR($A24="",$J24="",$K24=""),"",IFERROR($J24*VLOOKUP($K24,Assumptions!$B$5:$C$8,2,FALSE),"")) | R24: =IF($A24="","",IF($L24="","",IF($L24="None",0,IF(OR($M24="",$N24=""),"",IFERROR($M24*VLOOKUP($N24,Assumptions!$B$5:$C$8,2,FALSE),""))))) | S24: =IF(OR($Q24="",$R24=""),"",SUM($Q24:$R24)) | T24: =IF(OR($S24="",$G24="",$G24=0),"",IFERROR($S24/$G24,"")) | U24: =IF($A24="","",IF($P24="","Review needed: choose status",IF(OR($J24="",$K24=""),"Review needed: base quote",IF($F24="","Review needed: coverage",IF(AND($H24>0,OR($I24="",$I24=0)),"Review needed: response terms",IF(AND($L24<>"",$L24<>"None",OR($M24="",$N24="")),"Review needed: add-on quote",IF($O24="","Review needed: responsibility","Ready for human comparison")))))))
Q25: =IF(OR($A25="",$J25="",$K25=""),"",IFERROR($J25*VLOOKUP($K25,Assumptions!$B$5:$C$8,2,FALSE),"")) | R25: =IF($A25="","",IF($L25="","",IF($L25="None",0,IF(OR($M25="",$N25=""),"",IFERROR($M25*VLOOKUP($N25,Assumptions!$B$5:$C$8,2,FALSE),""))))) | S25: =IF(OR($Q25="",$R25=""),"",SUM($Q25:$R25)) | T25: =IF(OR($S25="",$G25="",$G25=0),"",IFERROR($S25/$G25,"")) | U25: =IF($A25="","",IF($P25="","Review needed: choose status",IF(OR($J25="",$K25=""),"Review needed: base quote",IF($F25="","Review needed: coverage",IF(AND($H25>0,OR($I25="",$I25=0)),"Review needed: response terms",IF(AND($L25<>"",$L25<>"None",OR($M25="",$N25="")),"Review needed: add-on quote",IF($O25="","Review needed: responsibility","Ready for human comparison")))))))
Q26: =IF(OR($A26="",$J26="",$K26=""),"",IFERROR($J26*VLOOKUP($K26,Assumptions!$B$5:$C$8,2,FALSE),"")) | R26: =IF($A26="","",IF($L26="","",IF($L26="None",0,IF(OR($M26="",$N26=""),"",IFERROR($M26*VLOOKUP($N26,Assumptions!$B$5:$C$8,2,FALSE),""))))) | S26: =IF(OR($Q26="",$R26=""),"",SUM($Q26:$R26)) | T26: =IF(OR($S26="",$G26="",$G26=0),"",IFERROR($S26/$G26,"")) | U26: =IF($A26="","",IF($P26="","Review needed: choose status",IF(OR($J26="",$K26=""),"Review needed: base quote",IF($F26="","Review needed: coverage",IF(AND($H26>0,OR($I26="",$I26=0)),"Review needed: response terms",IF(AND($L26<>"",$L26<>"None",OR($M26="",$N26="")),"Review needed: add-on quote",IF($O26="","Review needed: responsibility","Ready for human comparison")))))))
... Q104: =IF(OR($A104="",$J104="",$K104=""),"",IFERROR($J104*VLOOKUP($K104,Assumptions!$B$5:$C$8,2,FALSE),"")) | R104: =IF($A104="","",IF($L104="","",IF($L104="None",0,IF(OR($M104="",$N104=""),"",IFERROR($M104*VLOOKUP($N104,Assumptions!$B$5:$C$8,2,FALSE),""))))) | S104: =IF(OR($Q104="",$R104=""),"",SUM($Q104:$R104)) | T104: =IF(OR($S104="",$G104="",$G104=0),"",IFERROR($S104/$G104,"")) | U104: =IF($A104="","",IF($P104="","Review needed: choose status",IF(OR($J104="",$K104=""),"Review needed: base quote",IF($F104="","Review needed: coverage",IF(AND($H104>0,OR($I104="",$I104=0)),"Review needed: response terms",IF(AND($L104<>"",$L104<>"None",OR($M104="",$N104="")),"Review needed: add-on quote",IF($O104="","Review needed: responsibility","Ready for human comparison")))))))

Sheet Assumptions
A1: Editable Comparison Assumptions
A2: Edit yellow choices, multipliers, and limits before relying on the comparison.
A4: Assumption Type | B4: Choice or Limit | C4: Value | D4: Unit or Use
A5: Billing Frequency | B5: Monthly | C5: 12 | D5: Annual multiplier
A6: Billing Frequency | B6: Quarterly | C6: 4 | D6: Annual multiplier
A7: Billing Frequency | B7: Semiannual | C7: 2 | D7: Annual multiplier
A8: Billing Frequency | B8: Annual | C8: 1 | D8: Annual multiplier
A9: Status | B9: Draft | D9: Comparison workflow choice
A10: Status | B10: Under Review | D10: Comparison workflow choice
A11: Status | B11: Shortlisted | D11: Comparison workflow choice
A12: Status | B12: Declined | D12: Comparison workflow choice
A13: Pest Concern | B13: General crawling insects | D13: Fictional scenario choice
A14: Pest Concern | B14: Ants | D14: Fictional scenario choice
A15: Pest Concern | B15: Rodents | D15: Fictional scenario choice
A16: Pest Concern | B16: Stinging insects | D16: Fictional scenario choice
A17: Pest Concern | B17: Mosquitoes | D17: Fictional scenario choice
A18: Pest Concern | B18: Other stated concern | D18: Fictional scenario choice
A19: Add-on | B19: None | D19: Quoted add-on choice
A20: Add-on | B20: Mosquito service | D20: Quoted add-on choice
... A24: Add-on | B24: Attic inspection | D24: Quoted add-on choice
A25: Input Limit | B25: Earliest Quote Date | C25: 45292 | D25: MM/DD/YYYY
A26: Input Limit | B26: Latest Quote Date | C26: 47483 | D26: MM/DD/YYYY
A27: Input Limit | B27: Maximum Planned Visits | C27: 52 | D27: Visits per year
A28: Input Limit | B28: Maximum Included Response Visits | C28: 52 | D28: Visits per year
A29: Input Limit | B29: Maximum Response Window | C29: 720 | D29: Hours
A30: Input Limit | B30: Maximum Quote or Add-on Amount | C30: 100000 | D30: US dollars
