Workbook

Sheet Summary
A1: Pest Control Technician Commission Calculator
A3: Entered Service Amount | B3: =IF(COUNT(Production!$J$7:$J$126)=0,"",SUM(Production!$J$7:$J$126)) | C3: Eligible Production | D3: =IF(COUNT(Production!$L$7:$L$126)=0,"",SUM(Production!$L$7:$L$126)) | E3: Total Commission | F3: =IF(COUNT(Production!$S$7:$S$126)=0,"",SUM(Production!$S$7:$S$126))
A4: Completed Records | B4: =IF(COUNTA(Production!$A$7:$A$126)=0,"",COUNTIF(Production!$H$7:$H$126,"Completed")) | C4: Rows to Check | D4: =IF(COUNTA(Production!$A$7:$A$126)=0,"",COUNTIF(Production!$T$7:$T$126,"Check*")) | E4: Commission / Eligible | F4: =IFERROR(F3/D3,"")
A5: First Service Date | B5: =IF(COUNT(Production!$A$7:$A$126)=0,"",MIN(Production!$A$7:$A$126)) | C5: Last Service Date | D5: =IF(COUNT(Production!$A$7:$A$126)=0,"",MAX(Production!$A$7:$A$126)) | E5: Configured Technicians | F5: =COUNTIF(Assumptions!$A$7:$A$106,"<>")
A7: Technician | B7: Eligible Production | C7: Base Commission | D7: Bonus Commission | E7: Applied Adjustments | F7: Total Commission
A8: =IF(Assumptions!A7="","",Assumptions!A7) | B8: =IF($A8="","",SUMIFS(Production!$L$7:$L$126,Production!$F$7:$F$126,$A8)) | C8: =IF($A8="","",SUMIFS(Production!$P$7:$P$126,Production!$F$7:$F$126,$A8)) | D8: =IF($A8="","",SUMIFS(Production!$R$7:$R$126,Production!$F$7:$F$126,$A8)) | E8: =IF($A8="","",$F8-$C8-$D8) | F8: =IF($A8="","",SUMIFS(Production!$S$7:$S$126,Production!$F$7:$F$126,$A8))
A9: =IF(Assumptions!A8="","",Assumptions!A8) | B9: =IF($A9="","",SUMIFS(Production!$L$7:$L$126,Production!$F$7:$F$126,$A9)) | C9: =IF($A9="","",SUMIFS(Production!$P$7:$P$126,Production!$F$7:$F$126,$A9)) | D9: =IF($A9="","",SUMIFS(Production!$R$7:$R$126,Production!$F$7:$F$126,$A9)) | E9: =IF($A9="","",$F9-$C9-$D9) | F9: =IF($A9="","",SUMIFS(Production!$S$7:$S$126,Production!$F$7:$F$126,$A9))
A10: =IF(Assumptions!A9="","",Assumptions!A9) | B10: =IF($A10="","",SUMIFS(Production!$L$7:$L$126,Production!$F$7:$F$126,$A10)) | C10: =IF($A10="","",SUMIFS(Production!$P$7:$P$126,Production!$F$7:$F$126,$A10)) | D10: =IF($A10="","",SUMIFS(Production!$R$7:$R$126,Production!$F$7:$F$126,$A10)) | E10: =IF($A10="","",$F10-$C10-$D10) | F10: =IF($A10="","",SUMIFS(Production!$S$7:$S$126,Production!$F$7:$F$126,$A10))
A11: =IF(Assumptions!A10="","",Assumptions!A10) | B11: =IF($A11="","",SUMIFS(Production!$L$7:$L$126,Production!$F$7:$F$126,$A11)) | C11: =IF($A11="","",SUMIFS(Production!$P$7:$P$126,Production!$F$7:$F$126,$A11)) | D11: =IF($A11="","",SUMIFS(Production!$R$7:$R$126,Production!$F$7:$F$126,$A11)) | E11: =IF($A11="","",$F11-$C11-$D11) | F11: =IF($A11="","",SUMIFS(Production!$S$7:$S$126,Production!$F$7:$F$126,$A11))
A12: =IF(Assumptions!A11="","",Assumptions!A11) | B12: =IF($A12="","",SUMIFS(Production!$L$7:$L$126,Production!$F$7:$F$126,$A12)) | C12: =IF($A12="","",SUMIFS(Production!$P$7:$P$126,Production!$F$7:$F$126,$A12)) | D12: =IF($A12="","",SUMIFS(Production!$R$7:$R$126,Production!$F$7:$F$126,$A12)) | E12: =IF($A12="","",$F12-$C12-$D12) | F12: =IF($A12="","",SUMIFS(Production!$S$7:$S$126,Production!$F$7:$F$126,$A12))
A13: =IF(Assumptions!A12="","",Assumptions!A12) | B13: =IF($A13="","",SUMIFS(Production!$L$7:$L$126,Production!$F$7:$F$126,$A13)) | C13: =IF($A13="","",SUMIFS(Production!$P$7:$P$126,Production!$F$7:$F$126,$A13)) | D13: =IF($A13="","",SUMIFS(Production!$R$7:$R$126,Production!$F$7:$F$126,$A13)) | E13: =IF($A13="","",$F13-$C13-$D13) | F13: =IF($A13="","",SUMIFS(Production!$S$7:$S$126,Production!$F$7:$F$126,$A13))
A14: =IF(Assumptions!A13="","",Assumptions!A13) | B14: =IF($A14="","",SUMIFS(Production!$L$7:$L$126,Production!$F$7:$F$126,$A14)) | C14: =IF($A14="","",SUMIFS(Production!$P$7:$P$126,Production!$F$7:$F$126,$A14)) | D14: =IF($A14="","",SUMIFS(Production!$R$7:$R$126,Production!$F$7:$F$126,$A14)) | E14: =IF($A14="","",$F14-$C14-$D14) | F14: =IF($A14="","",SUMIFS(Production!$S$7:$S$126,Production!$F$7:$F$126,$A14))
A15: =IF(Assumptions!A14="","",Assumptions!A14) | B15: =IF($A15="","",SUMIFS(Production!$L$7:$L$126,Production!$F$7:$F$126,$A15)) | C15: =IF($A15="","",SUMIFS(Production!$P$7:$P$126,Production!$F$7:$F$126,$A15)) | D15: =IF($A15="","",SUMIFS(Production!$R$7:$R$126,Production!$F$7:$F$126,$A15)) | E15: =IF($A15="","",$F15-$C15-$D15) | F15: =IF($A15="","",SUMIFS(Production!$S$7:$S$126,Production!$F$7:$F$126,$A15))
A16: =IF(Assumptions!A15="","",Assumptions!A15) | B16: =IF($A16="","",SUMIFS(Production!$L$7:$L$126,Production!$F$7:$F$126,$A16)) | C16: =IF($A16="","",SUMIFS(Production!$P$7:$P$126,Production!$F$7:$F$126,$A16)) | D16: =IF($A16="","",SUMIFS(Production!$R$7:$R$126,Production!$F$7:$F$126,$A16)) | E16: =IF($A16="","",$F16-$C16-$D16) | F16: =IF($A16="","",SUMIFS(Production!$S$7:$S$126,Production!$F$7:$F$126,$A16))
A17: =IF(Assumptions!A16="","",Assumptions!A16) | B17: =IF($A17="","",SUMIFS(Production!$L$7:$L$126,Production!$F$7:$F$126,$A17)) | C17: =IF($A17="","",SUMIFS(Production!$P$7:$P$126,Production!$F$7:$F$126,$A17)) | D17: =IF($A17="","",SUMIFS(Production!$R$7:$R$126,Production!$F$7:$F$126,$A17)) | E17: =IF($A17="","",$F17-$C17-$D17) | F17: =IF($A17="","",SUMIFS(Production!$S$7:$S$126,Production!$F$7:$F$126,$A17))
A18: =IF(Assumptions!A17="","",Assumptions!A17) | B18: =IF($A18="","",SUMIFS(Production!$L$7:$L$126,Production!$F$7:$F$126,$A18)) | C18: =IF($A18="","",SUMIFS(Production!$P$7:$P$126,Production!$F$7:$F$126,$A18)) | D18: =IF($A18="","",SUMIFS(Production!$R$7:$R$126,Production!$F$7:$F$126,$A18)) | E18: =IF($A18="","",$F18-$C18-$D18) | F18: =IF($A18="","",SUMIFS(Production!$S$7:$S$126,Production!$F$7:$F$126,$A18))
A19: =IF(Assumptions!A18="","",Assumptions!A18) | B19: =IF($A19="","",SUMIFS(Production!$L$7:$L$126,Production!$F$7:$F$126,$A19)) | C19: =IF($A19="","",SUMIFS(Production!$P$7:$P$126,Production!$F$7:$F$126,$A19)) | D19: =IF($A19="","",SUMIFS(Production!$R$7:$R$126,Production!$F$7:$F$126,$A19)) | E19: =IF($A19="","",$F19-$C19-$D19) | F19: =IF($A19="","",SUMIFS(Production!$S$7:$S$126,Production!$F$7:$F$126,$A19))
A20: Displayed Technician Total | B20: =SUM(B8:B19) | C20: =SUM(C8:C19) | D20: =SUM(D8:D19) | E20: =SUM(E8:E19) | F20: =SUM(F8:F19)

Sheet Production
A1: Commission Production Entries
A3: Earliest Entry Date | B3: 45546 | C3: Latest Entry Date | D3: 46641 | E3: Maximum Service Amount | F3: 25000 | G3: Adjustment Review Limit | H3: 75
A4: Entry Order | B4: Enter service records in chronological order so monthly threshold bonuses are assigned in entry order.
A6: Service Date | B6: Customer | C6: Service Site | D6: Pest Concern | E6: Service | F6: Technician | G6: Route | H6: Status | I6: Responsibility | J6: Service Amount | K6: Commission Adjustment | L6: Eligible Production | M6: Base Rate | N6: Monthly Threshold | O6: Bonus Rate | P6: Base Commission | Q6: Bonus Eligible Production | R6: Bonus Commission | S6: Total Commission | T6: Input Check
A7: 46236 | B7: Fictional Acorn Café | C7: 101 Example Way, Sampleton, ZZ 00000 | D7: Ant activity | E7: Routine service | F7: Avery Example (Fictional) | G7: Fictional Route Amber | H7: Completed | I7: Primary | J7: 420 | L7: =IF(COUNTA($A7:$K7)=0,"",IF(OR($A7="",$F7="",$H7="",$I7="",$J7=""),"",IF(NOT(ISNUMBER($J7)),"",IF($H7<>"Completed",0,IFERROR(IF(ISNUMBER(VLOOKUP($I7,Assumptions!$F$7:$G$9,2,FALSE)),$J7*VLOOKUP($I7,Assumptions!$F$7:$G$9,2,FALSE),""),""))))) | M7: =IF($F7="","",IFERROR(VLOOKUP($F7,Assumptions!$A$7:$D$106,2,FALSE),"")) | N7: =IF($F7="","",IFERROR(VLOOKUP($F7,Assumptions!$A$7:$D$106,3,FALSE),"")) | O7: =IF($F7="","",IFERROR(VLOOKUP($F7,Assumptions!$A$7:$D$106,4,FALSE),"")) | P7: =IF(OR($L7="",$M7=""),"",IF(AND(ISNUMBER($L7),ISNUMBER($M7)),$L7*$M7,"")) | Q7: =IF(OR($L7="",$N7="",$A7="",$F7=""),"",IF(AND(ISNUMBER($L7),ISNUMBER($N7),ISNUMBER($A7)),MAX(0,SUMIFS($L$7:L7,$F$7:F7,$F7,$A$7:A7,">="&DATE(YEAR($A7),MONTH($A7),1),$A$7:A7,"<"&DATE(YEAR($A7),MONTH($A7)+1,1))-$N7),"")) | R7: =IF(OR($Q7="",$O7=""),"",IF(AND(ISNUMBER($Q7),ISNUMBER($O7)),$Q7*$O7,"")) | S7: =IF(OR($P7="",$R7=""),"",IF(AND(ISNUMBER($P7),ISNUMBER($R7)),$P7+$R7+IF(ISNUMBER($K7),$K7,0),"")) | T7: =IF(COUNTA($A7:$K7)=0,"",IF(OR($A7="",$B7="",$C7="",$D7="",$E7="",$F7="",$G7="",$H7="",$I7="",$J7=""),"Check missing required input",IF(NOT(ISNUMBER($A7)),"Check date",IF(OR(NOT(ISNUMBER($B$3)),NOT(ISNUMBER($D$3)),NOT(ISNUMBER($F$3)),NOT(ISNUMBER($H$3))),"Check worksheet limits",IF(OR($A7<$B$3,$A7>$D$3),"Check date",IF(NOT(ISNUMBER($J7)),"Check service amount",IF($J7<0,"Check negative amount",IF($J7>$F$3,"Check service amount",IF(AND($K7<>"",NOT(ISNUMBER($K7))),"Check adjustment number",IF(ABS(IF(ISNUMBER($K7),$K7,0))>$H$3,"Check adjustment",IF(IFERROR(VLOOKUP($F7,Assumptions!$A$7:$D$106,1,FALSE),"")="","Check technician setup",IF(OR(NOT(ISNUMBER($M7)),NOT(ISNUMBER($N7)),NOT(ISNUMBER($O7))),"Check rate setup",IF(NOT(ISNUMBER(IFERROR(VLOOKUP($I7,Assumptions!$F$7:$G$9,2,FALSE),""))),"Check responsibility setup",IF(AND(ISNUMBER($S7),$S7<0),"Check negative total",""))))))))))))))
A8: 46237 | B8: Fictional Blue Lantern Books | C8: 202 Imaginary Avenue, Sampleton, ZZ 00000 | D8: Rodent evidence | E8: Inspection | F8: Jordan Sample (Fictional) | G8: Fictional Route Blue | H8: Completed | I8: Primary | J8: 450 | K8: 15 | L8: =IF(COUNTA($A8:$K8)=0,"",IF(OR($A8="",$F8="",$H8="",$I8="",$J8=""),"",IF(NOT(ISNUMBER($J8)),"",IF($H8<>"Completed",0,IFERROR(IF(ISNUMBER(VLOOKUP($I8,Assumptions!$F$7:$G$9,2,FALSE)),$J8*VLOOKUP($I8,Assumptions!$F$7:$G$9,2,FALSE),""),""))))) | M8: =IF($F8="","",IFERROR(VLOOKUP($F8,Assumptions!$A$7:$D$106,2,FALSE),"")) | N8: =IF($F8="","",IFERROR(VLOOKUP($F8,Assumptions!$A$7:$D$106,3,FALSE),"")) | O8: =IF($F8="","",IFERROR(VLOOKUP($F8,Assumptions!$A$7:$D$106,4,FALSE),"")) | P8: =IF(OR($L8="",$M8=""),"",IF(AND(ISNUMBER($L8),ISNUMBER($M8)),$L8*$M8,"")) | Q8: =IF(OR($L8="",$N8="",$A8="",$F8=""),"",IF(AND(ISNUMBER($L8),ISNUMBER($N8),ISNUMBER($A8)),MAX(0,SUMIFS($L$7:L8,$F$7:F8,$F8,$A$7:A8,">="&DATE(YEAR($A8),MONTH($A8),1),$A$7:A8,"<"&DATE(YEAR($A8),MONTH($A8)+1,1))-$N8)-MAX(0,SUMIFS($L$7:L7,$F$7:F7,$F8,$A$7:A7,">="&DATE(YEAR($A8),MONTH($A8),1),$A$7:A7,"<"&DATE(YEAR($A8),MONTH($A8)+1,1))-$N8),"")) | R8: =IF(OR($Q8="",$O8=""),"",IF(AND(ISNUMBER($Q8),ISNUMBER($O8)),$Q8*$O8,"")) | S8: =IF(OR($P8="",$R8=""),"",IF(AND(ISNUMBER($P8),ISNUMBER($R8)),$P8+$R8+IF(ISNUMBER($K8),$K8,0),"")) | T8: =IF(COUNTA($A8:$K8)=0,"",IF(OR($A8="",$B8="",$C8="",$D8="",$E8="",$F8="",$G8="",$H8="",$I8="",$J8=""),"Check missing required input",IF(NOT(ISNUMBER($A8)),"Check date",IF(OR(NOT(ISNUMBER($B$3)),NOT(ISNUMBER($D$3)),NOT(ISNUMBER($F$3)),NOT(ISNUMBER($H$3))),"Check worksheet limits",IF(OR($A8<$B$3,$A8>$D$3),"Check date",IF(NOT(ISNUMBER($J8)),"Check service amount",IF($J8<0,"Check negative amount",IF($J8>$F$3,"Check service amount",IF(AND($K8<>"",NOT(ISNUMBER($K8))),"Check adjustment number",IF(ABS(IF(ISNUMBER($K8),$K8,0))>$H$3,"Check adjustment",IF(IFERROR(VLOOKUP($F8,Assumptions!$A$7:$D$106,1,FALSE),"")="","Check technician setup",IF(OR(NOT(ISNUMBER($M8)),NOT(ISNUMBER($N8)),NOT(ISNUMBER($O8))),"Check rate setup",IF(NOT(ISNUMBER(IFERROR(VLOOKUP($I8,Assumptions!$F$7:$G$9,2,FALSE),""))),"Check responsibility setup",IF(AND(ISNUMBER($S8),$S8<0),"Check negative total",""))))))))))))))
A9: 46238 | B9: Fictional Cedar Kite Market | C9: 303 Placeholder Road, Demo City, ZZ 00000 | D9: Occasional invaders | E9: Routine service | F9: Morgan Demo (Fictional) | G9: Fictional Route Cedar | H9: Completed | I9: Primary | J9: 700 | L9: =IF(COUNTA($A9:$K9)=0,"",IF(OR($A9="",$F9="",$H9="",$I9="",$J9=""),"",IF(NOT(ISNUMBER($J9)),"",IF($H9<>"Completed",0,IFERROR(IF(ISNUMBER(VLOOKUP($I9,Assumptions!$F$7:$G$9,2,FALSE)),$J9*VLOOKUP($I9,Assumptions!$F$7:$G$9,2,FALSE),""),""))))) | M9: =IF($F9="","",IFERROR(VLOOKUP($F9,Assumptions!$A$7:$D$106,2,FALSE),"")) | N9: =IF($F9="","",IFERROR(VLOOKUP($F9,Assumptions!$A$7:$D$106,3,FALSE),"")) | O9: =IF($F9="","",IFERROR(VLOOKUP($F9,Assumptions!$A$7:$D$106,4,FALSE),"")) | P9: =IF(OR($L9="",$M9=""),"",IF(AND(ISNUMBER($L9),ISNUMBER($M9)),$L9*$M9,"")) | Q9: =IF(OR($L9="",$N9="",$A9="",$F9=""),"",IF(AND(ISNUMBER($L9),ISNUMBER($N9),ISNUMBER($A9)),MAX(0,SUMIFS($L$7:L9,$F$7:F9,$F9,$A$7:A9,">="&DATE(YEAR($A9),MONTH($A9),1),$A$7:A9,"<"&DATE(YEAR($A9),MONTH($A9)+1,1))-$N9)-MAX(0,SUMIFS($L$7:L8,$F$7:F8,$F9,$A$7:A8,">="&DATE(YEAR($A9),MONTH($A9),1),$A$7:A8,"<"&DATE(YEAR($A9),MONTH($A9)+1,1))-$N9),"")) | R9: =IF(OR($Q9="",$O9=""),"",IF(AND(ISNUMBER($Q9),ISNUMBER($O9)),$Q9*$O9,"")) | S9: =IF(OR($P9="",$R9=""),"",IF(AND(ISNUMBER($P9),ISNUMBER($R9)),$P9+$R9+IF(ISNUMBER($K9),$K9,0),"")) | T9: =IF(COUNTA($A9:$K9)=0,"",IF(OR($A9="",$B9="",$C9="",$D9="",$E9="",$F9="",$G9="",$H9="",$I9="",$J9=""),"Check missing required input",IF(NOT(ISNUMBER($A9)),"Check date",IF(OR(NOT(ISNUMBER($B$3)),NOT(ISNUMBER($D$3)),NOT(ISNUMBER($F$3)),NOT(ISNUMBER($H$3))),"Check worksheet limits",IF(OR($A9<$B$3,$A9>$D$3),"Check date",IF(NOT(ISNUMBER($J9)),"Check service amount",IF($J9<0,"Check negative amount",IF($J9>$F$3,"Check service amount",IF(AND($K9<>"",NOT(ISNUMBER($K9))),"Check adjustment number",IF(ABS(IF(ISNUMBER($K9),$K9,0))>$H$3,"Check adjustment",IF(IFERROR(VLOOKUP($F9,Assumptions!$A$7:$D$106,1,FALSE),"")="","Check technician setup",IF(OR(NOT(ISNUMBER($M9)),NOT(ISNUMBER($N9)),NOT(ISNUMBER($O9))),"Check rate setup",IF(NOT(ISNUMBER(IFERROR(VLOOKUP($I9,Assumptions!$F$7:$G$9,2,FALSE),""))),"Check responsibility setup",IF(AND(ISNUMBER($S9),$S9<0),"Check negative total",""))))))))))))))
A10: 46239 | B10: Fictional Dandelion Studio | C10: 404 Sample Street, Demo City, ZZ 00000 | D10: Spider activity | E10: Monitoring visit | F10: Avery Example (Fictional) | G10: Fictional Route Amber | H10: Completed | I10: Primary | J10: 380 | K10: -20 | L10: =IF(COUNTA($A10:$K10)=0,"",IF(OR($A10="",$F10="",$H10="",$I10="",$J10=""),"",IF(NOT(ISNUMBER($J10)),"",IF($H10<>"Completed",0,IFERROR(IF(ISNUMBER(VLOOKUP($I10,Assumptions!$F$7:$G$9,2,FALSE)),$J10*VLOOKUP($I10,Assumptions!$F$7:$G$9,2,FALSE),""),""))))) | M10: =IF($F10="","",IFERROR(VLOOKUP($F10,Assumptions!$A$7:$D$106,2,FALSE),"")) | N10: =IF($F10="","",IFERROR(VLOOKUP($F10,Assumptions!$A$7:$D$106,3,FALSE),"")) | O10: =IF($F10="","",IFERROR(VLOOKUP($F10,Assumptions!$A$7:$D$106,4,FALSE),"")) | P10: =IF(OR($L10="",$M10=""),"",IF(AND(ISNUMBER($L10),ISNUMBER($M10)),$L10*$M10,"")) | Q10: =IF(OR($L10="",$N10="",$A10="",$F10=""),"",IF(AND(ISNUMBER($L10),ISNUMBER($N10),ISNUMBER($A10)),MAX(0,SUMIFS($L$7:L10,$F$7:F10,$F10,$A$7:A10,">="&DATE(YEAR($A10),MONTH($A10),1),$A$7:A10,"<"&DATE(YEAR($A10),MONTH($A10)+1,1))-$N10)-MAX(0,SUMIFS($L$7:L9,$F$7:F9,$F10,$A$7:A9,">="&DATE(YEAR($A10),MONTH($A10),1),$A$7:A9,"<"&DATE(YEAR($A10),MONTH($A10)+1,1))-$N10),"")) | R10: =IF(OR($Q10="",$O10=""),"",IF(AND(ISNUMBER($Q10),ISNUMBER($O10)),$Q10*$O10,"")) | S10: =IF(OR($P10="",$R10=""),"",IF(AND(ISNUMBER($P10),ISNUMBER($R10)),$P10+$R10+IF(ISNUMBER($K10),$K10,0),"")) | T10: =IF(COUNTA($A10:$K10)=0,"",IF(OR($A10="",$B10="",$C10="",$D10="",$E10="",$F10="",$G10="",$H10="",$I10="",$J10=""),"Check missing required input",IF(NOT(ISNUMBER($A10)),"Check date",IF(OR(NOT(ISNUMBER($B$3)),NOT(ISNUMBER($D$3)),NOT(ISNUMBER($F$3)),NOT(ISNUMBER($H$3))),"Check worksheet limits",IF(OR($A10<$B$3,$A10>$D$3),"Check date",IF(NOT(ISNUMBER($J10)),"Check service amount",IF($J10<0,"Check negative amount",IF($J10>$F$3,"Check service amount",IF(AND($K10<>"",NOT(ISNUMBER($K10))),"Check adjustment number",IF(ABS(IF(ISNUMBER($K10),$K10,0))>$H$3,"Check adjustment",IF(IFERROR(VLOOKUP($F10,Assumptions!$A$7:$D$106,1,FALSE),"")="","Check technician setup",IF(OR(NOT(ISNUMBER($M10)),NOT(ISNUMBER($N10)),NOT(ISNUMBER($O10))),"Check rate setup",IF(NOT(ISNUMBER(IFERROR(VLOOKUP($I10,Assumptions!$F$7:$G$9,2,FALSE),""))),"Check responsibility setup",IF(AND(ISNUMBER($S10),$S10<0),"Check negative total",""))))))))))))))
A11: 46240 | B11: Fictional Ember Toy Shop | C11: 505 Fiction Lane, Example Borough, ZZ 00000 | D11: Stored product concern | E11: Inspection | F11: Jordan Sample (Fictional) | G11: Fictional Route Blue | H11: Cancelled | I11: Primary | J11: 300 | L11: =IF(COUNTA($A11:$K11)=0,"",IF(OR($A11="",$F11="",$H11="",$I11="",$J11=""),"",IF(NOT(ISNUMBER($J11)),"",IF($H11<>"Completed",0,IFERROR(IF(ISNUMBER(VLOOKUP($I11,Assumptions!$F$7:$G$9,2,FALSE)),$J11*VLOOKUP($I11,Assumptions!$F$7:$G$9,2,FALSE),""),""))))) | M11: =IF($F11="","",IFERROR(VLOOKUP($F11,Assumptions!$A$7:$D$106,2,FALSE),"")) | N11: =IF($F11="","",IFERROR(VLOOKUP($F11,Assumptions!$A$7:$D$106,3,FALSE),"")) | O11: =IF($F11="","",IFERROR(VLOOKUP($F11,Assumptions!$A$7:$D$106,4,FALSE),"")) | P11: =IF(OR($L11="",$M11=""),"",IF(AND(ISNUMBER($L11),ISNUMBER($M11)),$L11*$M11,"")) | Q11: =IF(OR($L11="",$N11="",$A11="",$F11=""),"",IF(AND(ISNUMBER($L11),ISNUMBER($N11),ISNUMBER($A11)),MAX(0,SUMIFS($L$7:L11,$F$7:F11,$F11,$A$7:A11,">="&DATE(YEAR($A11),MONTH($A11),1),$A$7:A11,"<"&DATE(YEAR($A11),MONTH($A11)+1,1))-$N11)-MAX(0,SUMIFS($L$7:L10,$F$7:F10,$F11,$A$7:A10,">="&DATE(YEAR($A11),MONTH($A11),1),$A$7:A10,"<"&DATE(YEAR($A11),MONTH($A11)+1,1))-$N11),"")) | R11: =IF(OR($Q11="",$O11=""),"",IF(AND(ISNUMBER($Q11),ISNUMBER($O11)),$Q11*$O11,"")) | S11: =IF(OR($P11="",$R11=""),"",IF(AND(ISNUMBER($P11),ISNUMBER($R11)),$P11+$R11+IF(ISNUMBER($K11),$K11,0),"")) | T11: =IF(COUNTA($A11:$K11)=0,"",IF(OR($A11="",$B11="",$C11="",$D11="",$E11="",$F11="",$G11="",$H11="",$I11="",$J11=""),"Check missing required input",IF(NOT(ISNUMBER($A11)),"Check date",IF(OR(NOT(ISNUMBER($B$3)),NOT(ISNUMBER($D$3)),NOT(ISNUMBER($F$3)),NOT(ISNUMBER($H$3))),"Check worksheet limits",IF(OR($A11<$B$3,$A11>$D$3),"Check date",IF(NOT(ISNUMBER($J11)),"Check service amount",IF($J11<0,"Check negative amount",IF($J11>$F$3,"Check service amount",IF(AND($K11<>"",NOT(ISNUMBER($K11))),"Check adjustment number",IF(ABS(IF(ISNUMBER($K11),$K11,0))>$H$3,"Check adjustment",IF(IFERROR(VLOOKUP($F11,Assumptions!$A$7:$D$106,1,FALSE),"")="","Check technician setup",IF(OR(NOT(ISNUMBER($M11)),NOT(ISNUMBER($N11)),NOT(ISNUMBER($O11))),"Check rate setup",IF(NOT(ISNUMBER(IFERROR(VLOOKUP($I11,Assumptions!$F$7:$G$9,2,FALSE),""))),"Check responsibility setup",IF(AND(ISNUMBER($S11),$S11<0),"Check negative total",""))))))))))))))
A12: 46241 | B12: Fictional Fern Clockworks | C12: 606 Demonstration Drive, Example Borough, ZZ 00000 | D12: Rodent evidence | E12: Exclusion follow-up | F12: Morgan Demo (Fictional) | G12: Fictional Route Cedar | H12: Completed | I12: Primary | J12: 600 | L12: =IF(COUNTA($A12:$K12)=0,"",IF(OR($A12="",$F12="",$H12="",$I12="",$J12=""),"",IF(NOT(ISNUMBER($J12)),"",IF($H12<>"Completed",0,IFERROR(IF(ISNUMBER(VLOOKUP($I12,Assumptions!$F$7:$G$9,2,FALSE)),$J12*VLOOKUP($I12,Assumptions!$F$7:$G$9,2,FALSE),""),""))))) | M12: =IF($F12="","",IFERROR(VLOOKUP($F12,Assumptions!$A$7:$D$106,2,FALSE),"")) | N12: =IF($F12="","",IFERROR(VLOOKUP($F12,Assumptions!$A$7:$D$106,3,FALSE),"")) | O12: =IF($F12="","",IFERROR(VLOOKUP($F12,Assumptions!$A$7:$D$106,4,FALSE),"")) | P12: =IF(OR($L12="",$M12=""),"",IF(AND(ISNUMBER($L12),ISNUMBER($M12)),$L12*$M12,"")) | Q12: =IF(OR($L12="",$N12="",$A12="",$F12=""),"",IF(AND(ISNUMBER($L12),ISNUMBER($N12),ISNUMBER($A12)),MAX(0,SUMIFS($L$7:L12,$F$7:F12,$F12,$A$7:A12,">="&DATE(YEAR($A12),MONTH($A12),1),$A$7:A12,"<"&DATE(YEAR($A12),MONTH($A12)+1,1))-$N12)-MAX(0,SUMIFS($L$7:L11,$F$7:F11,$F12,$A$7:A11,">="&DATE(YEAR($A12),MONTH($A12),1),$A$7:A11,"<"&DATE(YEAR($A12),MONTH($A12)+1,1))-$N12),"")) | R12: =IF(OR($Q12="",$O12=""),"",IF(AND(ISNUMBER($Q12),ISNUMBER($O12)),$Q12*$O12,"")) | S12: =IF(OR($P12="",$R12=""),"",IF(AND(ISNUMBER($P12),ISNUMBER($R12)),$P12+$R12+IF(ISNUMBER($K12),$K12,0),"")) | T12: =IF(COUNTA($A12:$K12)=0,"",IF(OR($A12="",$B12="",$C12="",$D12="",$E12="",$F12="",$G12="",$H12="",$I12="",$J12=""),"Check missing required input",IF(NOT(ISNUMBER($A12)),"Check date",IF(OR(NOT(ISNUMBER($B$3)),NOT(ISNUMBER($D$3)),NOT(ISNUMBER($F$3)),NOT(ISNUMBER($H$3))),"Check worksheet limits",IF(OR($A12<$B$3,$A12>$D$3),"Check date",IF(NOT(ISNUMBER($J12)),"Check service amount",IF($J12<0,"Check negative amount",IF($J12>$F$3,"Check service amount",IF(AND($K12<>"",NOT(ISNUMBER($K12))),"Check adjustment number",IF(ABS(IF(ISNUMBER($K12),$K12,0))>$H$3,"Check adjustment",IF(IFERROR(VLOOKUP($F12,Assumptions!$A$7:$D$106,1,FALSE),"")="","Check technician setup",IF(OR(NOT(ISNUMBER($M12)),NOT(ISNUMBER($N12)),NOT(ISNUMBER($O12))),"Check rate setup",IF(NOT(ISNUMBER(IFERROR(VLOOKUP($I12,Assumptions!$F$7:$G$9,2,FALSE),""))),"Check responsibility setup",IF(AND(ISNUMBER($S12),$S12<0),"Check negative total",""))))))))))))))
A13: 46242 | B13: Fictional Golden Spoon Deli | C13: 707 Mockingbird Court, Sampleton, ZZ 00000 | D13: Fly activity | E13: Routine service | F13: Avery Example (Fictional) | G13: Fictional Route Amber | H13: Completed | I13: Assist | J13: 500 | L13: =IF(COUNTA($A13:$K13)=0,"",IF(OR($A13="",$F13="",$H13="",$I13="",$J13=""),"",IF(NOT(ISNUMBER($J13)),"",IF($H13<>"Completed",0,IFERROR(IF(ISNUMBER(VLOOKUP($I13,Assumptions!$F$7:$G$9,2,FALSE)),$J13*VLOOKUP($I13,Assumptions!$F$7:$G$9,2,FALSE),""),""))))) | M13: =IF($F13="","",IFERROR(VLOOKUP($F13,Assumptions!$A$7:$D$106,2,FALSE),"")) | N13: =IF($F13="","",IFERROR(VLOOKUP($F13,Assumptions!$A$7:$D$106,3,FALSE),"")) | O13: =IF($F13="","",IFERROR(VLOOKUP($F13,Assumptions!$A$7:$D$106,4,FALSE),"")) | P13: =IF(OR($L13="",$M13=""),"",IF(AND(ISNUMBER($L13),ISNUMBER($M13)),$L13*$M13,"")) | Q13: =IF(OR($L13="",$N13="",$A13="",$F13=""),"",IF(AND(ISNUMBER($L13),ISNUMBER($N13),ISNUMBER($A13)),MAX(0,SUMIFS($L$7:L13,$F$7:F13,$F13,$A$7:A13,">="&DATE(YEAR($A13),MONTH($A13),1),$A$7:A13,"<"&DATE(YEAR($A13),MONTH($A13)+1,1))-$N13)-MAX(0,SUMIFS($L$7:L12,$F$7:F12,$F13,$A$7:A12,">="&DATE(YEAR($A13),MONTH($A13),1),$A$7:A12,"<"&DATE(YEAR($A13),MONTH($A13)+1,1))-$N13),"")) | R13: =IF(OR($Q13="",$O13=""),"",IF(AND(ISNUMBER($Q13),ISNUMBER($O13)),$Q13*$O13,"")) | S13: =IF(OR($P13="",$R13=""),"",IF(AND(ISNUMBER($P13),ISNUMBER($R13)),$P13+$R13+IF(ISNUMBER($K13),$K13,0),"")) | T13: =IF(COUNTA($A13:$K13)=0,"",IF(OR($A13="",$B13="",$C13="",$D13="",$E13="",$F13="",$G13="",$H13="",$I13="",$J13=""),"Check missing required input",IF(NOT(ISNUMBER($A13)),"Check date",IF(OR(NOT(ISNUMBER($B$3)),NOT(ISNUMBER($D$3)),NOT(ISNUMBER($F$3)),NOT(ISNUMBER($H$3))),"Check worksheet limits",IF(OR($A13<$B$3,$A13>$D$3),"Check date",IF(NOT(ISNUMBER($J13)),"Check service amount",IF($J13<0,"Check negative amount",IF($J13>$F$3,"Check service amount",IF(AND($K13<>"",NOT(ISNUMBER($K13))),"Check adjustment number",IF(ABS(IF(ISNUMBER($K13),$K13,0))>$H$3,"Check adjustment",IF(IFERROR(VLOOKUP($F13,Assumptions!$A$7:$D$106,1,FALSE),"")="","Check technician setup",IF(OR(NOT(ISNUMBER($M13)),NOT(ISNUMBER($N13)),NOT(ISNUMBER($O13))),"Check rate setup",IF(NOT(ISNUMBER(IFERROR(VLOOKUP($I13,Assumptions!$F$7:$G$9,2,FALSE),""))),"Check responsibility setup",IF(AND(ISNUMBER($S13),$S13<0),"Check negative total",""))))))))))))))
A14: 46243 | B14: Fictional Harbor Paper Co. | C14: 808 Example Parkway, Demo City, ZZ 00000 | D14: Ant activity | E14: Routine service | F14: Jordan Sample (Fictional) | G14: Fictional Route Blue | H14: Completed | I14: Primary | J14: 500 | K14: 80 | L14: =IF(COUNTA($A14:$K14)=0,"",IF(OR($A14="",$F14="",$H14="",$I14="",$J14=""),"",IF(NOT(ISNUMBER($J14)),"",IF($H14<>"Completed",0,IFERROR(IF(ISNUMBER(VLOOKUP($I14,Assumptions!$F$7:$G$9,2,FALSE)),$J14*VLOOKUP($I14,Assumptions!$F$7:$G$9,2,FALSE),""),""))))) | M14: =IF($F14="","",IFERROR(VLOOKUP($F14,Assumptions!$A$7:$D$106,2,FALSE),"")) | N14: =IF($F14="","",IFERROR(VLOOKUP($F14,Assumptions!$A$7:$D$106,3,FALSE),"")) | O14: =IF($F14="","",IFERROR(VLOOKUP($F14,Assumptions!$A$7:$D$106,4,FALSE),"")) | P14: =IF(OR($L14="",$M14=""),"",IF(AND(ISNUMBER($L14),ISNUMBER($M14)),$L14*$M14,"")) | Q14: =IF(OR($L14="",$N14="",$A14="",$F14=""),"",IF(AND(ISNUMBER($L14),ISNUMBER($N14),ISNUMBER($A14)),MAX(0,SUMIFS($L$7:L14,$F$7:F14,$F14,$A$7:A14,">="&DATE(YEAR($A14),MONTH($A14),1),$A$7:A14,"<"&DATE(YEAR($A14),MONTH($A14)+1,1))-$N14)-MAX(0,SUMIFS($L$7:L13,$F$7:F13,$F14,$A$7:A13,">="&DATE(YEAR($A14),MONTH($A14),1),$A$7:A13,"<"&DATE(YEAR($A14),MONTH($A14)+1,1))-$N14),"")) | R14: =IF(OR($Q14="",$O14=""),"",IF(AND(ISNUMBER($Q14),ISNUMBER($O14)),$Q14*$O14,"")) | S14: =IF(OR($P14="",$R14=""),"",IF(AND(ISNUMBER($P14),ISNUMBER($R14)),$P14+$R14+IF(ISNUMBER($K14),$K14,0),"")) | T14: =IF(COUNTA($A14:$K14)=0,"",IF(OR($A14="",$B14="",$C14="",$D14="",$E14="",$F14="",$G14="",$H14="",$I14="",$J14=""),"Check missing required input",IF(NOT(ISNUMBER($A14)),"Check date",IF(OR(NOT(ISNUMBER($B$3)),NOT(ISNUMBER($D$3)),NOT(ISNUMBER($F$3)),NOT(ISNUMBER($H$3))),"Check worksheet limits",IF(OR($A14<$B$3,$A14>$D$3),"Check date",IF(NOT(ISNUMBER($J14)),"Check service amount",IF($J14<0,"Check negative amount",IF($J14>$F$3,"Check service amount",IF(AND($K14<>"",NOT(ISNUMBER($K14))),"Check adjustment number",IF(ABS(IF(ISNUMBER($K14),$K14,0))>$H$3,"Check adjustment",IF(IFERROR(VLOOKUP($F14,Assumptions!$A$7:$D$106,1,FALSE),"")="","Check technician setup",IF(OR(NOT(ISNUMBER($M14)),NOT(ISNUMBER($N14)),NOT(ISNUMBER($O14))),"Check rate setup",IF(NOT(ISNUMBER(IFERROR(VLOOKUP($I14,Assumptions!$F$7:$G$9,2,FALSE),""))),"Check responsibility setup",IF(AND(ISNUMBER($S14),$S14<0),"Check negative total",""))))))))))))))
A15: 46244 | B15: Fictional Indigo Basket Works | C15: 909 Fictional Terrace, Example Borough, ZZ 00000 | D15: Spider activity | E15: Monitoring visit | F15: Morgan Demo (Fictional) | G15: Fictional Route Cedar | H15: Pending | I15: Primary | J15: 240 | L15: =IF(COUNTA($A15:$K15)=0,"",IF(OR($A15="",$F15="",$H15="",$I15="",$J15=""),"",IF(NOT(ISNUMBER($J15)),"",IF($H15<>"Completed",0,IFERROR(IF(ISNUMBER(VLOOKUP($I15,Assumptions!$F$7:$G$9,2,FALSE)),$J15*VLOOKUP($I15,Assumptions!$F$7:$G$9,2,FALSE),""),""))))) | M15: =IF($F15="","",IFERROR(VLOOKUP($F15,Assumptions!$A$7:$D$106,2,FALSE),"")) | N15: =IF($F15="","",IFERROR(VLOOKUP($F15,Assumptions!$A$7:$D$106,3,FALSE),"")) | O15: =IF($F15="","",IFERROR(VLOOKUP($F15,Assumptions!$A$7:$D$106,4,FALSE),"")) | P15: =IF(OR($L15="",$M15=""),"",IF(AND(ISNUMBER($L15),ISNUMBER($M15)),$L15*$M15,"")) | Q15: =IF(OR($L15="",$N15="",$A15="",$F15=""),"",IF(AND(ISNUMBER($L15),ISNUMBER($N15),ISNUMBER($A15)),MAX(0,SUMIFS($L$7:L15,$F$7:F15,$F15,$A$7:A15,">="&DATE(YEAR($A15),MONTH($A15),1),$A$7:A15,"<"&DATE(YEAR($A15),MONTH($A15)+1,1))-$N15)-MAX(0,SUMIFS($L$7:L14,$F$7:F14,$F15,$A$7:A14,">="&DATE(YEAR($A15),MONTH($A15),1),$A$7:A14,"<"&DATE(YEAR($A15),MONTH($A15)+1,1))-$N15),"")) | R15: =IF(OR($Q15="",$O15=""),"",IF(AND(ISNUMBER($Q15),ISNUMBER($O15)),$Q15*$O15,"")) | S15: =IF(OR($P15="",$R15=""),"",IF(AND(ISNUMBER($P15),ISNUMBER($R15)),$P15+$R15+IF(ISNUMBER($K15),$K15,0),"")) | T15: =IF(COUNTA($A15:$K15)=0,"",IF(OR($A15="",$B15="",$C15="",$D15="",$E15="",$F15="",$G15="",$H15="",$I15="",$J15=""),"Check missing required input",IF(NOT(ISNUMBER($A15)),"Check date",IF(OR(NOT(ISNUMBER($B$3)),NOT(ISNUMBER($D$3)),NOT(ISNUMBER($F$3)),NOT(ISNUMBER($H$3))),"Check worksheet limits",IF(OR($A15<$B$3,$A15>$D$3),"Check date",IF(NOT(ISNUMBER($J15)),"Check service amount",IF($J15<0,"Check negative amount",IF($J15>$F$3,"Check service amount",IF(AND($K15<>"",NOT(ISNUMBER($K15))),"Check adjustment number",IF(ABS(IF(ISNUMBER($K15),$K15,0))>$H$3,"Check adjustment",IF(IFERROR(VLOOKUP($F15,Assumptions!$A$7:$D$106,1,FALSE),"")="","Check technician setup",IF(OR(NOT(ISNUMBER($M15)),NOT(ISNUMBER($N15)),NOT(ISNUMBER($O15))),"Check rate setup",IF(NOT(ISNUMBER(IFERROR(VLOOKUP($I15,Assumptions!$F$7:$G$9,2,FALSE),""))),"Check responsibility setup",IF(AND(ISNUMBER($S15),$S15<0),"Check negative total",""))))))))))))))
A16: 46245 | B16: Fictional Juniper Music Room | C16: 1001 Sample Loop, Sampleton, ZZ 00000 | D16: Occasional invaders | E16: Inspection | F16: Avery Example (Fictional) | G16: Fictional Route Amber | H16: Completed | I16: Primary | J16: 250 | K16: -75 | L16: =IF(COUNTA($A16:$K16)=0,"",IF(OR($A16="",$F16="",$H16="",$I16="",$J16=""),"",IF(NOT(ISNUMBER($J16)),"",IF($H16<>"Completed",0,IFERROR(IF(ISNUMBER(VLOOKUP($I16,Assumptions!$F$7:$G$9,2,FALSE)),$J16*VLOOKUP($I16,Assumptions!$F$7:$G$9,2,FALSE),""),""))))) | M16: =IF($F16="","",IFERROR(VLOOKUP($F16,Assumptions!$A$7:$D$106,2,FALSE),"")) | N16: =IF($F16="","",IFERROR(VLOOKUP($F16,Assumptions!$A$7:$D$106,3,FALSE),"")) | O16: =IF($F16="","",IFERROR(VLOOKUP($F16,Assumptions!$A$7:$D$106,4,FALSE),"")) | P16: =IF(OR($L16="",$M16=""),"",IF(AND(ISNUMBER($L16),ISNUMBER($M16)),$L16*$M16,"")) | Q16: =IF(OR($L16="",$N16="",$A16="",$F16=""),"",IF(AND(ISNUMBER($L16),ISNUMBER($N16),ISNUMBER($A16)),MAX(0,SUMIFS($L$7:L16,$F$7:F16,$F16,$A$7:A16,">="&DATE(YEAR($A16),MONTH($A16),1),$A$7:A16,"<"&DATE(YEAR($A16),MONTH($A16)+1,1))-$N16)-MAX(0,SUMIFS($L$7:L15,$F$7:F15,$F16,$A$7:A15,">="&DATE(YEAR($A16),MONTH($A16),1),$A$7:A15,"<"&DATE(YEAR($A16),MONTH($A16)+1,1))-$N16),"")) | R16: =IF(OR($Q16="",$O16=""),"",IF(AND(ISNUMBER($Q16),ISNUMBER($O16)),$Q16*$O16,"")) | S16: =IF(OR($P16="",$R16=""),"",IF(AND(ISNUMBER($P16),ISNUMBER($R16)),$P16+$R16+IF(ISNUMBER($K16),$K16,0),"")) | T16: =IF(COUNTA($A16:$K16)=0,"",IF(OR($A16="",$B16="",$C16="",$D16="",$E16="",$F16="",$G16="",$H16="",$I16="",$J16=""),"Check missing required input",IF(NOT(ISNUMBER($A16)),"Check date",IF(OR(NOT(ISNUMBER($B$3)),NOT(ISNUMBER($D$3)),NOT(ISNUMBER($F$3)),NOT(ISNUMBER($H$3))),"Check worksheet limits",IF(OR($A16<$B$3,$A16>$D$3),"Check date",IF(NOT(ISNUMBER($J16)),"Check service amount",IF($J16<0,"Check negative amount",IF($J16>$F$3,"Check service amount",IF(AND($K16<>"",NOT(ISNUMBER($K16))),"Check adjustment number",IF(ABS(IF(ISNUMBER($K16),$K16,0))>$H$3,"Check adjustment",IF(IFERROR(VLOOKUP($F16,Assumptions!$A$7:$D$106,1,FALSE),"")="","Check technician setup",IF(OR(NOT(ISNUMBER($M16)),NOT(ISNUMBER($N16)),NOT(ISNUMBER($O16))),"Check rate setup",IF(NOT(ISNUMBER(IFERROR(VLOOKUP($I16,Assumptions!$F$7:$G$9,2,FALSE),""))),"Check responsibility setup",IF(AND(ISNUMBER($S16),$S16<0),"Check negative total",""))))))))))))))
L17: =IF(COUNTA($A17:$K17)=0,"",IF(OR($A17="",$F17="",$H17="",$I17="",$J17=""),"",IF(NOT(ISNUMBER($J17)),"",IF($H17<>"Completed",0,IFERROR(IF(ISNUMBER(VLOOKUP($I17,Assumptions!$F$7:$G$9,2,FALSE)),$J17*VLOOKUP($I17,Assumptions!$F$7:$G$9,2,FALSE),""),""))))) | M17: =IF($F17="","",IFERROR(VLOOKUP($F17,Assumptions!$A$7:$D$106,2,FALSE),"")) | N17: =IF($F17="","",IFERROR(VLOOKUP($F17,Assumptions!$A$7:$D$106,3,FALSE),"")) | O17: =IF($F17="","",IFERROR(VLOOKUP($F17,Assumptions!$A$7:$D$106,4,FALSE),"")) | P17: =IF(OR($L17="",$M17=""),"",IF(AND(ISNUMBER($L17),ISNUMBER($M17)),$L17*$M17,"")) | Q17: =IF(OR($L17="",$N17="",$A17="",$F17=""),"",IF(AND(ISNUMBER($L17),ISNUMBER($N17),ISNUMBER($A17)),MAX(0,SUMIFS($L$7:L17,$F$7:F17,$F17,$A$7:A17,">="&DATE(YEAR($A17),MONTH($A17),1),$A$7:A17,"<"&DATE(YEAR($A17),MONTH($A17)+1,1))-$N17)-MAX(0,SUMIFS($L$7:L16,$F$7:F16,$F17,$A$7:A16,">="&DATE(YEAR($A17),MONTH($A17),1),$A$7:A16,"<"&DATE(YEAR($A17),MONTH($A17)+1,1))-$N17),"")) | R17: =IF(OR($Q17="",$O17=""),"",IF(AND(ISNUMBER($Q17),ISNUMBER($O17)),$Q17*$O17,"")) | S17: =IF(OR($P17="",$R17=""),"",IF(AND(ISNUMBER($P17),ISNUMBER($R17)),$P17+$R17+IF(ISNUMBER($K17),$K17,0),"")) | T17: =IF(COUNTA($A17:$K17)=0,"",IF(OR($A17="",$B17="",$C17="",$D17="",$E17="",$F17="",$G17="",$H17="",$I17="",$J17=""),"Check missing required input",IF(NOT(ISNUMBER($A17)),"Check date",IF(OR(NOT(ISNUMBER($B$3)),NOT(ISNUMBER($D$3)),NOT(ISNUMBER($F$3)),NOT(ISNUMBER($H$3))),"Check worksheet limits",IF(OR($A17<$B$3,$A17>$D$3),"Check date",IF(NOT(ISNUMBER($J17)),"Check service amount",IF($J17<0,"Check negative amount",IF($J17>$F$3,"Check service amount",IF(AND($K17<>"",NOT(ISNUMBER($K17))),"Check adjustment number",IF(ABS(IF(ISNUMBER($K17),$K17,0))>$H$3,"Check adjustment",IF(IFERROR(VLOOKUP($F17,Assumptions!$A$7:$D$106,1,FALSE),"")="","Check technician setup",IF(OR(NOT(ISNUMBER($M17)),NOT(ISNUMBER($N17)),NOT(ISNUMBER($O17))),"Check rate setup",IF(NOT(ISNUMBER(IFERROR(VLOOKUP($I17,Assumptions!$F$7:$G$9,2,FALSE),""))),"Check responsibility setup",IF(AND(ISNUMBER($S17),$S17<0),"Check negative total",""))))))))))))))
L18: =IF(COUNTA($A18:$K18)=0,"",IF(OR($A18="",$F18="",$H18="",$I18="",$J18=""),"",IF(NOT(ISNUMBER($J18)),"",IF($H18<>"Completed",0,IFERROR(IF(ISNUMBER(VLOOKUP($I18,Assumptions!$F$7:$G$9,2,FALSE)),$J18*VLOOKUP($I18,Assumptions!$F$7:$G$9,2,FALSE),""),""))))) | M18: =IF($F18="","",IFERROR(VLOOKUP($F18,Assumptions!$A$7:$D$106,2,FALSE),"")) | N18: =IF($F18="","",IFERROR(VLOOKUP($F18,Assumptions!$A$7:$D$106,3,FALSE),"")) | O18: =IF($F18="","",IFERROR(VLOOKUP($F18,Assumptions!$A$7:$D$106,4,FALSE),"")) | P18: =IF(OR($L18="",$M18=""),"",IF(AND(ISNUMBER($L18),ISNUMBER($M18)),$L18*$M18,"")) | Q18: =IF(OR($L18="",$N18="",$A18="",$F18=""),"",IF(AND(ISNUMBER($L18),ISNUMBER($N18),ISNUMBER($A18)),MAX(0,SUMIFS($L$7:L18,$F$7:F18,$F18,$A$7:A18,">="&DATE(YEAR($A18),MONTH($A18),1),$A$7:A18,"<"&DATE(YEAR($A18),MONTH($A18)+1,1))-$N18)-MAX(0,SUMIFS($L$7:L17,$F$7:F17,$F18,$A$7:A17,">="&DATE(YEAR($A18),MONTH($A18),1),$A$7:A17,"<"&DATE(YEAR($A18),MONTH($A18)+1,1))-$N18),"")) | R18: =IF(OR($Q18="",$O18=""),"",IF(AND(ISNUMBER($Q18),ISNUMBER($O18)),$Q18*$O18,"")) | S18: =IF(OR($P18="",$R18=""),"",IF(AND(ISNUMBER($P18),ISNUMBER($R18)),$P18+$R18+IF(ISNUMBER($K18),$K18,0),"")) | T18: =IF(COUNTA($A18:$K18)=0,"",IF(OR($A18="",$B18="",$C18="",$D18="",$E18="",$F18="",$G18="",$H18="",$I18="",$J18=""),"Check missing required input",IF(NOT(ISNUMBER($A18)),"Check date",IF(OR(NOT(ISNUMBER($B$3)),NOT(ISNUMBER($D$3)),NOT(ISNUMBER($F$3)),NOT(ISNUMBER($H$3))),"Check worksheet limits",IF(OR($A18<$B$3,$A18>$D$3),"Check date",IF(NOT(ISNUMBER($J18)),"Check service amount",IF($J18<0,"Check negative amount",IF($J18>$F$3,"Check service amount",IF(AND($K18<>"",NOT(ISNUMBER($K18))),"Check adjustment number",IF(ABS(IF(ISNUMBER($K18),$K18,0))>$H$3,"Check adjustment",IF(IFERROR(VLOOKUP($F18,Assumptions!$A$7:$D$106,1,FALSE),"")="","Check technician setup",IF(OR(NOT(ISNUMBER($M18)),NOT(ISNUMBER($N18)),NOT(ISNUMBER($O18))),"Check rate setup",IF(NOT(ISNUMBER(IFERROR(VLOOKUP($I18,Assumptions!$F$7:$G$9,2,FALSE),""))),"Check responsibility setup",IF(AND(ISNUMBER($S18),$S18<0),"Check negative total",""))))))))))))))
L19: =IF(COUNTA($A19:$K19)=0,"",IF(OR($A19="",$F19="",$H19="",$I19="",$J19=""),"",IF(NOT(ISNUMBER($J19)),"",IF($H19<>"Completed",0,IFERROR(IF(ISNUMBER(VLOOKUP($I19,Assumptions!$F$7:$G$9,2,FALSE)),$J19*VLOOKUP($I19,Assumptions!$F$7:$G$9,2,FALSE),""),""))))) | M19: =IF($F19="","",IFERROR(VLOOKUP($F19,Assumptions!$A$7:$D$106,2,FALSE),"")) | N19: =IF($F19="","",IFERROR(VLOOKUP($F19,Assumptions!$A$7:$D$106,3,FALSE),"")) | O19: =IF($F19="","",IFERROR(VLOOKUP($F19,Assumptions!$A$7:$D$106,4,FALSE),"")) | P19: =IF(OR($L19="",$M19=""),"",IF(AND(ISNUMBER($L19),ISNUMBER($M19)),$L19*$M19,"")) | Q19: =IF(OR($L19="",$N19="",$A19="",$F19=""),"",IF(AND(ISNUMBER($L19),ISNUMBER($N19),ISNUMBER($A19)),MAX(0,SUMIFS($L$7:L19,$F$7:F19,$F19,$A$7:A19,">="&DATE(YEAR($A19),MONTH($A19),1),$A$7:A19,"<"&DATE(YEAR($A19),MONTH($A19)+1,1))-$N19)-MAX(0,SUMIFS($L$7:L18,$F$7:F18,$F19,$A$7:A18,">="&DATE(YEAR($A19),MONTH($A19),1),$A$7:A18,"<"&DATE(YEAR($A19),MONTH($A19)+1,1))-$N19),"")) | R19: =IF(OR($Q19="",$O19=""),"",IF(AND(ISNUMBER($Q19),ISNUMBER($O19)),$Q19*$O19,"")) | S19: =IF(OR($P19="",$R19=""),"",IF(AND(ISNUMBER($P19),ISNUMBER($R19)),$P19+$R19+IF(ISNUMBER($K19),$K19,0),"")) | T19: =IF(COUNTA($A19:$K19)=0,"",IF(OR($A19="",$B19="",$C19="",$D19="",$E19="",$F19="",$G19="",$H19="",$I19="",$J19=""),"Check missing required input",IF(NOT(ISNUMBER($A19)),"Check date",IF(OR(NOT(ISNUMBER($B$3)),NOT(ISNUMBER($D$3)),NOT(ISNUMBER($F$3)),NOT(ISNUMBER($H$3))),"Check worksheet limits",IF(OR($A19<$B$3,$A19>$D$3),"Check date",IF(NOT(ISNUMBER($J19)),"Check service amount",IF($J19<0,"Check negative amount",IF($J19>$F$3,"Check service amount",IF(AND($K19<>"",NOT(ISNUMBER($K19))),"Check adjustment number",IF(ABS(IF(ISNUMBER($K19),$K19,0))>$H$3,"Check adjustment",IF(IFERROR(VLOOKUP($F19,Assumptions!$A$7:$D$106,1,FALSE),"")="","Check technician setup",IF(OR(NOT(ISNUMBER($M19)),NOT(ISNUMBER($N19)),NOT(ISNUMBER($O19))),"Check rate setup",IF(NOT(ISNUMBER(IFERROR(VLOOKUP($I19,Assumptions!$F$7:$G$9,2,FALSE),""))),"Check responsibility setup",IF(AND(ISNUMBER($S19),$S19<0),"Check negative total",""))))))))))))))
L20: =IF(COUNTA($A20:$K20)=0,"",IF(OR($A20="",$F20="",$H20="",$I20="",$J20=""),"",IF(NOT(ISNUMBER($J20)),"",IF($H20<>"Completed",0,IFERROR(IF(ISNUMBER(VLOOKUP($I20,Assumptions!$F$7:$G$9,2,FALSE)),$J20*VLOOKUP($I20,Assumptions!$F$7:$G$9,2,FALSE),""),""))))) | M20: =IF($F20="","",IFERROR(VLOOKUP($F20,Assumptions!$A$7:$D$106,2,FALSE),"")) | N20: =IF($F20="","",IFERROR(VLOOKUP($F20,Assumptions!$A$7:$D$106,3,FALSE),"")) | O20: =IF($F20="","",IFERROR(VLOOKUP($F20,Assumptions!$A$7:$D$106,4,FALSE),"")) | P20: =IF(OR($L20="",$M20=""),"",IF(AND(ISNUMBER($L20),ISNUMBER($M20)),$L20*$M20,"")) | Q20: =IF(OR($L20="",$N20="",$A20="",$F20=""),"",IF(AND(ISNUMBER($L20),ISNUMBER($N20),ISNUMBER($A20)),MAX(0,SUMIFS($L$7:L20,$F$7:F20,$F20,$A$7:A20,">="&DATE(YEAR($A20),MONTH($A20),1),$A$7:A20,"<"&DATE(YEAR($A20),MONTH($A20)+1,1))-$N20)-MAX(0,SUMIFS($L$7:L19,$F$7:F19,$F20,$A$7:A19,">="&DATE(YEAR($A20),MONTH($A20),1),$A$7:A19,"<"&DATE(YEAR($A20),MONTH($A20)+1,1))-$N20),"")) | R20: =IF(OR($Q20="",$O20=""),"",IF(AND(ISNUMBER($Q20),ISNUMBER($O20)),$Q20*$O20,"")) | S20: =IF(OR($P20="",$R20=""),"",IF(AND(ISNUMBER($P20),ISNUMBER($R20)),$P20+$R20+IF(ISNUMBER($K20),$K20,0),"")) | T20: =IF(COUNTA($A20:$K20)=0,"",IF(OR($A20="",$B20="",$C20="",$D20="",$E20="",$F20="",$G20="",$H20="",$I20="",$J20=""),"Check missing required input",IF(NOT(ISNUMBER($A20)),"Check date",IF(OR(NOT(ISNUMBER($B$3)),NOT(ISNUMBER($D$3)),NOT(ISNUMBER($F$3)),NOT(ISNUMBER($H$3))),"Check worksheet limits",IF(OR($A20<$B$3,$A20>$D$3),"Check date",IF(NOT(ISNUMBER($J20)),"Check service amount",IF($J20<0,"Check negative amount",IF($J20>$F$3,"Check service amount",IF(AND($K20<>"",NOT(ISNUMBER($K20))),"Check adjustment number",IF(ABS(IF(ISNUMBER($K20),$K20,0))>$H$3,"Check adjustment",IF(IFERROR(VLOOKUP($F20,Assumptions!$A$7:$D$106,1,FALSE),"")="","Check technician setup",IF(OR(NOT(ISNUMBER($M20)),NOT(ISNUMBER($N20)),NOT(ISNUMBER($O20))),"Check rate setup",IF(NOT(ISNUMBER(IFERROR(VLOOKUP($I20,Assumptions!$F$7:$G$9,2,FALSE),""))),"Check responsibility setup",IF(AND(ISNUMBER($S20),$S20<0),"Check negative total",""))))))))))))))
L21: =IF(COUNTA($A21:$K21)=0,"",IF(OR($A21="",$F21="",$H21="",$I21="",$J21=""),"",IF(NOT(ISNUMBER($J21)),"",IF($H21<>"Completed",0,IFERROR(IF(ISNUMBER(VLOOKUP($I21,Assumptions!$F$7:$G$9,2,FALSE)),$J21*VLOOKUP($I21,Assumptions!$F$7:$G$9,2,FALSE),""),""))))) | M21: =IF($F21="","",IFERROR(VLOOKUP($F21,Assumptions!$A$7:$D$106,2,FALSE),"")) | N21: =IF($F21="","",IFERROR(VLOOKUP($F21,Assumptions!$A$7:$D$106,3,FALSE),"")) | O21: =IF($F21="","",IFERROR(VLOOKUP($F21,Assumptions!$A$7:$D$106,4,FALSE),"")) | P21: =IF(OR($L21="",$M21=""),"",IF(AND(ISNUMBER($L21),ISNUMBER($M21)),$L21*$M21,"")) | Q21: =IF(OR($L21="",$N21="",$A21="",$F21=""),"",IF(AND(ISNUMBER($L21),ISNUMBER($N21),ISNUMBER($A21)),MAX(0,SUMIFS($L$7:L21,$F$7:F21,$F21,$A$7:A21,">="&DATE(YEAR($A21),MONTH($A21),1),$A$7:A21,"<"&DATE(YEAR($A21),MONTH($A21)+1,1))-$N21)-MAX(0,SUMIFS($L$7:L20,$F$7:F20,$F21,$A$7:A20,">="&DATE(YEAR($A21),MONTH($A21),1),$A$7:A20,"<"&DATE(YEAR($A21),MONTH($A21)+1,1))-$N21),"")) | R21: =IF(OR($Q21="",$O21=""),"",IF(AND(ISNUMBER($Q21),ISNUMBER($O21)),$Q21*$O21,"")) | S21: =IF(OR($P21="",$R21=""),"",IF(AND(ISNUMBER($P21),ISNUMBER($R21)),$P21+$R21+IF(ISNUMBER($K21),$K21,0),"")) | T21: =IF(COUNTA($A21:$K21)=0,"",IF(OR($A21="",$B21="",$C21="",$D21="",$E21="",$F21="",$G21="",$H21="",$I21="",$J21=""),"Check missing required input",IF(NOT(ISNUMBER($A21)),"Check date",IF(OR(NOT(ISNUMBER($B$3)),NOT(ISNUMBER($D$3)),NOT(ISNUMBER($F$3)),NOT(ISNUMBER($H$3))),"Check worksheet limits",IF(OR($A21<$B$3,$A21>$D$3),"Check date",IF(NOT(ISNUMBER($J21)),"Check service amount",IF($J21<0,"Check negative amount",IF($J21>$F$3,"Check service amount",IF(AND($K21<>"",NOT(ISNUMBER($K21))),"Check adjustment number",IF(ABS(IF(ISNUMBER($K21),$K21,0))>$H$3,"Check adjustment",IF(IFERROR(VLOOKUP($F21,Assumptions!$A$7:$D$106,1,FALSE),"")="","Check technician setup",IF(OR(NOT(ISNUMBER($M21)),NOT(ISNUMBER($N21)),NOT(ISNUMBER($O21))),"Check rate setup",IF(NOT(ISNUMBER(IFERROR(VLOOKUP($I21,Assumptions!$F$7:$G$9,2,FALSE),""))),"Check responsibility setup",IF(AND(ISNUMBER($S21),$S21<0),"Check negative total",""))))))))))))))
L22: =IF(COUNTA($A22:$K22)=0,"",IF(OR($A22="",$F22="",$H22="",$I22="",$J22=""),"",IF(NOT(ISNUMBER($J22)),"",IF($H22<>"Completed",0,IFERROR(IF(ISNUMBER(VLOOKUP($I22,Assumptions!$F$7:$G$9,2,FALSE)),$J22*VLOOKUP($I22,Assumptions!$F$7:$G$9,2,FALSE),""),""))))) | M22: =IF($F22="","",IFERROR(VLOOKUP($F22,Assumptions!$A$7:$D$106,2,FALSE),"")) | N22: =IF($F22="","",IFERROR(VLOOKUP($F22,Assumptions!$A$7:$D$106,3,FALSE),"")) | O22: =IF($F22="","",IFERROR(VLOOKUP($F22,Assumptions!$A$7:$D$106,4,FALSE),"")) | P22: =IF(OR($L22="",$M22=""),"",IF(AND(ISNUMBER($L22),ISNUMBER($M22)),$L22*$M22,"")) | Q22: =IF(OR($L22="",$N22="",$A22="",$F22=""),"",IF(AND(ISNUMBER($L22),ISNUMBER($N22),ISNUMBER($A22)),MAX(0,SUMIFS($L$7:L22,$F$7:F22,$F22,$A$7:A22,">="&DATE(YEAR($A22),MONTH($A22),1),$A$7:A22,"<"&DATE(YEAR($A22),MONTH($A22)+1,1))-$N22)-MAX(0,SUMIFS($L$7:L21,$F$7:F21,$F22,$A$7:A21,">="&DATE(YEAR($A22),MONTH($A22),1),$A$7:A21,"<"&DATE(YEAR($A22),MONTH($A22)+1,1))-$N22),"")) | R22: =IF(OR($Q22="",$O22=""),"",IF(AND(ISNUMBER($Q22),ISNUMBER($O22)),$Q22*$O22,"")) | S22: =IF(OR($P22="",$R22=""),"",IF(AND(ISNUMBER($P22),ISNUMBER($R22)),$P22+$R22+IF(ISNUMBER($K22),$K22,0),"")) | T22: =IF(COUNTA($A22:$K22)=0,"",IF(OR($A22="",$B22="",$C22="",$D22="",$E22="",$F22="",$G22="",$H22="",$I22="",$J22=""),"Check missing required input",IF(NOT(ISNUMBER($A22)),"Check date",IF(OR(NOT(ISNUMBER($B$3)),NOT(ISNUMBER($D$3)),NOT(ISNUMBER($F$3)),NOT(ISNUMBER($H$3))),"Check worksheet limits",IF(OR($A22<$B$3,$A22>$D$3),"Check date",IF(NOT(ISNUMBER($J22)),"Check service amount",IF($J22<0,"Check negative amount",IF($J22>$F$3,"Check service amount",IF(AND($K22<>"",NOT(ISNUMBER($K22))),"Check adjustment number",IF(ABS(IF(ISNUMBER($K22),$K22,0))>$H$3,"Check adjustment",IF(IFERROR(VLOOKUP($F22,Assumptions!$A$7:$D$106,1,FALSE),"")="","Check technician setup",IF(OR(NOT(ISNUMBER($M22)),NOT(ISNUMBER($N22)),NOT(ISNUMBER($O22))),"Check rate setup",IF(NOT(ISNUMBER(IFERROR(VLOOKUP($I22,Assumptions!$F$7:$G$9,2,FALSE),""))),"Check responsibility setup",IF(AND(ISNUMBER($S22),$S22<0),"Check negative total",""))))))))))))))
L23: =IF(COUNTA($A23:$K23)=0,"",IF(OR($A23="",$F23="",$H23="",$I23="",$J23=""),"",IF(NOT(ISNUMBER($J23)),"",IF($H23<>"Completed",0,IFERROR(IF(ISNUMBER(VLOOKUP($I23,Assumptions!$F$7:$G$9,2,FALSE)),$J23*VLOOKUP($I23,Assumptions!$F$7:$G$9,2,FALSE),""),""))))) | M23: =IF($F23="","",IFERROR(VLOOKUP($F23,Assumptions!$A$7:$D$106,2,FALSE),"")) | N23: =IF($F23="","",IFERROR(VLOOKUP($F23,Assumptions!$A$7:$D$106,3,FALSE),"")) | O23: =IF($F23="","",IFERROR(VLOOKUP($F23,Assumptions!$A$7:$D$106,4,FALSE),"")) | P23: =IF(OR($L23="",$M23=""),"",IF(AND(ISNUMBER($L23),ISNUMBER($M23)),$L23*$M23,"")) | Q23: =IF(OR($L23="",$N23="",$A23="",$F23=""),"",IF(AND(ISNUMBER($L23),ISNUMBER($N23),ISNUMBER($A23)),MAX(0,SUMIFS($L$7:L23,$F$7:F23,$F23,$A$7:A23,">="&DATE(YEAR($A23),MONTH($A23),1),$A$7:A23,"<"&DATE(YEAR($A23),MONTH($A23)+1,1))-$N23)-MAX(0,SUMIFS($L$7:L22,$F$7:F22,$F23,$A$7:A22,">="&DATE(YEAR($A23),MONTH($A23),1),$A$7:A22,"<"&DATE(YEAR($A23),MONTH($A23)+1,1))-$N23),"")) | R23: =IF(OR($Q23="",$O23=""),"",IF(AND(ISNUMBER($Q23),ISNUMBER($O23)),$Q23*$O23,"")) | S23: =IF(OR($P23="",$R23=""),"",IF(AND(ISNUMBER($P23),ISNUMBER($R23)),$P23+$R23+IF(ISNUMBER($K23),$K23,0),"")) | T23: =IF(COUNTA($A23:$K23)=0,"",IF(OR($A23="",$B23="",$C23="",$D23="",$E23="",$F23="",$G23="",$H23="",$I23="",$J23=""),"Check missing required input",IF(NOT(ISNUMBER($A23)),"Check date",IF(OR(NOT(ISNUMBER($B$3)),NOT(ISNUMBER($D$3)),NOT(ISNUMBER($F$3)),NOT(ISNUMBER($H$3))),"Check worksheet limits",IF(OR($A23<$B$3,$A23>$D$3),"Check date",IF(NOT(ISNUMBER($J23)),"Check service amount",IF($J23<0,"Check negative amount",IF($J23>$F$3,"Check service amount",IF(AND($K23<>"",NOT(ISNUMBER($K23))),"Check adjustment number",IF(ABS(IF(ISNUMBER($K23),$K23,0))>$H$3,"Check adjustment",IF(IFERROR(VLOOKUP($F23,Assumptions!$A$7:$D$106,1,FALSE),"")="","Check technician setup",IF(OR(NOT(ISNUMBER($M23)),NOT(ISNUMBER($N23)),NOT(ISNUMBER($O23))),"Check rate setup",IF(NOT(ISNUMBER(IFERROR(VLOOKUP($I23,Assumptions!$F$7:$G$9,2,FALSE),""))),"Check responsibility setup",IF(AND(ISNUMBER($S23),$S23<0),"Check negative total",""))))))))))))))
L24: =IF(COUNTA($A24:$K24)=0,"",IF(OR($A24="",$F24="",$H24="",$I24="",$J24=""),"",IF(NOT(ISNUMBER($J24)),"",IF($H24<>"Completed",0,IFERROR(IF(ISNUMBER(VLOOKUP($I24,Assumptions!$F$7:$G$9,2,FALSE)),$J24*VLOOKUP($I24,Assumptions!$F$7:$G$9,2,FALSE),""),""))))) | M24: =IF($F24="","",IFERROR(VLOOKUP($F24,Assumptions!$A$7:$D$106,2,FALSE),"")) | N24: =IF($F24="","",IFERROR(VLOOKUP($F24,Assumptions!$A$7:$D$106,3,FALSE),"")) | O24: =IF($F24="","",IFERROR(VLOOKUP($F24,Assumptions!$A$7:$D$106,4,FALSE),"")) | P24: =IF(OR($L24="",$M24=""),"",IF(AND(ISNUMBER($L24),ISNUMBER($M24)),$L24*$M24,"")) | Q24: =IF(OR($L24="",$N24="",$A24="",$F24=""),"",IF(AND(ISNUMBER($L24),ISNUMBER($N24),ISNUMBER($A24)),MAX(0,SUMIFS($L$7:L24,$F$7:F24,$F24,$A$7:A24,">="&DATE(YEAR($A24),MONTH($A24),1),$A$7:A24,"<"&DATE(YEAR($A24),MONTH($A24)+1,1))-$N24)-MAX(0,SUMIFS($L$7:L23,$F$7:F23,$F24,$A$7:A23,">="&DATE(YEAR($A24),MONTH($A24),1),$A$7:A23,"<"&DATE(YEAR($A24),MONTH($A24)+1,1))-$N24),"")) | R24: =IF(OR($Q24="",$O24=""),"",IF(AND(ISNUMBER($Q24),ISNUMBER($O24)),$Q24*$O24,"")) | S24: =IF(OR($P24="",$R24=""),"",IF(AND(ISNUMBER($P24),ISNUMBER($R24)),$P24+$R24+IF(ISNUMBER($K24),$K24,0),"")) | T24: =IF(COUNTA($A24:$K24)=0,"",IF(OR($A24="",$B24="",$C24="",$D24="",$E24="",$F24="",$G24="",$H24="",$I24="",$J24=""),"Check missing required input",IF(NOT(ISNUMBER($A24)),"Check date",IF(OR(NOT(ISNUMBER($B$3)),NOT(ISNUMBER($D$3)),NOT(ISNUMBER($F$3)),NOT(ISNUMBER($H$3))),"Check worksheet limits",IF(OR($A24<$B$3,$A24>$D$3),"Check date",IF(NOT(ISNUMBER($J24)),"Check service amount",IF($J24<0,"Check negative amount",IF($J24>$F$3,"Check service amount",IF(AND($K24<>"",NOT(ISNUMBER($K24))),"Check adjustment number",IF(ABS(IF(ISNUMBER($K24),$K24,0))>$H$3,"Check adjustment",IF(IFERROR(VLOOKUP($F24,Assumptions!$A$7:$D$106,1,FALSE),"")="","Check technician setup",IF(OR(NOT(ISNUMBER($M24)),NOT(ISNUMBER($N24)),NOT(ISNUMBER($O24))),"Check rate setup",IF(NOT(ISNUMBER(IFERROR(VLOOKUP($I24,Assumptions!$F$7:$G$9,2,FALSE),""))),"Check responsibility setup",IF(AND(ISNUMBER($S24),$S24<0),"Check negative total",""))))))))))))))
L25: =IF(COUNTA($A25:$K25)=0,"",IF(OR($A25="",$F25="",$H25="",$I25="",$J25=""),"",IF(NOT(ISNUMBER($J25)),"",IF($H25<>"Completed",0,IFERROR(IF(ISNUMBER(VLOOKUP($I25,Assumptions!$F$7:$G$9,2,FALSE)),$J25*VLOOKUP($I25,Assumptions!$F$7:$G$9,2,FALSE),""),""))))) | M25: =IF($F25="","",IFERROR(VLOOKUP($F25,Assumptions!$A$7:$D$106,2,FALSE),"")) | N25: =IF($F25="","",IFERROR(VLOOKUP($F25,Assumptions!$A$7:$D$106,3,FALSE),"")) | O25: =IF($F25="","",IFERROR(VLOOKUP($F25,Assumptions!$A$7:$D$106,4,FALSE),"")) | P25: =IF(OR($L25="",$M25=""),"",IF(AND(ISNUMBER($L25),ISNUMBER($M25)),$L25*$M25,"")) | Q25: =IF(OR($L25="",$N25="",$A25="",$F25=""),"",IF(AND(ISNUMBER($L25),ISNUMBER($N25),ISNUMBER($A25)),MAX(0,SUMIFS($L$7:L25,$F$7:F25,$F25,$A$7:A25,">="&DATE(YEAR($A25),MONTH($A25),1),$A$7:A25,"<"&DATE(YEAR($A25),MONTH($A25)+1,1))-$N25)-MAX(0,SUMIFS($L$7:L24,$F$7:F24,$F25,$A$7:A24,">="&DATE(YEAR($A25),MONTH($A25),1),$A$7:A24,"<"&DATE(YEAR($A25),MONTH($A25)+1,1))-$N25),"")) | R25: =IF(OR($Q25="",$O25=""),"",IF(AND(ISNUMBER($Q25),ISNUMBER($O25)),$Q25*$O25,"")) | S25: =IF(OR($P25="",$R25=""),"",IF(AND(ISNUMBER($P25),ISNUMBER($R25)),$P25+$R25+IF(ISNUMBER($K25),$K25,0),"")) | T25: =IF(COUNTA($A25:$K25)=0,"",IF(OR($A25="",$B25="",$C25="",$D25="",$E25="",$F25="",$G25="",$H25="",$I25="",$J25=""),"Check missing required input",IF(NOT(ISNUMBER($A25)),"Check date",IF(OR(NOT(ISNUMBER($B$3)),NOT(ISNUMBER($D$3)),NOT(ISNUMBER($F$3)),NOT(ISNUMBER($H$3))),"Check worksheet limits",IF(OR($A25<$B$3,$A25>$D$3),"Check date",IF(NOT(ISNUMBER($J25)),"Check service amount",IF($J25<0,"Check negative amount",IF($J25>$F$3,"Check service amount",IF(AND($K25<>"",NOT(ISNUMBER($K25))),"Check adjustment number",IF(ABS(IF(ISNUMBER($K25),$K25,0))>$H$3,"Check adjustment",IF(IFERROR(VLOOKUP($F25,Assumptions!$A$7:$D$106,1,FALSE),"")="","Check technician setup",IF(OR(NOT(ISNUMBER($M25)),NOT(ISNUMBER($N25)),NOT(ISNUMBER($O25))),"Check rate setup",IF(NOT(ISNUMBER(IFERROR(VLOOKUP($I25,Assumptions!$F$7:$G$9,2,FALSE),""))),"Check responsibility setup",IF(AND(ISNUMBER($S25),$S25<0),"Check negative total",""))))))))))))))
L26: =IF(COUNTA($A26:$K26)=0,"",IF(OR($A26="",$F26="",$H26="",$I26="",$J26=""),"",IF(NOT(ISNUMBER($J26)),"",IF($H26<>"Completed",0,IFERROR(IF(ISNUMBER(VLOOKUP($I26,Assumptions!$F$7:$G$9,2,FALSE)),$J26*VLOOKUP($I26,Assumptions!$F$7:$G$9,2,FALSE),""),""))))) | M26: =IF($F26="","",IFERROR(VLOOKUP($F26,Assumptions!$A$7:$D$106,2,FALSE),"")) | N26: =IF($F26="","",IFERROR(VLOOKUP($F26,Assumptions!$A$7:$D$106,3,FALSE),"")) | O26: =IF($F26="","",IFERROR(VLOOKUP($F26,Assumptions!$A$7:$D$106,4,FALSE),"")) | P26: =IF(OR($L26="",$M26=""),"",IF(AND(ISNUMBER($L26),ISNUMBER($M26)),$L26*$M26,"")) | Q26: =IF(OR($L26="",$N26="",$A26="",$F26=""),"",IF(AND(ISNUMBER($L26),ISNUMBER($N26),ISNUMBER($A26)),MAX(0,SUMIFS($L$7:L26,$F$7:F26,$F26,$A$7:A26,">="&DATE(YEAR($A26),MONTH($A26),1),$A$7:A26,"<"&DATE(YEAR($A26),MONTH($A26)+1,1))-$N26)-MAX(0,SUMIFS($L$7:L25,$F$7:F25,$F26,$A$7:A25,">="&DATE(YEAR($A26),MONTH($A26),1),$A$7:A25,"<"&DATE(YEAR($A26),MONTH($A26)+1,1))-$N26),"")) | R26: =IF(OR($Q26="",$O26=""),"",IF(AND(ISNUMBER($Q26),ISNUMBER($O26)),$Q26*$O26,"")) | S26: =IF(OR($P26="",$R26=""),"",IF(AND(ISNUMBER($P26),ISNUMBER($R26)),$P26+$R26+IF(ISNUMBER($K26),$K26,0),"")) | T26: =IF(COUNTA($A26:$K26)=0,"",IF(OR($A26="",$B26="",$C26="",$D26="",$E26="",$F26="",$G26="",$H26="",$I26="",$J26=""),"Check missing required input",IF(NOT(ISNUMBER($A26)),"Check date",IF(OR(NOT(ISNUMBER($B$3)),NOT(ISNUMBER($D$3)),NOT(ISNUMBER($F$3)),NOT(ISNUMBER($H$3))),"Check worksheet limits",IF(OR($A26<$B$3,$A26>$D$3),"Check date",IF(NOT(ISNUMBER($J26)),"Check service amount",IF($J26<0,"Check negative amount",IF($J26>$F$3,"Check service amount",IF(AND($K26<>"",NOT(ISNUMBER($K26))),"Check adjustment number",IF(ABS(IF(ISNUMBER($K26),$K26,0))>$H$3,"Check adjustment",IF(IFERROR(VLOOKUP($F26,Assumptions!$A$7:$D$106,1,FALSE),"")="","Check technician setup",IF(OR(NOT(ISNUMBER($M26)),NOT(ISNUMBER($N26)),NOT(ISNUMBER($O26))),"Check rate setup",IF(NOT(ISNUMBER(IFERROR(VLOOKUP($I26,Assumptions!$F$7:$G$9,2,FALSE),""))),"Check responsibility setup",IF(AND(ISNUMBER($S26),$S26<0),"Check negative total",""))))))))))))))
L27: =IF(COUNTA($A27:$K27)=0,"",IF(OR($A27="",$F27="",$H27="",$I27="",$J27=""),"",IF(NOT(ISNUMBER($J27)),"",IF($H27<>"Completed",0,IFERROR(IF(ISNUMBER(VLOOKUP($I27,Assumptions!$F$7:$G$9,2,FALSE)),$J27*VLOOKUP($I27,Assumptions!$F$7:$G$9,2,FALSE),""),""))))) | M27: =IF($F27="","",IFERROR(VLOOKUP($F27,Assumptions!$A$7:$D$106,2,FALSE),"")) | N27: =IF($F27="","",IFERROR(VLOOKUP($F27,Assumptions!$A$7:$D$106,3,FALSE),"")) | O27: =IF($F27="","",IFERROR(VLOOKUP($F27,Assumptions!$A$7:$D$106,4,FALSE),"")) | P27: =IF(OR($L27="",$M27=""),"",IF(AND(ISNUMBER($L27),ISNUMBER($M27)),$L27*$M27,"")) | Q27: =IF(OR($L27="",$N27="",$A27="",$F27=""),"",IF(AND(ISNUMBER($L27),ISNUMBER($N27),ISNUMBER($A27)),MAX(0,SUMIFS($L$7:L27,$F$7:F27,$F27,$A$7:A27,">="&DATE(YEAR($A27),MONTH($A27),1),$A$7:A27,"<"&DATE(YEAR($A27),MONTH($A27)+1,1))-$N27)-MAX(0,SUMIFS($L$7:L26,$F$7:F26,$F27,$A$7:A26,">="&DATE(YEAR($A27),MONTH($A27),1),$A$7:A26,"<"&DATE(YEAR($A27),MONTH($A27)+1,1))-$N27),"")) | R27: =IF(OR($Q27="",$O27=""),"",IF(AND(ISNUMBER($Q27),ISNUMBER($O27)),$Q27*$O27,"")) | S27: =IF(OR($P27="",$R27=""),"",IF(AND(ISNUMBER($P27),ISNUMBER($R27)),$P27+$R27+IF(ISNUMBER($K27),$K27,0),"")) | T27: =IF(COUNTA($A27:$K27)=0,"",IF(OR($A27="",$B27="",$C27="",$D27="",$E27="",$F27="",$G27="",$H27="",$I27="",$J27=""),"Check missing required input",IF(NOT(ISNUMBER($A27)),"Check date",IF(OR(NOT(ISNUMBER($B$3)),NOT(ISNUMBER($D$3)),NOT(ISNUMBER($F$3)),NOT(ISNUMBER($H$3))),"Check worksheet limits",IF(OR($A27<$B$3,$A27>$D$3),"Check date",IF(NOT(ISNUMBER($J27)),"Check service amount",IF($J27<0,"Check negative amount",IF($J27>$F$3,"Check service amount",IF(AND($K27<>"",NOT(ISNUMBER($K27))),"Check adjustment number",IF(ABS(IF(ISNUMBER($K27),$K27,0))>$H$3,"Check adjustment",IF(IFERROR(VLOOKUP($F27,Assumptions!$A$7:$D$106,1,FALSE),"")="","Check technician setup",IF(OR(NOT(ISNUMBER($M27)),NOT(ISNUMBER($N27)),NOT(ISNUMBER($O27))),"Check rate setup",IF(NOT(ISNUMBER(IFERROR(VLOOKUP($I27,Assumptions!$F$7:$G$9,2,FALSE),""))),"Check responsibility setup",IF(AND(ISNUMBER($S27),$S27<0),"Check negative total",""))))))))))))))
L28: =IF(COUNTA($A28:$K28)=0,"",IF(OR($A28="",$F28="",$H28="",$I28="",$J28=""),"",IF(NOT(ISNUMBER($J28)),"",IF($H28<>"Completed",0,IFERROR(IF(ISNUMBER(VLOOKUP($I28,Assumptions!$F$7:$G$9,2,FALSE)),$J28*VLOOKUP($I28,Assumptions!$F$7:$G$9,2,FALSE),""),""))))) | M28: =IF($F28="","",IFERROR(VLOOKUP($F28,Assumptions!$A$7:$D$106,2,FALSE),"")) | N28: =IF($F28="","",IFERROR(VLOOKUP($F28,Assumptions!$A$7:$D$106,3,FALSE),"")) | O28: =IF($F28="","",IFERROR(VLOOKUP($F28,Assumptions!$A$7:$D$106,4,FALSE),"")) | P28: =IF(OR($L28="",$M28=""),"",IF(AND(ISNUMBER($L28),ISNUMBER($M28)),$L28*$M28,"")) | Q28: =IF(OR($L28="",$N28="",$A28="",$F28=""),"",IF(AND(ISNUMBER($L28),ISNUMBER($N28),ISNUMBER($A28)),MAX(0,SUMIFS($L$7:L28,$F$7:F28,$F28,$A$7:A28,">="&DATE(YEAR($A28),MONTH($A28),1),$A$7:A28,"<"&DATE(YEAR($A28),MONTH($A28)+1,1))-$N28)-MAX(0,SUMIFS($L$7:L27,$F$7:F27,$F28,$A$7:A27,">="&DATE(YEAR($A28),MONTH($A28),1),$A$7:A27,"<"&DATE(YEAR($A28),MONTH($A28)+1,1))-$N28),"")) | R28: =IF(OR($Q28="",$O28=""),"",IF(AND(ISNUMBER($Q28),ISNUMBER($O28)),$Q28*$O28,"")) | S28: =IF(OR($P28="",$R28=""),"",IF(AND(ISNUMBER($P28),ISNUMBER($R28)),$P28+$R28+IF(ISNUMBER($K28),$K28,0),"")) | T28: =IF(COUNTA($A28:$K28)=0,"",IF(OR($A28="",$B28="",$C28="",$D28="",$E28="",$F28="",$G28="",$H28="",$I28="",$J28=""),"Check missing required input",IF(NOT(ISNUMBER($A28)),"Check date",IF(OR(NOT(ISNUMBER($B$3)),NOT(ISNUMBER($D$3)),NOT(ISNUMBER($F$3)),NOT(ISNUMBER($H$3))),"Check worksheet limits",IF(OR($A28<$B$3,$A28>$D$3),"Check date",IF(NOT(ISNUMBER($J28)),"Check service amount",IF($J28<0,"Check negative amount",IF($J28>$F$3,"Check service amount",IF(AND($K28<>"",NOT(ISNUMBER($K28))),"Check adjustment number",IF(ABS(IF(ISNUMBER($K28),$K28,0))>$H$3,"Check adjustment",IF(IFERROR(VLOOKUP($F28,Assumptions!$A$7:$D$106,1,FALSE),"")="","Check technician setup",IF(OR(NOT(ISNUMBER($M28)),NOT(ISNUMBER($N28)),NOT(ISNUMBER($O28))),"Check rate setup",IF(NOT(ISNUMBER(IFERROR(VLOOKUP($I28,Assumptions!$F$7:$G$9,2,FALSE),""))),"Check responsibility setup",IF(AND(ISNUMBER($S28),$S28<0),"Check negative total",""))))))))))))))
... L126: =IF(COUNTA($A126:$K126)=0,"",IF(OR($A126="",$F126="",$H126="",$I126="",$J126=""),"",IF(NOT(ISNUMBER($J126)),"",IF($H126<>"Completed",0,IFERROR(IF(ISNUMBER(VLOOKUP($I126,Assumptions!$F$7:$G$9,2,FALSE)),$J126*VLOOKUP($I126,Assumptions!$F$7:$G$9,2,FALSE),""),""))))) | M126: =IF($F126="","",IFERROR(VLOOKUP($F126,Assumptions!$A$7:$D$106,2,FALSE),"")) | N126: =IF($F126="","",IFERROR(VLOOKUP($F126,Assumptions!$A$7:$D$106,3,FALSE),"")) | O126: =IF($F126="","",IFERROR(VLOOKUP($F126,Assumptions!$A$7:$D$106,4,FALSE),"")) | P126: =IF(OR($L126="",$M126=""),"",IF(AND(ISNUMBER($L126),ISNUMBER($M126)),$L126*$M126,"")) | Q126: =IF(OR($L126="",$N126="",$A126="",$F126=""),"",IF(AND(ISNUMBER($L126),ISNUMBER($N126),ISNUMBER($A126)),MAX(0,SUMIFS($L$7:L126,$F$7:F126,$F126,$A$7:A126,">="&DATE(YEAR($A126),MONTH($A126),1),$A$7:A126,"<"&DATE(YEAR($A126),MONTH($A126)+1,1))-$N126)-MAX(0,SUMIFS($L$7:L125,$F$7:F125,$F126,$A$7:A125,">="&DATE(YEAR($A126),MONTH($A126),1),$A$7:A125,"<"&DATE(YEAR($A126),MONTH($A126)+1,1))-$N126),"")) | R126: =IF(OR($Q126="",$O126=""),"",IF(AND(ISNUMBER($Q126),ISNUMBER($O126)),$Q126*$O126,"")) | S126: =IF(OR($P126="",$R126=""),"",IF(AND(ISNUMBER($P126),ISNUMBER($R126)),$P126+$R126+IF(ISNUMBER($K126),$K126,0),"")) | T126: =IF(COUNTA($A126:$K126)=0,"",IF(OR($A126="",$B126="",$C126="",$D126="",$E126="",$F126="",$G126="",$H126="",$I126="",$J126=""),"Check missing required input",IF(NOT(ISNUMBER($A126)),"Check date",IF(OR(NOT(ISNUMBER($B$3)),NOT(ISNUMBER($D$3)),NOT(ISNUMBER($F$3)),NOT(ISNUMBER($H$3))),"Check worksheet limits",IF(OR($A126<$B$3,$A126>$D$3),"Check date",IF(NOT(ISNUMBER($J126)),"Check service amount",IF($J126<0,"Check negative amount",IF($J126>$F$3,"Check service amount",IF(AND($K126<>"",NOT(ISNUMBER($K126))),"Check adjustment number",IF(ABS(IF(ISNUMBER($K126),$K126,0))>$H$3,"Check adjustment",IF(IFERROR(VLOOKUP($F126,Assumptions!$A$7:$D$106,1,FALSE),"")="","Check technician setup",IF(OR(NOT(ISNUMBER($M126)),NOT(ISNUMBER($N126)),NOT(ISNUMBER($O126))),"Check rate setup",IF(NOT(ISNUMBER(IFERROR(VLOOKUP($I126,Assumptions!$F$7:$G$9,2,FALSE),""))),"Check responsibility setup",IF(AND(ISNUMBER($S126),$S126<0),"Check negative total",""))))))))))))))

Sheet Assumptions
A1: Commission Assumptions
A3: Calculation Method | B3: Base rate on eligible production, plus an incremental monthly threshold bonus and direct commission adjustments. | F3: Technician Slots | G3: 100
A4: Planning Note | B4: Rates, thresholds, bonus rates, and responsibility shares are editable planning inputs and should be reviewed by the owner or manager.
A6: Technician | B6: Base Commission Rate | C6: Monthly Threshold | D6: Bonus Rate | E6: Setup Check | F6: Responsibility | G6: Eligible Share
A7: Avery Example (Fictional) | B7: 0.1 | C7: 1000 | D7: 0.03 | E7: =IF(COUNTA($A7:$D7)=0,"",IF($A7="","Enter technician name",IF(OR($B7="",$C7="",$D7=""),"Check rate setup",IF(OR(NOT(ISNUMBER($B7)),NOT(ISNUMBER($C7)),NOT(ISNUMBER($D7))),"Check rate setup",IF(OR($B7<0,$B7>1,$C7<0,$D7<0,$D7>1),"Check rate setup",IF(COUNTIF($A$7:$A$106,$A7)>1,"Check duplicate technician","")))))) | F7: Primary | G7: 1
A8: Jordan Sample (Fictional) | B8: 0.12 | C8: 900 | D8: 0.025 | E8: =IF(COUNTA($A8:$D8)=0,"",IF($A8="","Enter technician name",IF(OR($B8="",$C8="",$D8=""),"Check rate setup",IF(OR(NOT(ISNUMBER($B8)),NOT(ISNUMBER($C8)),NOT(ISNUMBER($D8))),"Check rate setup",IF(OR($B8<0,$B8>1,$C8<0,$D8<0,$D8>1),"Check rate setup",IF(COUNTIF($A$7:$A$106,$A8)>1,"Check duplicate technician","")))))) | F8: Assist | G8: 0.5
A9: Morgan Demo (Fictional) | B9: 0.09 | C9: 1200 | D9: 0.04 | E9: =IF(COUNTA($A9:$D9)=0,"",IF($A9="","Enter technician name",IF(OR($B9="",$C9="",$D9=""),"Check rate setup",IF(OR(NOT(ISNUMBER($B9)),NOT(ISNUMBER($C9)),NOT(ISNUMBER($D9))),"Check rate setup",IF(OR($B9<0,$B9>1,$C9<0,$D9<0,$D9>1),"Check rate setup",IF(COUNTIF($A$7:$A$106,$A9)>1,"Check duplicate technician","")))))) | F9: Office / Other | G9: 0
E10: =IF(COUNTA($A10:$D10)=0,"",IF($A10="","Enter technician name",IF(OR($B10="",$C10="",$D10=""),"Check rate setup",IF(OR(NOT(ISNUMBER($B10)),NOT(ISNUMBER($C10)),NOT(ISNUMBER($D10))),"Check rate setup",IF(OR($B10<0,$B10>1,$C10<0,$D10<0,$D10>1),"Check rate setup",IF(COUNTIF($A$7:$A$106,$A10)>1,"Check duplicate technician",""))))))
E11: =IF(COUNTA($A11:$D11)=0,"",IF($A11="","Enter technician name",IF(OR($B11="",$C11="",$D11=""),"Check rate setup",IF(OR(NOT(ISNUMBER($B11)),NOT(ISNUMBER($C11)),NOT(ISNUMBER($D11))),"Check rate setup",IF(OR($B11<0,$B11>1,$C11<0,$D11<0,$D11>1),"Check rate setup",IF(COUNTIF($A$7:$A$106,$A11)>1,"Check duplicate technician",""))))))
E12: =IF(COUNTA($A12:$D12)=0,"",IF($A12="","Enter technician name",IF(OR($B12="",$C12="",$D12=""),"Check rate setup",IF(OR(NOT(ISNUMBER($B12)),NOT(ISNUMBER($C12)),NOT(ISNUMBER($D12))),"Check rate setup",IF(OR($B12<0,$B12>1,$C12<0,$D12<0,$D12>1),"Check rate setup",IF(COUNTIF($A$7:$A$106,$A12)>1,"Check duplicate technician",""))))))
E13: =IF(COUNTA($A13:$D13)=0,"",IF($A13="","Enter technician name",IF(OR($B13="",$C13="",$D13=""),"Check rate setup",IF(OR(NOT(ISNUMBER($B13)),NOT(ISNUMBER($C13)),NOT(ISNUMBER($D13))),"Check rate setup",IF(OR($B13<0,$B13>1,$C13<0,$D13<0,$D13>1),"Check rate setup",IF(COUNTIF($A$7:$A$106,$A13)>1,"Check duplicate technician",""))))))
E14: =IF(COUNTA($A14:$D14)=0,"",IF($A14="","Enter technician name",IF(OR($B14="",$C14="",$D14=""),"Check rate setup",IF(OR(NOT(ISNUMBER($B14)),NOT(ISNUMBER($C14)),NOT(ISNUMBER($D14))),"Check rate setup",IF(OR($B14<0,$B14>1,$C14<0,$D14<0,$D14>1),"Check rate setup",IF(COUNTIF($A$7:$A$106,$A14)>1,"Check duplicate technician",""))))))
E15: =IF(COUNTA($A15:$D15)=0,"",IF($A15="","Enter technician name",IF(OR($B15="",$C15="",$D15=""),"Check rate setup",IF(OR(NOT(ISNUMBER($B15)),NOT(ISNUMBER($C15)),NOT(ISNUMBER($D15))),"Check rate setup",IF(OR($B15<0,$B15>1,$C15<0,$D15<0,$D15>1),"Check rate setup",IF(COUNTIF($A$7:$A$106,$A15)>1,"Check duplicate technician",""))))))
E16: =IF(COUNTA($A16:$D16)=0,"",IF($A16="","Enter technician name",IF(OR($B16="",$C16="",$D16=""),"Check rate setup",IF(OR(NOT(ISNUMBER($B16)),NOT(ISNUMBER($C16)),NOT(ISNUMBER($D16))),"Check rate setup",IF(OR($B16<0,$B16>1,$C16<0,$D16<0,$D16>1),"Check rate setup",IF(COUNTIF($A$7:$A$106,$A16)>1,"Check duplicate technician",""))))))
E17: =IF(COUNTA($A17:$D17)=0,"",IF($A17="","Enter technician name",IF(OR($B17="",$C17="",$D17=""),"Check rate setup",IF(OR(NOT(ISNUMBER($B17)),NOT(ISNUMBER($C17)),NOT(ISNUMBER($D17))),"Check rate setup",IF(OR($B17<0,$B17>1,$C17<0,$D17<0,$D17>1),"Check rate setup",IF(COUNTIF($A$7:$A$106,$A17)>1,"Check duplicate technician",""))))))
E18: =IF(COUNTA($A18:$D18)=0,"",IF($A18="","Enter technician name",IF(OR($B18="",$C18="",$D18=""),"Check rate setup",IF(OR(NOT(ISNUMBER($B18)),NOT(ISNUMBER($C18)),NOT(ISNUMBER($D18))),"Check rate setup",IF(OR($B18<0,$B18>1,$C18<0,$D18<0,$D18>1),"Check rate setup",IF(COUNTIF($A$7:$A$106,$A18)>1,"Check duplicate technician",""))))))
E19: =IF(COUNTA($A19:$D19)=0,"",IF($A19="","Enter technician name",IF(OR($B19="",$C19="",$D19=""),"Check rate setup",IF(OR(NOT(ISNUMBER($B19)),NOT(ISNUMBER($C19)),NOT(ISNUMBER($D19))),"Check rate setup",IF(OR($B19<0,$B19>1,$C19<0,$D19<0,$D19>1),"Check rate setup",IF(COUNTIF($A$7:$A$106,$A19)>1,"Check duplicate technician",""))))))
E20: =IF(COUNTA($A20:$D20)=0,"",IF($A20="","Enter technician name",IF(OR($B20="",$C20="",$D20=""),"Check rate setup",IF(OR(NOT(ISNUMBER($B20)),NOT(ISNUMBER($C20)),NOT(ISNUMBER($D20))),"Check rate setup",IF(OR($B20<0,$B20>1,$C20<0,$D20<0,$D20>1),"Check rate setup",IF(COUNTIF($A$7:$A$106,$A20)>1,"Check duplicate technician",""))))))
E21: =IF(COUNTA($A21:$D21)=0,"",IF($A21="","Enter technician name",IF(OR($B21="",$C21="",$D21=""),"Check rate setup",IF(OR(NOT(ISNUMBER($B21)),NOT(ISNUMBER($C21)),NOT(ISNUMBER($D21))),"Check rate setup",IF(OR($B21<0,$B21>1,$C21<0,$D21<0,$D21>1),"Check rate setup",IF(COUNTIF($A$7:$A$106,$A21)>1,"Check duplicate technician",""))))))
... E106: =IF(COUNTA($A106:$D106)=0,"",IF($A106="","Enter technician name",IF(OR($B106="",$C106="",$D106=""),"Check rate setup",IF(OR(NOT(ISNUMBER($B106)),NOT(ISNUMBER($C106)),NOT(ISNUMBER($D106))),"Check rate setup",IF(OR($B106<0,$B106>1,$C106<0,$D106<0,$D106>1),"Check rate setup",IF(COUNTIF($A$7:$A$106,$A106)>1,"Check duplicate technician",""))))))
