Workbook

Sheet Summary
A1: Pest Control Technician Labor Cost Calculator
A2: Uses entered wages, payroll burden, overtime, and productive hours. All examples are fictional; review source records before making decisions.
A4: Labor Indicator | B4: Calculated Value | D4: Technician | E4: Productive Hours | F4: Loaded Labor Cost | G4: Cost per Productive Hour | L4: Technician | M4: Loaded Labor Cost
A5: Entered labor records | B5: =COUNTIF('Labor Entries'!$B$5:$B$104,"<>") | D5: =IF(Assumptions!$A$15="","",Assumptions!$A$15) | E5: =IF($D5="","",IF(COUNTIF('Labor Entries'!$B$5:$B$104,$D5)=0,"",SUMIF('Labor Entries'!$B$5:$B$104,$D5,'Labor Entries'!$F$5:$F$104))) | F5: =IF($D5="","",IF(COUNTIF('Labor Entries'!$B$5:$B$104,$D5)=0,"",SUMIF('Labor Entries'!$B$5:$B$104,$D5,'Labor Entries'!$O$5:$O$104))) | G5: =IF(OR($E5="",$F5=""),"",IFERROR($F5/$E5,"")) | L5: =IF($D5="","",$D5) | M5: =IF(OR($L5="",COUNTIF('Labor Entries'!$B$5:$B$104,$L5)=0),"",SUMIF('Labor Entries'!$B$5:$B$104,$L5,'Labor Entries'!$O$5:$O$104))
A6: Regular hours | B6: =SUM('Labor Entries'!$D$5:$D$104) | D6: =IF(Assumptions!$A$16="","",Assumptions!$A$16) | E6: =IF($D6="","",IF(COUNTIF('Labor Entries'!$B$5:$B$104,$D6)=0,"",SUMIF('Labor Entries'!$B$5:$B$104,$D6,'Labor Entries'!$F$5:$F$104))) | F6: =IF($D6="","",IF(COUNTIF('Labor Entries'!$B$5:$B$104,$D6)=0,"",SUMIF('Labor Entries'!$B$5:$B$104,$D6,'Labor Entries'!$O$5:$O$104))) | G6: =IF(OR($E6="",$F6=""),"",IFERROR($F6/$E6,"")) | L6: =IF($D6="","",$D6) | M6: =IF(OR($L6="",COUNTIF('Labor Entries'!$B$5:$B$104,$L6)=0),"",SUMIF('Labor Entries'!$B$5:$B$104,$L6,'Labor Entries'!$O$5:$O$104))
A7: Overtime hours | B7: =SUM('Labor Entries'!$E$5:$E$104) | D7: =IF(Assumptions!$A$17="","",Assumptions!$A$17) | E7: =IF($D7="","",IF(COUNTIF('Labor Entries'!$B$5:$B$104,$D7)=0,"",SUMIF('Labor Entries'!$B$5:$B$104,$D7,'Labor Entries'!$F$5:$F$104))) | F7: =IF($D7="","",IF(COUNTIF('Labor Entries'!$B$5:$B$104,$D7)=0,"",SUMIF('Labor Entries'!$B$5:$B$104,$D7,'Labor Entries'!$O$5:$O$104))) | G7: =IF(OR($E7="",$F7=""),"",IFERROR($F7/$E7,"")) | L7: =IF($D7="","",$D7) | M7: =IF(OR($L7="",COUNTIF('Labor Entries'!$B$5:$B$104,$L7)=0),"",SUMIF('Labor Entries'!$B$5:$B$104,$L7,'Labor Entries'!$O$5:$O$104))
A8: Total paid hours | B8: =SUM(B6:B7) | D8: =IF(Assumptions!$A$18="","",Assumptions!$A$18) | E8: =IF($D8="","",IF(COUNTIF('Labor Entries'!$B$5:$B$104,$D8)=0,"",SUMIF('Labor Entries'!$B$5:$B$104,$D8,'Labor Entries'!$F$5:$F$104))) | F8: =IF($D8="","",IF(COUNTIF('Labor Entries'!$B$5:$B$104,$D8)=0,"",SUMIF('Labor Entries'!$B$5:$B$104,$D8,'Labor Entries'!$O$5:$O$104))) | G8: =IF(OR($E8="",$F8=""),"",IFERROR($F8/$E8,"")) | L8: =IF($D8="","",$D8) | M8: =IF(OR($L8="",COUNTIF('Labor Entries'!$B$5:$B$104,$L8)=0),"",SUMIF('Labor Entries'!$B$5:$B$104,$L8,'Labor Entries'!$O$5:$O$104))
A9: Productive hours | B9: =SUM('Labor Entries'!$F$5:$F$104) | D9: =IF(Assumptions!$A$19="","",Assumptions!$A$19) | E9: =IF($D9="","",IF(COUNTIF('Labor Entries'!$B$5:$B$104,$D9)=0,"",SUMIF('Labor Entries'!$B$5:$B$104,$D9,'Labor Entries'!$F$5:$F$104))) | F9: =IF($D9="","",IF(COUNTIF('Labor Entries'!$B$5:$B$104,$D9)=0,"",SUMIF('Labor Entries'!$B$5:$B$104,$D9,'Labor Entries'!$O$5:$O$104))) | G9: =IF(OR($E9="",$F9=""),"",IFERROR($F9/$E9,"")) | L9: =IF($D9="","",$D9) | M9: =IF(OR($L9="",COUNTIF('Labor Entries'!$B$5:$B$104,$L9)=0),"",SUMIF('Labor Entries'!$B$5:$B$104,$L9,'Labor Entries'!$O$5:$O$104))
A10: Productive hours percentage | B10: =IFERROR(B9/B8,"") | D10: =IF(Assumptions!$A$20="","",Assumptions!$A$20) | E10: =IF($D10="","",IF(COUNTIF('Labor Entries'!$B$5:$B$104,$D10)=0,"",SUMIF('Labor Entries'!$B$5:$B$104,$D10,'Labor Entries'!$F$5:$F$104))) | F10: =IF($D10="","",IF(COUNTIF('Labor Entries'!$B$5:$B$104,$D10)=0,"",SUMIF('Labor Entries'!$B$5:$B$104,$D10,'Labor Entries'!$O$5:$O$104))) | G10: =IF(OR($E10="",$F10=""),"",IFERROR($F10/$E10,"")) | L10: =IF($D10="","",$D10) | M10: =IF(OR($L10="",COUNTIF('Labor Entries'!$B$5:$B$104,$L10)=0),"",SUMIF('Labor Entries'!$B$5:$B$104,$L10,'Labor Entries'!$O$5:$O$104))
A11: Straight-time and overtime pay | B11: =SUM('Labor Entries'!$L$5:$M$104) | D11: =IF(Assumptions!$A$21="","",Assumptions!$A$21) | E11: =IF($D11="","",IF(COUNTIF('Labor Entries'!$B$5:$B$104,$D11)=0,"",SUMIF('Labor Entries'!$B$5:$B$104,$D11,'Labor Entries'!$F$5:$F$104))) | F11: =IF($D11="","",IF(COUNTIF('Labor Entries'!$B$5:$B$104,$D11)=0,"",SUMIF('Labor Entries'!$B$5:$B$104,$D11,'Labor Entries'!$O$5:$O$104))) | G11: =IF(OR($E11="",$F11=""),"",IFERROR($F11/$E11,"")) | L11: =IF($D11="","",$D11) | M11: =IF(OR($L11="",COUNTIF('Labor Entries'!$B$5:$B$104,$L11)=0),"",SUMIF('Labor Entries'!$B$5:$B$104,$L11,'Labor Entries'!$O$5:$O$104))
A12: Payroll burden cost | B12: =SUM('Labor Entries'!$N$5:$N$104) | D12: =IF(Assumptions!$A$22="","",Assumptions!$A$22) | E12: =IF($D12="","",IF(COUNTIF('Labor Entries'!$B$5:$B$104,$D12)=0,"",SUMIF('Labor Entries'!$B$5:$B$104,$D12,'Labor Entries'!$F$5:$F$104))) | F12: =IF($D12="","",IF(COUNTIF('Labor Entries'!$B$5:$B$104,$D12)=0,"",SUMIF('Labor Entries'!$B$5:$B$104,$D12,'Labor Entries'!$O$5:$O$104))) | G12: =IF(OR($E12="",$F12=""),"",IFERROR($F12/$E12,"")) | L12: =IF($D12="","",$D12) | M12: =IF(OR($L12="",COUNTIF('Labor Entries'!$B$5:$B$104,$L12)=0),"",SUMIF('Labor Entries'!$B$5:$B$104,$L12,'Labor Entries'!$O$5:$O$104))
A13: Total loaded labor cost | B13: =SUM('Labor Entries'!$O$5:$O$104) | D13: =IF(Assumptions!$A$23="","",Assumptions!$A$23) | E13: =IF($D13="","",IF(COUNTIF('Labor Entries'!$B$5:$B$104,$D13)=0,"",SUMIF('Labor Entries'!$B$5:$B$104,$D13,'Labor Entries'!$F$5:$F$104))) | F13: =IF($D13="","",IF(COUNTIF('Labor Entries'!$B$5:$B$104,$D13)=0,"",SUMIF('Labor Entries'!$B$5:$B$104,$D13,'Labor Entries'!$O$5:$O$104))) | G13: =IF(OR($E13="",$F13=""),"",IFERROR($F13/$E13,"")) | L13: =IF($D13="","",$D13) | M13: =IF(OR($L13="",COUNTIF('Labor Entries'!$B$5:$B$104,$L13)=0),"",SUMIF('Labor Entries'!$B$5:$B$104,$L13,'Labor Entries'!$O$5:$O$104))
A14: Loaded cost per productive hour | B14: =IFERROR(B13/B9,"") | D14: =IF(Assumptions!$A$24="","",Assumptions!$A$24) | E14: =IF($D14="","",IF(COUNTIF('Labor Entries'!$B$5:$B$104,$D14)=0,"",SUMIF('Labor Entries'!$B$5:$B$104,$D14,'Labor Entries'!$F$5:$F$104))) | F14: =IF($D14="","",IF(COUNTIF('Labor Entries'!$B$5:$B$104,$D14)=0,"",SUMIF('Labor Entries'!$B$5:$B$104,$D14,'Labor Entries'!$O$5:$O$104))) | G14: =IF(OR($E14="",$F14=""),"",IFERROR($F14/$E14,"")) | L14: =IF($D14="","",$D14) | M14: =IF(OR($L14="",COUNTIF('Labor Entries'!$B$5:$B$104,$L14)=0),"",SUMIF('Labor Entries'!$B$5:$B$104,$L14,'Labor Entries'!$O$5:$O$104))
A15: Entries needing human check | B15: =COUNTIF('Labor Entries'!$R$5:$R$104,"Check*")+COUNTIF('Labor Entries'!$R$5:$R$104,"Review*")

Sheet Labor Entries
A1: Technician Labor Entries
A2: Enter one labor record per technician and period. Yellow cells are editable. Calculated checks are prompts for human review, not official determinations.
A4: Week Ending | B4: Technician | C4: Route | D4: Regular Hours | E4: Overtime Hours | F4: Productive Hours | G4: Responsibility | H4: Entry Status | I4: Base Hourly Wage | J4: Overtime Multiplier | K4: Payroll Burden Rate | L4: Regular Pay | M4: Overtime Pay | N4: Payroll Burden Cost | O4: Loaded Labor Cost | P4: Loaded Cost per Productive Hour | Q4: Productive Hours Percentage | R4: Human Check
A5: 46248 | B5: Fictional Tech Aster | C5: Fictional Route Amber | D5: 40 | E5: 0 | F5: 31 | G5: Fictional Service Manager | H5: Reviewed | I5: =IF($B5="","",IFERROR(VLOOKUP($B5,Assumptions!$A$15:$E$114,2,FALSE),"")) | J5: =IF($B5="","",IFERROR(VLOOKUP($B5,Assumptions!$A$15:$E$114,4,FALSE),"")) | K5: =IF($B5="","",IFERROR(VLOOKUP($B5,Assumptions!$A$15:$E$114,3,FALSE),"")) | L5: =IF(OR(NOT(ISNUMBER($D5)),NOT(ISNUMBER($I5))),"",$D5*$I5) | M5: =IF(OR(NOT(ISNUMBER($E5)),NOT(ISNUMBER($I5)),NOT(ISNUMBER($J5))),"",$E5*$I5*$J5) | N5: =IF(OR(NOT(ISNUMBER($L5)),NOT(ISNUMBER($M5)),NOT(ISNUMBER($K5))),"",SUM($L5:$M5)*$K5) | O5: =IF(OR(NOT(ISNUMBER($L5)),NOT(ISNUMBER($M5)),NOT(ISNUMBER($N5))),"",SUM($L5:$N5)) | P5: =IF(OR(NOT(ISNUMBER($O5)),NOT(ISNUMBER($F5)),$F5<=0),"",IFERROR($O5/$F5,"")) | Q5: =IF(OR(NOT(ISNUMBER($D5)),NOT(ISNUMBER($E5)),NOT(ISNUMBER($F5)),SUM($D5:$E5)<=0),"",IFERROR($F5/SUM($D5:$E5),"")) | R5: =IF(COUNTA($A5:$H5)=0,"",IF(OR($A5="",$B5="",$C5="",$D5="",$E5="",$F5="",$G5="",$H5=""),"Check missing input",IF(OR(NOT(ISNUMBER($A5)),NOT(ISNUMBER($D5)),NOT(ISNUMBER($E5)),NOT(ISNUMBER($F5))),"Check invalid input",IF(OR($I5="",$J5="",$K5=""),"Check technician setup",IF(IFERROR(VLOOKUP($B5,Assumptions!$A$15:$E$114,5,FALSE),"")<>"Active","Check technician setup",IF($F5<=0,"Check productive hours",IF($F5>SUM($D5:$E5),"Check productive hours",IF($D5>Assumptions!$B$4,"Check regular hours",IF(SUM($D5:$E5)>Assumptions!$B$5,"Check total hours",IF($P5>Assumptions!$B$6,"Review cost rate",IF($Q5<Assumptions!$B$3,"Review utilization",IF($H5="Draft","Review draft entry","No calculation alert"))))))))))))
A6: 46248 | B6: Fictional Tech Birch | C6: Fictional Route Blue | D6: 38 | E6: 2 | F6: 30 | G6: Fictional Operations Lead | H6: Reviewed | I6: =IF($B6="","",IFERROR(VLOOKUP($B6,Assumptions!$A$15:$E$114,2,FALSE),"")) | J6: =IF($B6="","",IFERROR(VLOOKUP($B6,Assumptions!$A$15:$E$114,4,FALSE),"")) | K6: =IF($B6="","",IFERROR(VLOOKUP($B6,Assumptions!$A$15:$E$114,3,FALSE),"")) | L6: =IF(OR(NOT(ISNUMBER($D6)),NOT(ISNUMBER($I6))),"",$D6*$I6) | M6: =IF(OR(NOT(ISNUMBER($E6)),NOT(ISNUMBER($I6)),NOT(ISNUMBER($J6))),"",$E6*$I6*$J6) | N6: =IF(OR(NOT(ISNUMBER($L6)),NOT(ISNUMBER($M6)),NOT(ISNUMBER($K6))),"",SUM($L6:$M6)*$K6) | O6: =IF(OR(NOT(ISNUMBER($L6)),NOT(ISNUMBER($M6)),NOT(ISNUMBER($N6))),"",SUM($L6:$N6)) | P6: =IF(OR(NOT(ISNUMBER($O6)),NOT(ISNUMBER($F6)),$F6<=0),"",IFERROR($O6/$F6,"")) | Q6: =IF(OR(NOT(ISNUMBER($D6)),NOT(ISNUMBER($E6)),NOT(ISNUMBER($F6)),SUM($D6:$E6)<=0),"",IFERROR($F6/SUM($D6:$E6),"")) | R6: =IF(COUNTA($A6:$H6)=0,"",IF(OR($A6="",$B6="",$C6="",$D6="",$E6="",$F6="",$G6="",$H6=""),"Check missing input",IF(OR(NOT(ISNUMBER($A6)),NOT(ISNUMBER($D6)),NOT(ISNUMBER($E6)),NOT(ISNUMBER($F6))),"Check invalid input",IF(OR($I6="",$J6="",$K6=""),"Check technician setup",IF(IFERROR(VLOOKUP($B6,Assumptions!$A$15:$E$114,5,FALSE),"")<>"Active","Check technician setup",IF($F6<=0,"Check productive hours",IF($F6>SUM($D6:$E6),"Check productive hours",IF($D6>Assumptions!$B$4,"Check regular hours",IF(SUM($D6:$E6)>Assumptions!$B$5,"Check total hours",IF($P6>Assumptions!$B$6,"Review cost rate",IF($Q6<Assumptions!$B$3,"Review utilization",IF($H6="Draft","Review draft entry","No calculation alert"))))))))))))
A7: 46255 | B7: Fictional Tech Cobalt | C7: Fictional Route Green | D7: 40 | E7: 6 | F7: 35 | G7: Fictional Owner Review | H7: Reviewed | I7: =IF($B7="","",IFERROR(VLOOKUP($B7,Assumptions!$A$15:$E$114,2,FALSE),"")) | J7: =IF($B7="","",IFERROR(VLOOKUP($B7,Assumptions!$A$15:$E$114,4,FALSE),"")) | K7: =IF($B7="","",IFERROR(VLOOKUP($B7,Assumptions!$A$15:$E$114,3,FALSE),"")) | L7: =IF(OR(NOT(ISNUMBER($D7)),NOT(ISNUMBER($I7))),"",$D7*$I7) | M7: =IF(OR(NOT(ISNUMBER($E7)),NOT(ISNUMBER($I7)),NOT(ISNUMBER($J7))),"",$E7*$I7*$J7) | N7: =IF(OR(NOT(ISNUMBER($L7)),NOT(ISNUMBER($M7)),NOT(ISNUMBER($K7))),"",SUM($L7:$M7)*$K7) | O7: =IF(OR(NOT(ISNUMBER($L7)),NOT(ISNUMBER($M7)),NOT(ISNUMBER($N7))),"",SUM($L7:$N7)) | P7: =IF(OR(NOT(ISNUMBER($O7)),NOT(ISNUMBER($F7)),$F7<=0),"",IFERROR($O7/$F7,"")) | Q7: =IF(OR(NOT(ISNUMBER($D7)),NOT(ISNUMBER($E7)),NOT(ISNUMBER($F7)),SUM($D7:$E7)<=0),"",IFERROR($F7/SUM($D7:$E7),"")) | R7: =IF(COUNTA($A7:$H7)=0,"",IF(OR($A7="",$B7="",$C7="",$D7="",$E7="",$F7="",$G7="",$H7=""),"Check missing input",IF(OR(NOT(ISNUMBER($A7)),NOT(ISNUMBER($D7)),NOT(ISNUMBER($E7)),NOT(ISNUMBER($F7))),"Check invalid input",IF(OR($I7="",$J7="",$K7=""),"Check technician setup",IF(IFERROR(VLOOKUP($B7,Assumptions!$A$15:$E$114,5,FALSE),"")<>"Active","Check technician setup",IF($F7<=0,"Check productive hours",IF($F7>SUM($D7:$E7),"Check productive hours",IF($D7>Assumptions!$B$4,"Check regular hours",IF(SUM($D7:$E7)>Assumptions!$B$5,"Check total hours",IF($P7>Assumptions!$B$6,"Review cost rate",IF($Q7<Assumptions!$B$3,"Review utilization",IF($H7="Draft","Review draft entry","No calculation alert"))))))))))))
A8: 46255 | B8: Fictional Tech Drift | C8: Fictional Route Silver | D8: 36 | E8: 0 | F8: 28 | G8: Fictional Service Manager | H8: Draft | I8: =IF($B8="","",IFERROR(VLOOKUP($B8,Assumptions!$A$15:$E$114,2,FALSE),"")) | J8: =IF($B8="","",IFERROR(VLOOKUP($B8,Assumptions!$A$15:$E$114,4,FALSE),"")) | K8: =IF($B8="","",IFERROR(VLOOKUP($B8,Assumptions!$A$15:$E$114,3,FALSE),"")) | L8: =IF(OR(NOT(ISNUMBER($D8)),NOT(ISNUMBER($I8))),"",$D8*$I8) | M8: =IF(OR(NOT(ISNUMBER($E8)),NOT(ISNUMBER($I8)),NOT(ISNUMBER($J8))),"",$E8*$I8*$J8) | N8: =IF(OR(NOT(ISNUMBER($L8)),NOT(ISNUMBER($M8)),NOT(ISNUMBER($K8))),"",SUM($L8:$M8)*$K8) | O8: =IF(OR(NOT(ISNUMBER($L8)),NOT(ISNUMBER($M8)),NOT(ISNUMBER($N8))),"",SUM($L8:$N8)) | P8: =IF(OR(NOT(ISNUMBER($O8)),NOT(ISNUMBER($F8)),$F8<=0),"",IFERROR($O8/$F8,"")) | Q8: =IF(OR(NOT(ISNUMBER($D8)),NOT(ISNUMBER($E8)),NOT(ISNUMBER($F8)),SUM($D8:$E8)<=0),"",IFERROR($F8/SUM($D8:$E8),"")) | R8: =IF(COUNTA($A8:$H8)=0,"",IF(OR($A8="",$B8="",$C8="",$D8="",$E8="",$F8="",$G8="",$H8=""),"Check missing input",IF(OR(NOT(ISNUMBER($A8)),NOT(ISNUMBER($D8)),NOT(ISNUMBER($E8)),NOT(ISNUMBER($F8))),"Check invalid input",IF(OR($I8="",$J8="",$K8=""),"Check technician setup",IF(IFERROR(VLOOKUP($B8,Assumptions!$A$15:$E$114,5,FALSE),"")<>"Active","Check technician setup",IF($F8<=0,"Check productive hours",IF($F8>SUM($D8:$E8),"Check productive hours",IF($D8>Assumptions!$B$4,"Check regular hours",IF(SUM($D8:$E8)>Assumptions!$B$5,"Check total hours",IF($P8>Assumptions!$B$6,"Review cost rate",IF($Q8<Assumptions!$B$3,"Review utilization",IF($H8="Draft","Review draft entry","No calculation alert"))))))))))))
A9: 46262 | B9: Fictional Tech Ember | C9: Fictional Route Amber | D9: 40 | E9: 20 | F9: 36 | G9: Fictional Owner Review | H9: Reviewed | I9: =IF($B9="","",IFERROR(VLOOKUP($B9,Assumptions!$A$15:$E$114,2,FALSE),"")) | J9: =IF($B9="","",IFERROR(VLOOKUP($B9,Assumptions!$A$15:$E$114,4,FALSE),"")) | K9: =IF($B9="","",IFERROR(VLOOKUP($B9,Assumptions!$A$15:$E$114,3,FALSE),"")) | L9: =IF(OR(NOT(ISNUMBER($D9)),NOT(ISNUMBER($I9))),"",$D9*$I9) | M9: =IF(OR(NOT(ISNUMBER($E9)),NOT(ISNUMBER($I9)),NOT(ISNUMBER($J9))),"",$E9*$I9*$J9) | N9: =IF(OR(NOT(ISNUMBER($L9)),NOT(ISNUMBER($M9)),NOT(ISNUMBER($K9))),"",SUM($L9:$M9)*$K9) | O9: =IF(OR(NOT(ISNUMBER($L9)),NOT(ISNUMBER($M9)),NOT(ISNUMBER($N9))),"",SUM($L9:$N9)) | P9: =IF(OR(NOT(ISNUMBER($O9)),NOT(ISNUMBER($F9)),$F9<=0),"",IFERROR($O9/$F9,"")) | Q9: =IF(OR(NOT(ISNUMBER($D9)),NOT(ISNUMBER($E9)),NOT(ISNUMBER($F9)),SUM($D9:$E9)<=0),"",IFERROR($F9/SUM($D9:$E9),"")) | R9: =IF(COUNTA($A9:$H9)=0,"",IF(OR($A9="",$B9="",$C9="",$D9="",$E9="",$F9="",$G9="",$H9=""),"Check missing input",IF(OR(NOT(ISNUMBER($A9)),NOT(ISNUMBER($D9)),NOT(ISNUMBER($E9)),NOT(ISNUMBER($F9))),"Check invalid input",IF(OR($I9="",$J9="",$K9=""),"Check technician setup",IF(IFERROR(VLOOKUP($B9,Assumptions!$A$15:$E$114,5,FALSE),"")<>"Active","Check technician setup",IF($F9<=0,"Check productive hours",IF($F9>SUM($D9:$E9),"Check productive hours",IF($D9>Assumptions!$B$4,"Check regular hours",IF(SUM($D9:$E9)>Assumptions!$B$5,"Check total hours",IF($P9>Assumptions!$B$6,"Review cost rate",IF($Q9<Assumptions!$B$3,"Review utilization",IF($H9="Draft","Review draft entry","No calculation alert"))))))))))))
A10: 46262 | B10: Fictional Tech Fable | C10: Fictional Route Blue | D10: 32 | E10: 0 | F10: 24 | G10: Fictional Operations Lead | H10: Reviewed | I10: =IF($B10="","",IFERROR(VLOOKUP($B10,Assumptions!$A$15:$E$114,2,FALSE),"")) | J10: =IF($B10="","",IFERROR(VLOOKUP($B10,Assumptions!$A$15:$E$114,4,FALSE),"")) | K10: =IF($B10="","",IFERROR(VLOOKUP($B10,Assumptions!$A$15:$E$114,3,FALSE),"")) | L10: =IF(OR(NOT(ISNUMBER($D10)),NOT(ISNUMBER($I10))),"",$D10*$I10) | M10: =IF(OR(NOT(ISNUMBER($E10)),NOT(ISNUMBER($I10)),NOT(ISNUMBER($J10))),"",$E10*$I10*$J10) | N10: =IF(OR(NOT(ISNUMBER($L10)),NOT(ISNUMBER($M10)),NOT(ISNUMBER($K10))),"",SUM($L10:$M10)*$K10) | O10: =IF(OR(NOT(ISNUMBER($L10)),NOT(ISNUMBER($M10)),NOT(ISNUMBER($N10))),"",SUM($L10:$N10)) | P10: =IF(OR(NOT(ISNUMBER($O10)),NOT(ISNUMBER($F10)),$F10<=0),"",IFERROR($O10/$F10,"")) | Q10: =IF(OR(NOT(ISNUMBER($D10)),NOT(ISNUMBER($E10)),NOT(ISNUMBER($F10)),SUM($D10:$E10)<=0),"",IFERROR($F10/SUM($D10:$E10),"")) | R10: =IF(COUNTA($A10:$H10)=0,"",IF(OR($A10="",$B10="",$C10="",$D10="",$E10="",$F10="",$G10="",$H10=""),"Check missing input",IF(OR(NOT(ISNUMBER($A10)),NOT(ISNUMBER($D10)),NOT(ISNUMBER($E10)),NOT(ISNUMBER($F10))),"Check invalid input",IF(OR($I10="",$J10="",$K10=""),"Check technician setup",IF(IFERROR(VLOOKUP($B10,Assumptions!$A$15:$E$114,5,FALSE),"")<>"Active","Check technician setup",IF($F10<=0,"Check productive hours",IF($F10>SUM($D10:$E10),"Check productive hours",IF($D10>Assumptions!$B$4,"Check regular hours",IF(SUM($D10:$E10)>Assumptions!$B$5,"Check total hours",IF($P10>Assumptions!$B$6,"Review cost rate",IF($Q10<Assumptions!$B$3,"Review utilization",IF($H10="Draft","Review draft entry","No calculation alert"))))))))))))
A11: 46269 | B11: Fictional Tech Aster | C11: Fictional Route Green | D11: 40 | E11: 4 | F11: 34 | G11: Fictional Service Manager | H11: Reviewed | I11: =IF($B11="","",IFERROR(VLOOKUP($B11,Assumptions!$A$15:$E$114,2,FALSE),"")) | J11: =IF($B11="","",IFERROR(VLOOKUP($B11,Assumptions!$A$15:$E$114,4,FALSE),"")) | K11: =IF($B11="","",IFERROR(VLOOKUP($B11,Assumptions!$A$15:$E$114,3,FALSE),"")) | L11: =IF(OR(NOT(ISNUMBER($D11)),NOT(ISNUMBER($I11))),"",$D11*$I11) | M11: =IF(OR(NOT(ISNUMBER($E11)),NOT(ISNUMBER($I11)),NOT(ISNUMBER($J11))),"",$E11*$I11*$J11) | N11: =IF(OR(NOT(ISNUMBER($L11)),NOT(ISNUMBER($M11)),NOT(ISNUMBER($K11))),"",SUM($L11:$M11)*$K11) | O11: =IF(OR(NOT(ISNUMBER($L11)),NOT(ISNUMBER($M11)),NOT(ISNUMBER($N11))),"",SUM($L11:$N11)) | P11: =IF(OR(NOT(ISNUMBER($O11)),NOT(ISNUMBER($F11)),$F11<=0),"",IFERROR($O11/$F11,"")) | Q11: =IF(OR(NOT(ISNUMBER($D11)),NOT(ISNUMBER($E11)),NOT(ISNUMBER($F11)),SUM($D11:$E11)<=0),"",IFERROR($F11/SUM($D11:$E11),"")) | R11: =IF(COUNTA($A11:$H11)=0,"",IF(OR($A11="",$B11="",$C11="",$D11="",$E11="",$F11="",$G11="",$H11=""),"Check missing input",IF(OR(NOT(ISNUMBER($A11)),NOT(ISNUMBER($D11)),NOT(ISNUMBER($E11)),NOT(ISNUMBER($F11))),"Check invalid input",IF(OR($I11="",$J11="",$K11=""),"Check technician setup",IF(IFERROR(VLOOKUP($B11,Assumptions!$A$15:$E$114,5,FALSE),"")<>"Active","Check technician setup",IF($F11<=0,"Check productive hours",IF($F11>SUM($D11:$E11),"Check productive hours",IF($D11>Assumptions!$B$4,"Check regular hours",IF(SUM($D11:$E11)>Assumptions!$B$5,"Check total hours",IF($P11>Assumptions!$B$6,"Review cost rate",IF($Q11<Assumptions!$B$3,"Review utilization",IF($H11="Draft","Review draft entry","No calculation alert"))))))))))))
A12: 46269 | B12: Fictional Tech Birch | C12: Fictional Route Silver | D12: 40 | E12: 0 | F12: 33 | G12: Fictional Operations Lead | H12: Reviewed | I12: =IF($B12="","",IFERROR(VLOOKUP($B12,Assumptions!$A$15:$E$114,2,FALSE),"")) | J12: =IF($B12="","",IFERROR(VLOOKUP($B12,Assumptions!$A$15:$E$114,4,FALSE),"")) | K12: =IF($B12="","",IFERROR(VLOOKUP($B12,Assumptions!$A$15:$E$114,3,FALSE),"")) | L12: =IF(OR(NOT(ISNUMBER($D12)),NOT(ISNUMBER($I12))),"",$D12*$I12) | M12: =IF(OR(NOT(ISNUMBER($E12)),NOT(ISNUMBER($I12)),NOT(ISNUMBER($J12))),"",$E12*$I12*$J12) | N12: =IF(OR(NOT(ISNUMBER($L12)),NOT(ISNUMBER($M12)),NOT(ISNUMBER($K12))),"",SUM($L12:$M12)*$K12) | O12: =IF(OR(NOT(ISNUMBER($L12)),NOT(ISNUMBER($M12)),NOT(ISNUMBER($N12))),"",SUM($L12:$N12)) | P12: =IF(OR(NOT(ISNUMBER($O12)),NOT(ISNUMBER($F12)),$F12<=0),"",IFERROR($O12/$F12,"")) | Q12: =IF(OR(NOT(ISNUMBER($D12)),NOT(ISNUMBER($E12)),NOT(ISNUMBER($F12)),SUM($D12:$E12)<=0),"",IFERROR($F12/SUM($D12:$E12),"")) | R12: =IF(COUNTA($A12:$H12)=0,"",IF(OR($A12="",$B12="",$C12="",$D12="",$E12="",$F12="",$G12="",$H12=""),"Check missing input",IF(OR(NOT(ISNUMBER($A12)),NOT(ISNUMBER($D12)),NOT(ISNUMBER($E12)),NOT(ISNUMBER($F12))),"Check invalid input",IF(OR($I12="",$J12="",$K12=""),"Check technician setup",IF(IFERROR(VLOOKUP($B12,Assumptions!$A$15:$E$114,5,FALSE),"")<>"Active","Check technician setup",IF($F12<=0,"Check productive hours",IF($F12>SUM($D12:$E12),"Check productive hours",IF($D12>Assumptions!$B$4,"Check regular hours",IF(SUM($D12:$E12)>Assumptions!$B$5,"Check total hours",IF($P12>Assumptions!$B$6,"Review cost rate",IF($Q12<Assumptions!$B$3,"Review utilization",IF($H12="Draft","Review draft entry","No calculation alert"))))))))))))
A13: 46269 | B13: Fictional Tech Cobalt | C13: Fictional Route Amber | D13: 40 | E13: 8 | F13: 0 | G13: Fictional Owner Review | H13: Draft | I13: =IF($B13="","",IFERROR(VLOOKUP($B13,Assumptions!$A$15:$E$114,2,FALSE),"")) | J13: =IF($B13="","",IFERROR(VLOOKUP($B13,Assumptions!$A$15:$E$114,4,FALSE),"")) | K13: =IF($B13="","",IFERROR(VLOOKUP($B13,Assumptions!$A$15:$E$114,3,FALSE),"")) | L13: =IF(OR(NOT(ISNUMBER($D13)),NOT(ISNUMBER($I13))),"",$D13*$I13) | M13: =IF(OR(NOT(ISNUMBER($E13)),NOT(ISNUMBER($I13)),NOT(ISNUMBER($J13))),"",$E13*$I13*$J13) | N13: =IF(OR(NOT(ISNUMBER($L13)),NOT(ISNUMBER($M13)),NOT(ISNUMBER($K13))),"",SUM($L13:$M13)*$K13) | O13: =IF(OR(NOT(ISNUMBER($L13)),NOT(ISNUMBER($M13)),NOT(ISNUMBER($N13))),"",SUM($L13:$N13)) | P13: =IF(OR(NOT(ISNUMBER($O13)),NOT(ISNUMBER($F13)),$F13<=0),"",IFERROR($O13/$F13,"")) | Q13: =IF(OR(NOT(ISNUMBER($D13)),NOT(ISNUMBER($E13)),NOT(ISNUMBER($F13)),SUM($D13:$E13)<=0),"",IFERROR($F13/SUM($D13:$E13),"")) | R13: =IF(COUNTA($A13:$H13)=0,"",IF(OR($A13="",$B13="",$C13="",$D13="",$E13="",$F13="",$G13="",$H13=""),"Check missing input",IF(OR(NOT(ISNUMBER($A13)),NOT(ISNUMBER($D13)),NOT(ISNUMBER($E13)),NOT(ISNUMBER($F13))),"Check invalid input",IF(OR($I13="",$J13="",$K13=""),"Check technician setup",IF(IFERROR(VLOOKUP($B13,Assumptions!$A$15:$E$114,5,FALSE),"")<>"Active","Check technician setup",IF($F13<=0,"Check productive hours",IF($F13>SUM($D13:$E13),"Check productive hours",IF($D13>Assumptions!$B$4,"Check regular hours",IF(SUM($D13:$E13)>Assumptions!$B$5,"Check total hours",IF($P13>Assumptions!$B$6,"Review cost rate",IF($Q13<Assumptions!$B$3,"Review utilization",IF($H13="Draft","Review draft entry","No calculation alert"))))))))))))
A14: 46269 | B14: Fictional Tech Drift | C14: Fictional Route Blue | D14: 40 | E14: 0 | F14: 29 | G14: Fictional Service Manager | H14: Reviewed | I14: =IF($B14="","",IFERROR(VLOOKUP($B14,Assumptions!$A$15:$E$114,2,FALSE),"")) | J14: =IF($B14="","",IFERROR(VLOOKUP($B14,Assumptions!$A$15:$E$114,4,FALSE),"")) | K14: =IF($B14="","",IFERROR(VLOOKUP($B14,Assumptions!$A$15:$E$114,3,FALSE),"")) | L14: =IF(OR(NOT(ISNUMBER($D14)),NOT(ISNUMBER($I14))),"",$D14*$I14) | M14: =IF(OR(NOT(ISNUMBER($E14)),NOT(ISNUMBER($I14)),NOT(ISNUMBER($J14))),"",$E14*$I14*$J14) | N14: =IF(OR(NOT(ISNUMBER($L14)),NOT(ISNUMBER($M14)),NOT(ISNUMBER($K14))),"",SUM($L14:$M14)*$K14) | O14: =IF(OR(NOT(ISNUMBER($L14)),NOT(ISNUMBER($M14)),NOT(ISNUMBER($N14))),"",SUM($L14:$N14)) | P14: =IF(OR(NOT(ISNUMBER($O14)),NOT(ISNUMBER($F14)),$F14<=0),"",IFERROR($O14/$F14,"")) | Q14: =IF(OR(NOT(ISNUMBER($D14)),NOT(ISNUMBER($E14)),NOT(ISNUMBER($F14)),SUM($D14:$E14)<=0),"",IFERROR($F14/SUM($D14:$E14),"")) | R14: =IF(COUNTA($A14:$H14)=0,"",IF(OR($A14="",$B14="",$C14="",$D14="",$E14="",$F14="",$G14="",$H14=""),"Check missing input",IF(OR(NOT(ISNUMBER($A14)),NOT(ISNUMBER($D14)),NOT(ISNUMBER($E14)),NOT(ISNUMBER($F14))),"Check invalid input",IF(OR($I14="",$J14="",$K14=""),"Check technician setup",IF(IFERROR(VLOOKUP($B14,Assumptions!$A$15:$E$114,5,FALSE),"")<>"Active","Check technician setup",IF($F14<=0,"Check productive hours",IF($F14>SUM($D14:$E14),"Check productive hours",IF($D14>Assumptions!$B$4,"Check regular hours",IF(SUM($D14:$E14)>Assumptions!$B$5,"Check total hours",IF($P14>Assumptions!$B$6,"Review cost rate",IF($Q14<Assumptions!$B$3,"Review utilization",IF($H14="Draft","Review draft entry","No calculation alert"))))))))))))
I15: =IF($B15="","",IFERROR(VLOOKUP($B15,Assumptions!$A$15:$E$114,2,FALSE),"")) | J15: =IF($B15="","",IFERROR(VLOOKUP($B15,Assumptions!$A$15:$E$114,4,FALSE),"")) | K15: =IF($B15="","",IFERROR(VLOOKUP($B15,Assumptions!$A$15:$E$114,3,FALSE),"")) | L15: =IF(OR(NOT(ISNUMBER($D15)),NOT(ISNUMBER($I15))),"",$D15*$I15) | M15: =IF(OR(NOT(ISNUMBER($E15)),NOT(ISNUMBER($I15)),NOT(ISNUMBER($J15))),"",$E15*$I15*$J15) | N15: =IF(OR(NOT(ISNUMBER($L15)),NOT(ISNUMBER($M15)),NOT(ISNUMBER($K15))),"",SUM($L15:$M15)*$K15) | O15: =IF(OR(NOT(ISNUMBER($L15)),NOT(ISNUMBER($M15)),NOT(ISNUMBER($N15))),"",SUM($L15:$N15)) | P15: =IF(OR(NOT(ISNUMBER($O15)),NOT(ISNUMBER($F15)),$F15<=0),"",IFERROR($O15/$F15,"")) | Q15: =IF(OR(NOT(ISNUMBER($D15)),NOT(ISNUMBER($E15)),NOT(ISNUMBER($F15)),SUM($D15:$E15)<=0),"",IFERROR($F15/SUM($D15:$E15),"")) | R15: =IF(COUNTA($A15:$H15)=0,"",IF(OR($A15="",$B15="",$C15="",$D15="",$E15="",$F15="",$G15="",$H15=""),"Check missing input",IF(OR(NOT(ISNUMBER($A15)),NOT(ISNUMBER($D15)),NOT(ISNUMBER($E15)),NOT(ISNUMBER($F15))),"Check invalid input",IF(OR($I15="",$J15="",$K15=""),"Check technician setup",IF(IFERROR(VLOOKUP($B15,Assumptions!$A$15:$E$114,5,FALSE),"")<>"Active","Check technician setup",IF($F15<=0,"Check productive hours",IF($F15>SUM($D15:$E15),"Check productive hours",IF($D15>Assumptions!$B$4,"Check regular hours",IF(SUM($D15:$E15)>Assumptions!$B$5,"Check total hours",IF($P15>Assumptions!$B$6,"Review cost rate",IF($Q15<Assumptions!$B$3,"Review utilization",IF($H15="Draft","Review draft entry","No calculation alert"))))))))))))
I16: =IF($B16="","",IFERROR(VLOOKUP($B16,Assumptions!$A$15:$E$114,2,FALSE),"")) | J16: =IF($B16="","",IFERROR(VLOOKUP($B16,Assumptions!$A$15:$E$114,4,FALSE),"")) | K16: =IF($B16="","",IFERROR(VLOOKUP($B16,Assumptions!$A$15:$E$114,3,FALSE),"")) | L16: =IF(OR(NOT(ISNUMBER($D16)),NOT(ISNUMBER($I16))),"",$D16*$I16) | M16: =IF(OR(NOT(ISNUMBER($E16)),NOT(ISNUMBER($I16)),NOT(ISNUMBER($J16))),"",$E16*$I16*$J16) | N16: =IF(OR(NOT(ISNUMBER($L16)),NOT(ISNUMBER($M16)),NOT(ISNUMBER($K16))),"",SUM($L16:$M16)*$K16) | O16: =IF(OR(NOT(ISNUMBER($L16)),NOT(ISNUMBER($M16)),NOT(ISNUMBER($N16))),"",SUM($L16:$N16)) | P16: =IF(OR(NOT(ISNUMBER($O16)),NOT(ISNUMBER($F16)),$F16<=0),"",IFERROR($O16/$F16,"")) | Q16: =IF(OR(NOT(ISNUMBER($D16)),NOT(ISNUMBER($E16)),NOT(ISNUMBER($F16)),SUM($D16:$E16)<=0),"",IFERROR($F16/SUM($D16:$E16),"")) | R16: =IF(COUNTA($A16:$H16)=0,"",IF(OR($A16="",$B16="",$C16="",$D16="",$E16="",$F16="",$G16="",$H16=""),"Check missing input",IF(OR(NOT(ISNUMBER($A16)),NOT(ISNUMBER($D16)),NOT(ISNUMBER($E16)),NOT(ISNUMBER($F16))),"Check invalid input",IF(OR($I16="",$J16="",$K16=""),"Check technician setup",IF(IFERROR(VLOOKUP($B16,Assumptions!$A$15:$E$114,5,FALSE),"")<>"Active","Check technician setup",IF($F16<=0,"Check productive hours",IF($F16>SUM($D16:$E16),"Check productive hours",IF($D16>Assumptions!$B$4,"Check regular hours",IF(SUM($D16:$E16)>Assumptions!$B$5,"Check total hours",IF($P16>Assumptions!$B$6,"Review cost rate",IF($Q16<Assumptions!$B$3,"Review utilization",IF($H16="Draft","Review draft entry","No calculation alert"))))))))))))
I17: =IF($B17="","",IFERROR(VLOOKUP($B17,Assumptions!$A$15:$E$114,2,FALSE),"")) | J17: =IF($B17="","",IFERROR(VLOOKUP($B17,Assumptions!$A$15:$E$114,4,FALSE),"")) | K17: =IF($B17="","",IFERROR(VLOOKUP($B17,Assumptions!$A$15:$E$114,3,FALSE),"")) | L17: =IF(OR(NOT(ISNUMBER($D17)),NOT(ISNUMBER($I17))),"",$D17*$I17) | M17: =IF(OR(NOT(ISNUMBER($E17)),NOT(ISNUMBER($I17)),NOT(ISNUMBER($J17))),"",$E17*$I17*$J17) | N17: =IF(OR(NOT(ISNUMBER($L17)),NOT(ISNUMBER($M17)),NOT(ISNUMBER($K17))),"",SUM($L17:$M17)*$K17) | O17: =IF(OR(NOT(ISNUMBER($L17)),NOT(ISNUMBER($M17)),NOT(ISNUMBER($N17))),"",SUM($L17:$N17)) | P17: =IF(OR(NOT(ISNUMBER($O17)),NOT(ISNUMBER($F17)),$F17<=0),"",IFERROR($O17/$F17,"")) | Q17: =IF(OR(NOT(ISNUMBER($D17)),NOT(ISNUMBER($E17)),NOT(ISNUMBER($F17)),SUM($D17:$E17)<=0),"",IFERROR($F17/SUM($D17:$E17),"")) | R17: =IF(COUNTA($A17:$H17)=0,"",IF(OR($A17="",$B17="",$C17="",$D17="",$E17="",$F17="",$G17="",$H17=""),"Check missing input",IF(OR(NOT(ISNUMBER($A17)),NOT(ISNUMBER($D17)),NOT(ISNUMBER($E17)),NOT(ISNUMBER($F17))),"Check invalid input",IF(OR($I17="",$J17="",$K17=""),"Check technician setup",IF(IFERROR(VLOOKUP($B17,Assumptions!$A$15:$E$114,5,FALSE),"")<>"Active","Check technician setup",IF($F17<=0,"Check productive hours",IF($F17>SUM($D17:$E17),"Check productive hours",IF($D17>Assumptions!$B$4,"Check regular hours",IF(SUM($D17:$E17)>Assumptions!$B$5,"Check total hours",IF($P17>Assumptions!$B$6,"Review cost rate",IF($Q17<Assumptions!$B$3,"Review utilization",IF($H17="Draft","Review draft entry","No calculation alert"))))))))))))
I18: =IF($B18="","",IFERROR(VLOOKUP($B18,Assumptions!$A$15:$E$114,2,FALSE),"")) | J18: =IF($B18="","",IFERROR(VLOOKUP($B18,Assumptions!$A$15:$E$114,4,FALSE),"")) | K18: =IF($B18="","",IFERROR(VLOOKUP($B18,Assumptions!$A$15:$E$114,3,FALSE),"")) | L18: =IF(OR(NOT(ISNUMBER($D18)),NOT(ISNUMBER($I18))),"",$D18*$I18) | M18: =IF(OR(NOT(ISNUMBER($E18)),NOT(ISNUMBER($I18)),NOT(ISNUMBER($J18))),"",$E18*$I18*$J18) | N18: =IF(OR(NOT(ISNUMBER($L18)),NOT(ISNUMBER($M18)),NOT(ISNUMBER($K18))),"",SUM($L18:$M18)*$K18) | O18: =IF(OR(NOT(ISNUMBER($L18)),NOT(ISNUMBER($M18)),NOT(ISNUMBER($N18))),"",SUM($L18:$N18)) | P18: =IF(OR(NOT(ISNUMBER($O18)),NOT(ISNUMBER($F18)),$F18<=0),"",IFERROR($O18/$F18,"")) | Q18: =IF(OR(NOT(ISNUMBER($D18)),NOT(ISNUMBER($E18)),NOT(ISNUMBER($F18)),SUM($D18:$E18)<=0),"",IFERROR($F18/SUM($D18:$E18),"")) | R18: =IF(COUNTA($A18:$H18)=0,"",IF(OR($A18="",$B18="",$C18="",$D18="",$E18="",$F18="",$G18="",$H18=""),"Check missing input",IF(OR(NOT(ISNUMBER($A18)),NOT(ISNUMBER($D18)),NOT(ISNUMBER($E18)),NOT(ISNUMBER($F18))),"Check invalid input",IF(OR($I18="",$J18="",$K18=""),"Check technician setup",IF(IFERROR(VLOOKUP($B18,Assumptions!$A$15:$E$114,5,FALSE),"")<>"Active","Check technician setup",IF($F18<=0,"Check productive hours",IF($F18>SUM($D18:$E18),"Check productive hours",IF($D18>Assumptions!$B$4,"Check regular hours",IF(SUM($D18:$E18)>Assumptions!$B$5,"Check total hours",IF($P18>Assumptions!$B$6,"Review cost rate",IF($Q18<Assumptions!$B$3,"Review utilization",IF($H18="Draft","Review draft entry","No calculation alert"))))))))))))
I19: =IF($B19="","",IFERROR(VLOOKUP($B19,Assumptions!$A$15:$E$114,2,FALSE),"")) | J19: =IF($B19="","",IFERROR(VLOOKUP($B19,Assumptions!$A$15:$E$114,4,FALSE),"")) | K19: =IF($B19="","",IFERROR(VLOOKUP($B19,Assumptions!$A$15:$E$114,3,FALSE),"")) | L19: =IF(OR(NOT(ISNUMBER($D19)),NOT(ISNUMBER($I19))),"",$D19*$I19) | M19: =IF(OR(NOT(ISNUMBER($E19)),NOT(ISNUMBER($I19)),NOT(ISNUMBER($J19))),"",$E19*$I19*$J19) | N19: =IF(OR(NOT(ISNUMBER($L19)),NOT(ISNUMBER($M19)),NOT(ISNUMBER($K19))),"",SUM($L19:$M19)*$K19) | O19: =IF(OR(NOT(ISNUMBER($L19)),NOT(ISNUMBER($M19)),NOT(ISNUMBER($N19))),"",SUM($L19:$N19)) | P19: =IF(OR(NOT(ISNUMBER($O19)),NOT(ISNUMBER($F19)),$F19<=0),"",IFERROR($O19/$F19,"")) | Q19: =IF(OR(NOT(ISNUMBER($D19)),NOT(ISNUMBER($E19)),NOT(ISNUMBER($F19)),SUM($D19:$E19)<=0),"",IFERROR($F19/SUM($D19:$E19),"")) | R19: =IF(COUNTA($A19:$H19)=0,"",IF(OR($A19="",$B19="",$C19="",$D19="",$E19="",$F19="",$G19="",$H19=""),"Check missing input",IF(OR(NOT(ISNUMBER($A19)),NOT(ISNUMBER($D19)),NOT(ISNUMBER($E19)),NOT(ISNUMBER($F19))),"Check invalid input",IF(OR($I19="",$J19="",$K19=""),"Check technician setup",IF(IFERROR(VLOOKUP($B19,Assumptions!$A$15:$E$114,5,FALSE),"")<>"Active","Check technician setup",IF($F19<=0,"Check productive hours",IF($F19>SUM($D19:$E19),"Check productive hours",IF($D19>Assumptions!$B$4,"Check regular hours",IF(SUM($D19:$E19)>Assumptions!$B$5,"Check total hours",IF($P19>Assumptions!$B$6,"Review cost rate",IF($Q19<Assumptions!$B$3,"Review utilization",IF($H19="Draft","Review draft entry","No calculation alert"))))))))))))
I20: =IF($B20="","",IFERROR(VLOOKUP($B20,Assumptions!$A$15:$E$114,2,FALSE),"")) | J20: =IF($B20="","",IFERROR(VLOOKUP($B20,Assumptions!$A$15:$E$114,4,FALSE),"")) | K20: =IF($B20="","",IFERROR(VLOOKUP($B20,Assumptions!$A$15:$E$114,3,FALSE),"")) | L20: =IF(OR(NOT(ISNUMBER($D20)),NOT(ISNUMBER($I20))),"",$D20*$I20) | M20: =IF(OR(NOT(ISNUMBER($E20)),NOT(ISNUMBER($I20)),NOT(ISNUMBER($J20))),"",$E20*$I20*$J20) | N20: =IF(OR(NOT(ISNUMBER($L20)),NOT(ISNUMBER($M20)),NOT(ISNUMBER($K20))),"",SUM($L20:$M20)*$K20) | O20: =IF(OR(NOT(ISNUMBER($L20)),NOT(ISNUMBER($M20)),NOT(ISNUMBER($N20))),"",SUM($L20:$N20)) | P20: =IF(OR(NOT(ISNUMBER($O20)),NOT(ISNUMBER($F20)),$F20<=0),"",IFERROR($O20/$F20,"")) | Q20: =IF(OR(NOT(ISNUMBER($D20)),NOT(ISNUMBER($E20)),NOT(ISNUMBER($F20)),SUM($D20:$E20)<=0),"",IFERROR($F20/SUM($D20:$E20),"")) | R20: =IF(COUNTA($A20:$H20)=0,"",IF(OR($A20="",$B20="",$C20="",$D20="",$E20="",$F20="",$G20="",$H20=""),"Check missing input",IF(OR(NOT(ISNUMBER($A20)),NOT(ISNUMBER($D20)),NOT(ISNUMBER($E20)),NOT(ISNUMBER($F20))),"Check invalid input",IF(OR($I20="",$J20="",$K20=""),"Check technician setup",IF(IFERROR(VLOOKUP($B20,Assumptions!$A$15:$E$114,5,FALSE),"")<>"Active","Check technician setup",IF($F20<=0,"Check productive hours",IF($F20>SUM($D20:$E20),"Check productive hours",IF($D20>Assumptions!$B$4,"Check regular hours",IF(SUM($D20:$E20)>Assumptions!$B$5,"Check total hours",IF($P20>Assumptions!$B$6,"Review cost rate",IF($Q20<Assumptions!$B$3,"Review utilization",IF($H20="Draft","Review draft entry","No calculation alert"))))))))))))
I21: =IF($B21="","",IFERROR(VLOOKUP($B21,Assumptions!$A$15:$E$114,2,FALSE),"")) | J21: =IF($B21="","",IFERROR(VLOOKUP($B21,Assumptions!$A$15:$E$114,4,FALSE),"")) | K21: =IF($B21="","",IFERROR(VLOOKUP($B21,Assumptions!$A$15:$E$114,3,FALSE),"")) | L21: =IF(OR(NOT(ISNUMBER($D21)),NOT(ISNUMBER($I21))),"",$D21*$I21) | M21: =IF(OR(NOT(ISNUMBER($E21)),NOT(ISNUMBER($I21)),NOT(ISNUMBER($J21))),"",$E21*$I21*$J21) | N21: =IF(OR(NOT(ISNUMBER($L21)),NOT(ISNUMBER($M21)),NOT(ISNUMBER($K21))),"",SUM($L21:$M21)*$K21) | O21: =IF(OR(NOT(ISNUMBER($L21)),NOT(ISNUMBER($M21)),NOT(ISNUMBER($N21))),"",SUM($L21:$N21)) | P21: =IF(OR(NOT(ISNUMBER($O21)),NOT(ISNUMBER($F21)),$F21<=0),"",IFERROR($O21/$F21,"")) | Q21: =IF(OR(NOT(ISNUMBER($D21)),NOT(ISNUMBER($E21)),NOT(ISNUMBER($F21)),SUM($D21:$E21)<=0),"",IFERROR($F21/SUM($D21:$E21),"")) | R21: =IF(COUNTA($A21:$H21)=0,"",IF(OR($A21="",$B21="",$C21="",$D21="",$E21="",$F21="",$G21="",$H21=""),"Check missing input",IF(OR(NOT(ISNUMBER($A21)),NOT(ISNUMBER($D21)),NOT(ISNUMBER($E21)),NOT(ISNUMBER($F21))),"Check invalid input",IF(OR($I21="",$J21="",$K21=""),"Check technician setup",IF(IFERROR(VLOOKUP($B21,Assumptions!$A$15:$E$114,5,FALSE),"")<>"Active","Check technician setup",IF($F21<=0,"Check productive hours",IF($F21>SUM($D21:$E21),"Check productive hours",IF($D21>Assumptions!$B$4,"Check regular hours",IF(SUM($D21:$E21)>Assumptions!$B$5,"Check total hours",IF($P21>Assumptions!$B$6,"Review cost rate",IF($Q21<Assumptions!$B$3,"Review utilization",IF($H21="Draft","Review draft entry","No calculation alert"))))))))))))
I22: =IF($B22="","",IFERROR(VLOOKUP($B22,Assumptions!$A$15:$E$114,2,FALSE),"")) | J22: =IF($B22="","",IFERROR(VLOOKUP($B22,Assumptions!$A$15:$E$114,4,FALSE),"")) | K22: =IF($B22="","",IFERROR(VLOOKUP($B22,Assumptions!$A$15:$E$114,3,FALSE),"")) | L22: =IF(OR(NOT(ISNUMBER($D22)),NOT(ISNUMBER($I22))),"",$D22*$I22) | M22: =IF(OR(NOT(ISNUMBER($E22)),NOT(ISNUMBER($I22)),NOT(ISNUMBER($J22))),"",$E22*$I22*$J22) | N22: =IF(OR(NOT(ISNUMBER($L22)),NOT(ISNUMBER($M22)),NOT(ISNUMBER($K22))),"",SUM($L22:$M22)*$K22) | O22: =IF(OR(NOT(ISNUMBER($L22)),NOT(ISNUMBER($M22)),NOT(ISNUMBER($N22))),"",SUM($L22:$N22)) | P22: =IF(OR(NOT(ISNUMBER($O22)),NOT(ISNUMBER($F22)),$F22<=0),"",IFERROR($O22/$F22,"")) | Q22: =IF(OR(NOT(ISNUMBER($D22)),NOT(ISNUMBER($E22)),NOT(ISNUMBER($F22)),SUM($D22:$E22)<=0),"",IFERROR($F22/SUM($D22:$E22),"")) | R22: =IF(COUNTA($A22:$H22)=0,"",IF(OR($A22="",$B22="",$C22="",$D22="",$E22="",$F22="",$G22="",$H22=""),"Check missing input",IF(OR(NOT(ISNUMBER($A22)),NOT(ISNUMBER($D22)),NOT(ISNUMBER($E22)),NOT(ISNUMBER($F22))),"Check invalid input",IF(OR($I22="",$J22="",$K22=""),"Check technician setup",IF(IFERROR(VLOOKUP($B22,Assumptions!$A$15:$E$114,5,FALSE),"")<>"Active","Check technician setup",IF($F22<=0,"Check productive hours",IF($F22>SUM($D22:$E22),"Check productive hours",IF($D22>Assumptions!$B$4,"Check regular hours",IF(SUM($D22:$E22)>Assumptions!$B$5,"Check total hours",IF($P22>Assumptions!$B$6,"Review cost rate",IF($Q22<Assumptions!$B$3,"Review utilization",IF($H22="Draft","Review draft entry","No calculation alert"))))))))))))
I23: =IF($B23="","",IFERROR(VLOOKUP($B23,Assumptions!$A$15:$E$114,2,FALSE),"")) | J23: =IF($B23="","",IFERROR(VLOOKUP($B23,Assumptions!$A$15:$E$114,4,FALSE),"")) | K23: =IF($B23="","",IFERROR(VLOOKUP($B23,Assumptions!$A$15:$E$114,3,FALSE),"")) | L23: =IF(OR(NOT(ISNUMBER($D23)),NOT(ISNUMBER($I23))),"",$D23*$I23) | M23: =IF(OR(NOT(ISNUMBER($E23)),NOT(ISNUMBER($I23)),NOT(ISNUMBER($J23))),"",$E23*$I23*$J23) | N23: =IF(OR(NOT(ISNUMBER($L23)),NOT(ISNUMBER($M23)),NOT(ISNUMBER($K23))),"",SUM($L23:$M23)*$K23) | O23: =IF(OR(NOT(ISNUMBER($L23)),NOT(ISNUMBER($M23)),NOT(ISNUMBER($N23))),"",SUM($L23:$N23)) | P23: =IF(OR(NOT(ISNUMBER($O23)),NOT(ISNUMBER($F23)),$F23<=0),"",IFERROR($O23/$F23,"")) | Q23: =IF(OR(NOT(ISNUMBER($D23)),NOT(ISNUMBER($E23)),NOT(ISNUMBER($F23)),SUM($D23:$E23)<=0),"",IFERROR($F23/SUM($D23:$E23),"")) | R23: =IF(COUNTA($A23:$H23)=0,"",IF(OR($A23="",$B23="",$C23="",$D23="",$E23="",$F23="",$G23="",$H23=""),"Check missing input",IF(OR(NOT(ISNUMBER($A23)),NOT(ISNUMBER($D23)),NOT(ISNUMBER($E23)),NOT(ISNUMBER($F23))),"Check invalid input",IF(OR($I23="",$J23="",$K23=""),"Check technician setup",IF(IFERROR(VLOOKUP($B23,Assumptions!$A$15:$E$114,5,FALSE),"")<>"Active","Check technician setup",IF($F23<=0,"Check productive hours",IF($F23>SUM($D23:$E23),"Check productive hours",IF($D23>Assumptions!$B$4,"Check regular hours",IF(SUM($D23:$E23)>Assumptions!$B$5,"Check total hours",IF($P23>Assumptions!$B$6,"Review cost rate",IF($Q23<Assumptions!$B$3,"Review utilization",IF($H23="Draft","Review draft entry","No calculation alert"))))))))))))
I24: =IF($B24="","",IFERROR(VLOOKUP($B24,Assumptions!$A$15:$E$114,2,FALSE),"")) | J24: =IF($B24="","",IFERROR(VLOOKUP($B24,Assumptions!$A$15:$E$114,4,FALSE),"")) | K24: =IF($B24="","",IFERROR(VLOOKUP($B24,Assumptions!$A$15:$E$114,3,FALSE),"")) | L24: =IF(OR(NOT(ISNUMBER($D24)),NOT(ISNUMBER($I24))),"",$D24*$I24) | M24: =IF(OR(NOT(ISNUMBER($E24)),NOT(ISNUMBER($I24)),NOT(ISNUMBER($J24))),"",$E24*$I24*$J24) | N24: =IF(OR(NOT(ISNUMBER($L24)),NOT(ISNUMBER($M24)),NOT(ISNUMBER($K24))),"",SUM($L24:$M24)*$K24) | O24: =IF(OR(NOT(ISNUMBER($L24)),NOT(ISNUMBER($M24)),NOT(ISNUMBER($N24))),"",SUM($L24:$N24)) | P24: =IF(OR(NOT(ISNUMBER($O24)),NOT(ISNUMBER($F24)),$F24<=0),"",IFERROR($O24/$F24,"")) | Q24: =IF(OR(NOT(ISNUMBER($D24)),NOT(ISNUMBER($E24)),NOT(ISNUMBER($F24)),SUM($D24:$E24)<=0),"",IFERROR($F24/SUM($D24:$E24),"")) | R24: =IF(COUNTA($A24:$H24)=0,"",IF(OR($A24="",$B24="",$C24="",$D24="",$E24="",$F24="",$G24="",$H24=""),"Check missing input",IF(OR(NOT(ISNUMBER($A24)),NOT(ISNUMBER($D24)),NOT(ISNUMBER($E24)),NOT(ISNUMBER($F24))),"Check invalid input",IF(OR($I24="",$J24="",$K24=""),"Check technician setup",IF(IFERROR(VLOOKUP($B24,Assumptions!$A$15:$E$114,5,FALSE),"")<>"Active","Check technician setup",IF($F24<=0,"Check productive hours",IF($F24>SUM($D24:$E24),"Check productive hours",IF($D24>Assumptions!$B$4,"Check regular hours",IF(SUM($D24:$E24)>Assumptions!$B$5,"Check total hours",IF($P24>Assumptions!$B$6,"Review cost rate",IF($Q24<Assumptions!$B$3,"Review utilization",IF($H24="Draft","Review draft entry","No calculation alert"))))))))))))
I25: =IF($B25="","",IFERROR(VLOOKUP($B25,Assumptions!$A$15:$E$114,2,FALSE),"")) | J25: =IF($B25="","",IFERROR(VLOOKUP($B25,Assumptions!$A$15:$E$114,4,FALSE),"")) | K25: =IF($B25="","",IFERROR(VLOOKUP($B25,Assumptions!$A$15:$E$114,3,FALSE),"")) | L25: =IF(OR(NOT(ISNUMBER($D25)),NOT(ISNUMBER($I25))),"",$D25*$I25) | M25: =IF(OR(NOT(ISNUMBER($E25)),NOT(ISNUMBER($I25)),NOT(ISNUMBER($J25))),"",$E25*$I25*$J25) | N25: =IF(OR(NOT(ISNUMBER($L25)),NOT(ISNUMBER($M25)),NOT(ISNUMBER($K25))),"",SUM($L25:$M25)*$K25) | O25: =IF(OR(NOT(ISNUMBER($L25)),NOT(ISNUMBER($M25)),NOT(ISNUMBER($N25))),"",SUM($L25:$N25)) | P25: =IF(OR(NOT(ISNUMBER($O25)),NOT(ISNUMBER($F25)),$F25<=0),"",IFERROR($O25/$F25,"")) | Q25: =IF(OR(NOT(ISNUMBER($D25)),NOT(ISNUMBER($E25)),NOT(ISNUMBER($F25)),SUM($D25:$E25)<=0),"",IFERROR($F25/SUM($D25:$E25),"")) | R25: =IF(COUNTA($A25:$H25)=0,"",IF(OR($A25="",$B25="",$C25="",$D25="",$E25="",$F25="",$G25="",$H25=""),"Check missing input",IF(OR(NOT(ISNUMBER($A25)),NOT(ISNUMBER($D25)),NOT(ISNUMBER($E25)),NOT(ISNUMBER($F25))),"Check invalid input",IF(OR($I25="",$J25="",$K25=""),"Check technician setup",IF(IFERROR(VLOOKUP($B25,Assumptions!$A$15:$E$114,5,FALSE),"")<>"Active","Check technician setup",IF($F25<=0,"Check productive hours",IF($F25>SUM($D25:$E25),"Check productive hours",IF($D25>Assumptions!$B$4,"Check regular hours",IF(SUM($D25:$E25)>Assumptions!$B$5,"Check total hours",IF($P25>Assumptions!$B$6,"Review cost rate",IF($Q25<Assumptions!$B$3,"Review utilization",IF($H25="Draft","Review draft entry","No calculation alert"))))))))))))
I26: =IF($B26="","",IFERROR(VLOOKUP($B26,Assumptions!$A$15:$E$114,2,FALSE),"")) | J26: =IF($B26="","",IFERROR(VLOOKUP($B26,Assumptions!$A$15:$E$114,4,FALSE),"")) | K26: =IF($B26="","",IFERROR(VLOOKUP($B26,Assumptions!$A$15:$E$114,3,FALSE),"")) | L26: =IF(OR(NOT(ISNUMBER($D26)),NOT(ISNUMBER($I26))),"",$D26*$I26) | M26: =IF(OR(NOT(ISNUMBER($E26)),NOT(ISNUMBER($I26)),NOT(ISNUMBER($J26))),"",$E26*$I26*$J26) | N26: =IF(OR(NOT(ISNUMBER($L26)),NOT(ISNUMBER($M26)),NOT(ISNUMBER($K26))),"",SUM($L26:$M26)*$K26) | O26: =IF(OR(NOT(ISNUMBER($L26)),NOT(ISNUMBER($M26)),NOT(ISNUMBER($N26))),"",SUM($L26:$N26)) | P26: =IF(OR(NOT(ISNUMBER($O26)),NOT(ISNUMBER($F26)),$F26<=0),"",IFERROR($O26/$F26,"")) | Q26: =IF(OR(NOT(ISNUMBER($D26)),NOT(ISNUMBER($E26)),NOT(ISNUMBER($F26)),SUM($D26:$E26)<=0),"",IFERROR($F26/SUM($D26:$E26),"")) | R26: =IF(COUNTA($A26:$H26)=0,"",IF(OR($A26="",$B26="",$C26="",$D26="",$E26="",$F26="",$G26="",$H26=""),"Check missing input",IF(OR(NOT(ISNUMBER($A26)),NOT(ISNUMBER($D26)),NOT(ISNUMBER($E26)),NOT(ISNUMBER($F26))),"Check invalid input",IF(OR($I26="",$J26="",$K26=""),"Check technician setup",IF(IFERROR(VLOOKUP($B26,Assumptions!$A$15:$E$114,5,FALSE),"")<>"Active","Check technician setup",IF($F26<=0,"Check productive hours",IF($F26>SUM($D26:$E26),"Check productive hours",IF($D26>Assumptions!$B$4,"Check regular hours",IF(SUM($D26:$E26)>Assumptions!$B$5,"Check total hours",IF($P26>Assumptions!$B$6,"Review cost rate",IF($Q26<Assumptions!$B$3,"Review utilization",IF($H26="Draft","Review draft entry","No calculation alert"))))))))))))
... I104: =IF($B104="","",IFERROR(VLOOKUP($B104,Assumptions!$A$15:$E$114,2,FALSE),"")) | J104: =IF($B104="","",IFERROR(VLOOKUP($B104,Assumptions!$A$15:$E$114,4,FALSE),"")) | K104: =IF($B104="","",IFERROR(VLOOKUP($B104,Assumptions!$A$15:$E$114,3,FALSE),"")) | L104: =IF(OR(NOT(ISNUMBER($D104)),NOT(ISNUMBER($I104))),"",$D104*$I104) | M104: =IF(OR(NOT(ISNUMBER($E104)),NOT(ISNUMBER($I104)),NOT(ISNUMBER($J104))),"",$E104*$I104*$J104) | N104: =IF(OR(NOT(ISNUMBER($L104)),NOT(ISNUMBER($M104)),NOT(ISNUMBER($K104))),"",SUM($L104:$M104)*$K104) | O104: =IF(OR(NOT(ISNUMBER($L104)),NOT(ISNUMBER($M104)),NOT(ISNUMBER($N104))),"",SUM($L104:$N104)) | P104: =IF(OR(NOT(ISNUMBER($O104)),NOT(ISNUMBER($F104)),$F104<=0),"",IFERROR($O104/$F104,"")) | Q104: =IF(OR(NOT(ISNUMBER($D104)),NOT(ISNUMBER($E104)),NOT(ISNUMBER($F104)),SUM($D104:$E104)<=0),"",IFERROR($F104/SUM($D104:$E104),"")) | R104: =IF(COUNTA($A104:$H104)=0,"",IF(OR($A104="",$B104="",$C104="",$D104="",$E104="",$F104="",$G104="",$H104=""),"Check missing input",IF(OR(NOT(ISNUMBER($A104)),NOT(ISNUMBER($D104)),NOT(ISNUMBER($E104)),NOT(ISNUMBER($F104))),"Check invalid input",IF(OR($I104="",$J104="",$K104=""),"Check technician setup",IF(IFERROR(VLOOKUP($B104,Assumptions!$A$15:$E$114,5,FALSE),"")<>"Active","Check technician setup",IF($F104<=0,"Check productive hours",IF($F104>SUM($D104:$E104),"Check productive hours",IF($D104>Assumptions!$B$4,"Check regular hours",IF(SUM($D104:$E104)>Assumptions!$B$5,"Check total hours",IF($P104>Assumptions!$B$6,"Review cost rate",IF($Q104<Assumptions!$B$3,"Review utilization",IF($H104="Draft","Review draft entry","No calculation alert"))))))))))))

Sheet Assumptions
A1: Editable Labor Cost Assumptions
A2: Yellow cells are editable assumptions and lists. Sample names and routes are fictional. Confirm rates and policies appropriate for the business before use.
A3: Productive hours target | B3: 0.7 | H3: Route Choices | I3: Entry Status Choices | J3: Responsibility Choices | K3: Technician Status Choices
A4: Maximum regular hours per entry | B4: 40 | H4: Fictional Route Amber | I4: Draft | J4: Fictional Operations Lead | K4: Active
A5: Maximum total paid hours per entry | B5: 60 | H5: Fictional Route Blue | I5: Reviewed | J5: Fictional Service Manager | K5: Inactive
A6: High loaded cost per productive hour | B6: 55 | H6: Fictional Route Green | I6: Excluded | J6: Fictional Owner Review
A7: Earliest allowed entry date | B7: 46023 | H7: Fictional Route Silver
A8: Latest allowed entry date | B8: 46752 | H8: Fictional Route Violet
A9: Hours entry validation cap | B9: 168
A10: Hourly wage validation cap | B10: 250
A11: Payroll burden validation cap | B11: 0.75
A12: Overtime multiplier validation cap | B12: 3
A14: Technician | B14: Base Hourly Wage | C14: Payroll Burden Rate | D14: Overtime Multiplier | E14: Active Status
A15: Fictional Tech Aster | B15: 24.5 | C15: 0.22 | D15: 1.5 | E15: Active
A16: Fictional Tech Birch | B16: 26 | C16: 0.24 | D16: 1.5 | E16: Active
A17: Fictional Tech Cobalt | B17: 28.75 | C17: 0.25 | D17: 1.5 | E17: Active
A18: Fictional Tech Drift | B18: 23 | C18: 0.2 | D18: 1.5 | E18: Active
A19: Fictional Tech Ember | B19: 30 | C19: 0.27 | D19: 1.5 | E19: Active
A20: Fictional Tech Fable | B20: 25.25 | C20: 0.23 | D20: 1.5 | E20: Active
