Workbook

Sheet Summary
A1: Termite Estimate Summary
A2: Indicators are calculated only from entered estimate rows.
A3: Indicator | B3: Calculated Value
A4: Estimate rows entered | B4: =COUNTIF(Estimates!$B$4:$B$103,"?*")
A5: Inputs complete | B5: =COUNTIF(Estimates!$X$4:$X$103,"Inputs complete")
A6: Rows needing a check | B6: =COUNTIF(Estimates!$X$4:$X$103,"Check*")+COUNTIF(Estimates!$X$4:$X$103,"Review*")
A7: Total estimated amount | B7: =SUM(Estimates!$W$4:$W$103)
A8: Average estimated amount | B8: =IFERROR(AVERAGE(Estimates!$W$4:$W$103),"")
A9: Accepted estimate amount | B9: =SUMIF(Estimates!$J$4:$J$103,"Accepted",Estimates!$W$4:$W$103)
A12: Status | B12: Estimate Count
A13: Draft | B13: =COUNTIF(Estimates!$J$4:$J$103,$A13)
A14: Needs Site Review | B14: =COUNTIF(Estimates!$J$4:$J$103,$A14)
A15: Presented | B15: =COUNTIF(Estimates!$J$4:$J$103,$A15)
A16: Accepted | B16: =COUNTIF(Estimates!$J$4:$J$103,$A16)
A17: Declined | B17: =COUNTIF(Estimates!$J$4:$J$103,$A17)

Sheet Estimates
A1: Termite Treatment Estimate Spreadsheet
A2: Yellow cells are editable. Input alerts request a human review.
A3: Estimate Date | B3: Customer | C3: Service Site | D3: Pest Concern | E3: Service Method | F3: Technician | G3: Product | H3: Route | I3: Responsibility | J3: Status | K3: Length (ft) | L3: Width (ft) | M3: Perimeter (ft) | N3: Area (sq ft) | O3: Labor Hours | P3: Product Quantity | Q3: Product Unit | R3: Travel Miles | S3: Service Amount | T3: Labor Amount | U3: Product Amount | V3: Travel Amount | W3: Estimate Total | X3: Input Review
A4: 46266 | B4: Fictional Customer Alder | C4: Fictional Site A, 101 Placeholder Lane, Exampletown, TX 75000 | D4: Subterranean termite concern | E4: Combined Perimeter and Area | F4: Fictional Technician Avery | G4: Fictional Liquid A | H4: Fictional Route Amber | I4: Company estimating team | J4: Presented | K4: 60 | L4: 40 | M4: =IF(OR($K4="",$L4=""),"",IFERROR(2*($K4+$L4),"")) | N4: =IF(OR($K4="",$L4=""),"",IFERROR($K4*$L4,"")) | O4: 16 | P4: 8.5 | Q4: =IF($G4="","",IFERROR(VLOOKUP($G4,Assumptions!$G$5:$J$9,2,FALSE),"")) | R4: 18 | S4: =IF(OR($E4="",$M4="",$N4=""),"",IFERROR(VLOOKUP($E4,Assumptions!$A$5:$E$9,2,FALSE)+$M4*VLOOKUP($E4,Assumptions!$A$5:$E$9,3,FALSE)+$N4*VLOOKUP($E4,Assumptions!$A$5:$E$9,4,FALSE),"")) | T4: =IF(OR($E4="",$O4=""),"",IFERROR($O4*VLOOKUP($E4,Assumptions!$A$5:$E$9,5,FALSE),"")) | U4: =IF(OR($G4="",$P4=""),"",IFERROR($P4*VLOOKUP($G4,Assumptions!$G$5:$J$9,3,FALSE),"")) | V4: =IF($R4="","",IFERROR($R4*Assumptions!$M$5,"")) | W4: =IF(OR($A4="",$B4="",$C4="",$E4="",$S4=""),"",IFERROR(SUM($S4:$V4),"")) | X4: =IF(COUNTA($A4:$L4,$O4:$P4,$R4)=0,"",IFERROR(IF(OR($A4="",$B4="",$C4="",$D4="",$E4="",$J4=""),"Check required details",IF(OR($K4="",$L4="",$K4<=0,$L4<=0),"Check dimensions",IF(IFERROR(VLOOKUP($E4,Assumptions!$A$5:$E$9,2,FALSE),"")="","Check service assumption",IF(AND($G4<>"",IFERROR(VLOOKUP($G4,Assumptions!$G$5:$J$9,2,FALSE),"")=""),"Check product assumption",IF(AND($G4<>"",OR($P4="",$P4<=0)),"Check product quantity",IF(AND($G4="",$P4<>""),"Check product selection",IF($O4>Assumptions!$M$6,"Review labor hours",IF($R4>Assumptions!$M$7,"Review travel miles",IF(AND($G4<>"",$P4<>"",$P4>IFERROR(VLOOKUP($G4,Assumptions!$G$5:$J$9,4,FALSE),1E+99)),"Review product quantity","Inputs complete"))))))))),"Check numeric entries"))
A5: 46267 | B5: Fictional Customer Birch | C5: Fictional Site B, 202 Imaginary Court, Sampleville, FL 32000 | D5: Termite activity unconfirmed | E5: Perimeter-Based Estimate | F5: Fictional Technician Blake | G5: Fictional Liquid A | H5: Fictional Route Blue | I5: Customer provides access | J5: Accepted | K5: 45 | L5: 30 | M5: =IF(OR($K5="",$L5=""),"",IFERROR(2*($K5+$L5),"")) | N5: =IF(OR($K5="",$L5=""),"",IFERROR($K5*$L5,"")) | O5: 12 | P5: 5 | Q5: =IF($G5="","",IFERROR(VLOOKUP($G5,Assumptions!$G$5:$J$9,2,FALSE),"")) | R5: 24 | S5: =IF(OR($E5="",$M5="",$N5=""),"",IFERROR(VLOOKUP($E5,Assumptions!$A$5:$E$9,2,FALSE)+$M5*VLOOKUP($E5,Assumptions!$A$5:$E$9,3,FALSE)+$N5*VLOOKUP($E5,Assumptions!$A$5:$E$9,4,FALSE),"")) | T5: =IF(OR($E5="",$O5=""),"",IFERROR($O5*VLOOKUP($E5,Assumptions!$A$5:$E$9,5,FALSE),"")) | U5: =IF(OR($G5="",$P5=""),"",IFERROR($P5*VLOOKUP($G5,Assumptions!$G$5:$J$9,3,FALSE),"")) | V5: =IF($R5="","",IFERROR($R5*Assumptions!$M$5,"")) | W5: =IF(OR($A5="",$B5="",$C5="",$E5="",$S5=""),"",IFERROR(SUM($S5:$V5),"")) | X5: =IF(COUNTA($A5:$L5,$O5:$P5,$R5)=0,"",IFERROR(IF(OR($A5="",$B5="",$C5="",$D5="",$E5="",$J5=""),"Check required details",IF(OR($K5="",$L5="",$K5<=0,$L5<=0),"Check dimensions",IF(IFERROR(VLOOKUP($E5,Assumptions!$A$5:$E$9,2,FALSE),"")="","Check service assumption",IF(AND($G5<>"",IFERROR(VLOOKUP($G5,Assumptions!$G$5:$J$9,2,FALSE),"")=""),"Check product assumption",IF(AND($G5<>"",OR($P5="",$P5<=0)),"Check product quantity",IF(AND($G5="",$P5<>""),"Check product selection",IF($O5>Assumptions!$M$6,"Review labor hours",IF($R5>Assumptions!$M$7,"Review travel miles",IF(AND($G5<>"",$P5<>"",$P5>IFERROR(VLOOKUP($G5,Assumptions!$G$5:$J$9,4,FALSE),1E+99)),"Review product quantity","Inputs complete"))))))))),"Check numeric entries"))
A6: 46268 | B6: Fictional Customer Cypress | C6: Fictional Site C, 303 Example Drive, Fiction City, AZ 85000 | D6: Drywood termite concern | E6: Area-Based Estimate | F6: Fictional Technician Casey | G6: Fictional Foam B | H6: Fictional Route Copper | I6: Shared follow-up | J6: Presented | K6: 38 | L6: 28 | M6: =IF(OR($K6="",$L6=""),"",IFERROR(2*($K6+$L6),"")) | N6: =IF(OR($K6="",$L6=""),"",IFERROR($K6*$L6,"")) | O6: 14 | P6: 64 | Q6: =IF($G6="","",IFERROR(VLOOKUP($G6,Assumptions!$G$5:$J$9,2,FALSE),"")) | R6: 12 | S6: =IF(OR($E6="",$M6="",$N6=""),"",IFERROR(VLOOKUP($E6,Assumptions!$A$5:$E$9,2,FALSE)+$M6*VLOOKUP($E6,Assumptions!$A$5:$E$9,3,FALSE)+$N6*VLOOKUP($E6,Assumptions!$A$5:$E$9,4,FALSE),"")) | T6: =IF(OR($E6="",$O6=""),"",IFERROR($O6*VLOOKUP($E6,Assumptions!$A$5:$E$9,5,FALSE),"")) | U6: =IF(OR($G6="",$P6=""),"",IFERROR($P6*VLOOKUP($G6,Assumptions!$G$5:$J$9,3,FALSE),"")) | V6: =IF($R6="","",IFERROR($R6*Assumptions!$M$5,"")) | W6: =IF(OR($A6="",$B6="",$C6="",$E6="",$S6=""),"",IFERROR(SUM($S6:$V6),"")) | X6: =IF(COUNTA($A6:$L6,$O6:$P6,$R6)=0,"",IFERROR(IF(OR($A6="",$B6="",$C6="",$D6="",$E6="",$J6=""),"Check required details",IF(OR($K6="",$L6="",$K6<=0,$L6<=0),"Check dimensions",IF(IFERROR(VLOOKUP($E6,Assumptions!$A$5:$E$9,2,FALSE),"")="","Check service assumption",IF(AND($G6<>"",IFERROR(VLOOKUP($G6,Assumptions!$G$5:$J$9,2,FALSE),"")=""),"Check product assumption",IF(AND($G6<>"",OR($P6="",$P6<=0)),"Check product quantity",IF(AND($G6="",$P6<>""),"Check product selection",IF($O6>Assumptions!$M$6,"Review labor hours",IF($R6>Assumptions!$M$7,"Review travel miles",IF(AND($G6<>"",$P6<>"",$P6>IFERROR(VLOOKUP($G6,Assumptions!$G$5:$J$9,4,FALSE),1E+99)),"Review product quantity","Inputs complete"))))))))),"Check numeric entries"))
A7: 46269 | B7: Fictional Juniper Works LLC | C7: Fictional Site D, 404 Mockingbird Way, Test Harbor, GA 30000 | D7: Wood damage review | E7: Combined Perimeter and Area | F7: Fictional Technician Drew | G7: Fictional Station Part E | H7: Fictional Route Delta | I7: Company estimating team | J7: Accepted | K7: 72 | L7: 46 | M7: =IF(OR($K7="",$L7=""),"",IFERROR(2*($K7+$L7),"")) | N7: =IF(OR($K7="",$L7=""),"",IFERROR($K7*$L7,"")) | O7: 24 | P7: 32 | Q7: =IF($G7="","",IFERROR(VLOOKUP($G7,Assumptions!$G$5:$J$9,2,FALSE),"")) | R7: 36 | S7: =IF(OR($E7="",$M7="",$N7=""),"",IFERROR(VLOOKUP($E7,Assumptions!$A$5:$E$9,2,FALSE)+$M7*VLOOKUP($E7,Assumptions!$A$5:$E$9,3,FALSE)+$N7*VLOOKUP($E7,Assumptions!$A$5:$E$9,4,FALSE),"")) | T7: =IF(OR($E7="",$O7=""),"",IFERROR($O7*VLOOKUP($E7,Assumptions!$A$5:$E$9,5,FALSE),"")) | U7: =IF(OR($G7="",$P7=""),"",IFERROR($P7*VLOOKUP($G7,Assumptions!$G$5:$J$9,3,FALSE),"")) | V7: =IF($R7="","",IFERROR($R7*Assumptions!$M$5,"")) | W7: =IF(OR($A7="",$B7="",$C7="",$E7="",$S7=""),"",IFERROR(SUM($S7:$V7),"")) | X7: =IF(COUNTA($A7:$L7,$O7:$P7,$R7)=0,"",IFERROR(IF(OR($A7="",$B7="",$C7="",$D7="",$E7="",$J7=""),"Check required details",IF(OR($K7="",$L7="",$K7<=0,$L7<=0),"Check dimensions",IF(IFERROR(VLOOKUP($E7,Assumptions!$A$5:$E$9,2,FALSE),"")="","Check service assumption",IF(AND($G7<>"",IFERROR(VLOOKUP($G7,Assumptions!$G$5:$J$9,2,FALSE),"")=""),"Check product assumption",IF(AND($G7<>"",OR($P7="",$P7<=0)),"Check product quantity",IF(AND($G7="",$P7<>""),"Check product selection",IF($O7>Assumptions!$M$6,"Review labor hours",IF($R7>Assumptions!$M$7,"Review travel miles",IF(AND($G7<>"",$P7<>"",$P7>IFERROR(VLOOKUP($G7,Assumptions!$G$5:$J$9,4,FALSE),1E+99)),"Review product quantity","Inputs complete"))))))))),"Check numeric entries"))
A8: 46270 | B8: Fictional Customer Elm | C8: Fictional Site E, 505 Fictional Avenue, Demo Springs, CA 90000 | D8: Termite activity unconfirmed | E8: Custom Inspection Scope | F8: Fictional Technician Avery | H8: Fictional Route Amber | I8: To confirm | J8: Declined | K8: 30 | L8: 24 | M8: =IF(OR($K8="",$L8=""),"",IFERROR(2*($K8+$L8),"")) | N8: =IF(OR($K8="",$L8=""),"",IFERROR($K8*$L8,"")) | O8: 3.5 | Q8: =IF($G8="","",IFERROR(VLOOKUP($G8,Assumptions!$G$5:$J$9,2,FALSE),"")) | R8: 10 | S8: =IF(OR($E8="",$M8="",$N8=""),"",IFERROR(VLOOKUP($E8,Assumptions!$A$5:$E$9,2,FALSE)+$M8*VLOOKUP($E8,Assumptions!$A$5:$E$9,3,FALSE)+$N8*VLOOKUP($E8,Assumptions!$A$5:$E$9,4,FALSE),"")) | T8: =IF(OR($E8="",$O8=""),"",IFERROR($O8*VLOOKUP($E8,Assumptions!$A$5:$E$9,5,FALSE),"")) | U8: =IF(OR($G8="",$P8=""),"",IFERROR($P8*VLOOKUP($G8,Assumptions!$G$5:$J$9,3,FALSE),"")) | V8: =IF($R8="","",IFERROR($R8*Assumptions!$M$5,"")) | W8: =IF(OR($A8="",$B8="",$C8="",$E8="",$S8=""),"",IFERROR(SUM($S8:$V8),"")) | X8: =IF(COUNTA($A8:$L8,$O8:$P8,$R8)=0,"",IFERROR(IF(OR($A8="",$B8="",$C8="",$D8="",$E8="",$J8=""),"Check required details",IF(OR($K8="",$L8="",$K8<=0,$L8<=0),"Check dimensions",IF(IFERROR(VLOOKUP($E8,Assumptions!$A$5:$E$9,2,FALSE),"")="","Check service assumption",IF(AND($G8<>"",IFERROR(VLOOKUP($G8,Assumptions!$G$5:$J$9,2,FALSE),"")=""),"Check product assumption",IF(AND($G8<>"",OR($P8="",$P8<=0)),"Check product quantity",IF(AND($G8="",$P8<>""),"Check product selection",IF($O8>Assumptions!$M$6,"Review labor hours",IF($R8>Assumptions!$M$7,"Review travel miles",IF(AND($G8<>"",$P8<>"",$P8>IFERROR(VLOOKUP($G8,Assumptions!$G$5:$J$9,4,FALSE),1E+99)),"Review product quantity","Inputs complete"))))))))),"Check numeric entries"))
A9: 46023 | B9: Fictional Customer Fir | C9: Fictional Site F, 606 Placeholder Road, Modeltown, NV 89000 | D9: Subterranean termite concern | E9: Localized Scope Estimate | F9: Fictional Technician Blake | G9: Fictional Dust C | H9: Fictional Route Blue | I9: Customer provides access | J9: Needs Site Review | K9: 36 | L9: 22 | M9: =IF(OR($K9="",$L9=""),"",IFERROR(2*($K9+$L9),"")) | N9: =IF(OR($K9="",$L9=""),"",IFERROR($K9*$L9,"")) | O9: 40 | P9: 30 | Q9: =IF($G9="","",IFERROR(VLOOKUP($G9,Assumptions!$G$5:$J$9,2,FALSE),"")) | R9: 200 | S9: =IF(OR($E9="",$M9="",$N9=""),"",IFERROR(VLOOKUP($E9,Assumptions!$A$5:$E$9,2,FALSE)+$M9*VLOOKUP($E9,Assumptions!$A$5:$E$9,3,FALSE)+$N9*VLOOKUP($E9,Assumptions!$A$5:$E$9,4,FALSE),"")) | T9: =IF(OR($E9="",$O9=""),"",IFERROR($O9*VLOOKUP($E9,Assumptions!$A$5:$E$9,5,FALSE),"")) | U9: =IF(OR($G9="",$P9=""),"",IFERROR($P9*VLOOKUP($G9,Assumptions!$G$5:$J$9,3,FALSE),"")) | V9: =IF($R9="","",IFERROR($R9*Assumptions!$M$5,"")) | W9: =IF(OR($A9="",$B9="",$C9="",$E9="",$S9=""),"",IFERROR(SUM($S9:$V9),"")) | X9: =IF(COUNTA($A9:$L9,$O9:$P9,$R9)=0,"",IFERROR(IF(OR($A9="",$B9="",$C9="",$D9="",$E9="",$J9=""),"Check required details",IF(OR($K9="",$L9="",$K9<=0,$L9<=0),"Check dimensions",IF(IFERROR(VLOOKUP($E9,Assumptions!$A$5:$E$9,2,FALSE),"")="","Check service assumption",IF(AND($G9<>"",IFERROR(VLOOKUP($G9,Assumptions!$G$5:$J$9,2,FALSE),"")=""),"Check product assumption",IF(AND($G9<>"",OR($P9="",$P9<=0)),"Check product quantity",IF(AND($G9="",$P9<>""),"Check product selection",IF($O9>Assumptions!$M$6,"Review labor hours",IF($R9>Assumptions!$M$7,"Review travel miles",IF(AND($G9<>"",$P9<>"",$P9>IFERROR(VLOOKUP($G9,Assumptions!$G$5:$J$9,4,FALSE),1E+99)),"Review product quantity","Inputs complete"))))))))),"Check numeric entries"))
A10: 46272 | B10: Fictional Customer Grove | C10: Fictional Site G, 707 Imaginary Street, Prototype, NC 27000 | D10: Drywood termite concern | E10: Area-Based Estimate | F10: Fictional Technician Casey | G10: Fictional Foam B | H10: Fictional Route Copper | I10: Shared follow-up | J10: Draft | K10: 52 | L10: 35 | M10: =IF(OR($K10="",$L10=""),"",IFERROR(2*($K10+$L10),"")) | N10: =IF(OR($K10="",$L10=""),"",IFERROR($K10*$L10,"")) | O10: 18 | P10: 175 | Q10: =IF($G10="","",IFERROR(VLOOKUP($G10,Assumptions!$G$5:$J$9,2,FALSE),"")) | R10: 28 | S10: =IF(OR($E10="",$M10="",$N10=""),"",IFERROR(VLOOKUP($E10,Assumptions!$A$5:$E$9,2,FALSE)+$M10*VLOOKUP($E10,Assumptions!$A$5:$E$9,3,FALSE)+$N10*VLOOKUP($E10,Assumptions!$A$5:$E$9,4,FALSE),"")) | T10: =IF(OR($E10="",$O10=""),"",IFERROR($O10*VLOOKUP($E10,Assumptions!$A$5:$E$9,5,FALSE),"")) | U10: =IF(OR($G10="",$P10=""),"",IFERROR($P10*VLOOKUP($G10,Assumptions!$G$5:$J$9,3,FALSE),"")) | V10: =IF($R10="","",IFERROR($R10*Assumptions!$M$5,"")) | W10: =IF(OR($A10="",$B10="",$C10="",$E10="",$S10=""),"",IFERROR(SUM($S10:$V10),"")) | X10: =IF(COUNTA($A10:$L10,$O10:$P10,$R10)=0,"",IFERROR(IF(OR($A10="",$B10="",$C10="",$D10="",$E10="",$J10=""),"Check required details",IF(OR($K10="",$L10="",$K10<=0,$L10<=0),"Check dimensions",IF(IFERROR(VLOOKUP($E10,Assumptions!$A$5:$E$9,2,FALSE),"")="","Check service assumption",IF(AND($G10<>"",IFERROR(VLOOKUP($G10,Assumptions!$G$5:$J$9,2,FALSE),"")=""),"Check product assumption",IF(AND($G10<>"",OR($P10="",$P10<=0)),"Check product quantity",IF(AND($G10="",$P10<>""),"Check product selection",IF($O10>Assumptions!$M$6,"Review labor hours",IF($R10>Assumptions!$M$7,"Review travel miles",IF(AND($G10<>"",$P10<>"",$P10>IFERROR(VLOOKUP($G10,Assumptions!$G$5:$J$9,4,FALSE),1E+99)),"Review product quantity","Inputs complete"))))))))),"Check numeric entries"))
A11: 46273 | B11: Fictional Customer Hazel | C11: Fictional Site H, 808 Sample Circle, Example Bay, SC 29000 | D11: Subterranean termite concern | E11: Perimeter-Based Estimate | F11: Fictional Technician Drew | G11: Fictional Liquid A | H11: Fictional Route Delta | I11: Company estimating team | J11: Presented | K11: 50 | L11: 34 | M11: =IF(OR($K11="",$L11=""),"",IFERROR(2*($K11+$L11),"")) | N11: =IF(OR($K11="",$L11=""),"",IFERROR($K11*$L11,"")) | O11: 15 | P11: 7 | Q11: =IF($G11="","",IFERROR(VLOOKUP($G11,Assumptions!$G$5:$J$9,2,FALSE),"")) | R11: 201 | S11: =IF(OR($E11="",$M11="",$N11=""),"",IFERROR(VLOOKUP($E11,Assumptions!$A$5:$E$9,2,FALSE)+$M11*VLOOKUP($E11,Assumptions!$A$5:$E$9,3,FALSE)+$N11*VLOOKUP($E11,Assumptions!$A$5:$E$9,4,FALSE),"")) | T11: =IF(OR($E11="",$O11=""),"",IFERROR($O11*VLOOKUP($E11,Assumptions!$A$5:$E$9,5,FALSE),"")) | U11: =IF(OR($G11="",$P11=""),"",IFERROR($P11*VLOOKUP($G11,Assumptions!$G$5:$J$9,3,FALSE),"")) | V11: =IF($R11="","",IFERROR($R11*Assumptions!$M$5,"")) | W11: =IF(OR($A11="",$B11="",$C11="",$E11="",$S11=""),"",IFERROR(SUM($S11:$V11),"")) | X11: =IF(COUNTA($A11:$L11,$O11:$P11,$R11)=0,"",IFERROR(IF(OR($A11="",$B11="",$C11="",$D11="",$E11="",$J11=""),"Check required details",IF(OR($K11="",$L11="",$K11<=0,$L11<=0),"Check dimensions",IF(IFERROR(VLOOKUP($E11,Assumptions!$A$5:$E$9,2,FALSE),"")="","Check service assumption",IF(AND($G11<>"",IFERROR(VLOOKUP($G11,Assumptions!$G$5:$J$9,2,FALSE),"")=""),"Check product assumption",IF(AND($G11<>"",OR($P11="",$P11<=0)),"Check product quantity",IF(AND($G11="",$P11<>""),"Check product selection",IF($O11>Assumptions!$M$6,"Review labor hours",IF($R11>Assumptions!$M$7,"Review travel miles",IF(AND($G11<>"",$P11<>"",$P11>IFERROR(VLOOKUP($G11,Assumptions!$G$5:$J$9,4,FALSE),1E+99)),"Review product quantity","Inputs complete"))))))))),"Check numeric entries"))
A12: 46274 | B12: Fictional Customer Ivy | C12: Fictional Site I, 909 Demonstration Trail, Fiction Point, OK 73000 | D12: Wood damage review | E12: Localized Scope Estimate | F12: Fictional Technician Avery | G12: Fictional Wood Blend D | H12: Fictional Route Amber | I12: Customer provides access | J12: Needs Site Review | K12: 42 | L12: 31 | M12: =IF(OR($K12="",$L12=""),"",IFERROR(2*($K12+$L12),"")) | N12: =IF(OR($K12="",$L12=""),"",IFERROR($K12*$L12,"")) | O12: 41 | P12: 20 | Q12: =IF($G12="","",IFERROR(VLOOKUP($G12,Assumptions!$G$5:$J$9,2,FALSE),"")) | R12: 42 | S12: =IF(OR($E12="",$M12="",$N12=""),"",IFERROR(VLOOKUP($E12,Assumptions!$A$5:$E$9,2,FALSE)+$M12*VLOOKUP($E12,Assumptions!$A$5:$E$9,3,FALSE)+$N12*VLOOKUP($E12,Assumptions!$A$5:$E$9,4,FALSE),"")) | T12: =IF(OR($E12="",$O12=""),"",IFERROR($O12*VLOOKUP($E12,Assumptions!$A$5:$E$9,5,FALSE),"")) | U12: =IF(OR($G12="",$P12=""),"",IFERROR($P12*VLOOKUP($G12,Assumptions!$G$5:$J$9,3,FALSE),"")) | V12: =IF($R12="","",IFERROR($R12*Assumptions!$M$5,"")) | W12: =IF(OR($A12="",$B12="",$C12="",$E12="",$S12=""),"",IFERROR(SUM($S12:$V12),"")) | X12: =IF(COUNTA($A12:$L12,$O12:$P12,$R12)=0,"",IFERROR(IF(OR($A12="",$B12="",$C12="",$D12="",$E12="",$J12=""),"Check required details",IF(OR($K12="",$L12="",$K12<=0,$L12<=0),"Check dimensions",IF(IFERROR(VLOOKUP($E12,Assumptions!$A$5:$E$9,2,FALSE),"")="","Check service assumption",IF(AND($G12<>"",IFERROR(VLOOKUP($G12,Assumptions!$G$5:$J$9,2,FALSE),"")=""),"Check product assumption",IF(AND($G12<>"",OR($P12="",$P12<=0)),"Check product quantity",IF(AND($G12="",$P12<>""),"Check product selection",IF($O12>Assumptions!$M$6,"Review labor hours",IF($R12>Assumptions!$M$7,"Review travel miles",IF(AND($G12<>"",$P12<>"",$P12>IFERROR(VLOOKUP($G12,Assumptions!$G$5:$J$9,4,FALSE),1E+99)),"Review product quantity","Inputs complete"))))))))),"Check numeric entries"))
A13: 46752 | B13: Fictional Customer Laurel | C13: Fictional Site J, 1001 Mock Lane, Sample Junction, NM 87000 | D13: Termite activity unconfirmed | E13: Combined Perimeter and Area | F13: Fictional Technician Blake | G13: Fictional Liquid A | H13: Fictional Route Blue | I13: To confirm | J13: Draft | K13: 55 | L13: 37 | M13: =IF(OR($K13="",$L13=""),"",IFERROR(2*($K13+$L13),"")) | N13: =IF(OR($K13="",$L13=""),"",IFERROR($K13*$L13,"")) | O13: 17 | Q13: =IF($G13="","",IFERROR(VLOOKUP($G13,Assumptions!$G$5:$J$9,2,FALSE),"")) | R13: 20 | S13: =IF(OR($E13="",$M13="",$N13=""),"",IFERROR(VLOOKUP($E13,Assumptions!$A$5:$E$9,2,FALSE)+$M13*VLOOKUP($E13,Assumptions!$A$5:$E$9,3,FALSE)+$N13*VLOOKUP($E13,Assumptions!$A$5:$E$9,4,FALSE),"")) | T13: =IF(OR($E13="",$O13=""),"",IFERROR($O13*VLOOKUP($E13,Assumptions!$A$5:$E$9,5,FALSE),"")) | U13: =IF(OR($G13="",$P13=""),"",IFERROR($P13*VLOOKUP($G13,Assumptions!$G$5:$J$9,3,FALSE),"")) | V13: =IF($R13="","",IFERROR($R13*Assumptions!$M$5,"")) | W13: =IF(OR($A13="",$B13="",$C13="",$E13="",$S13=""),"",IFERROR(SUM($S13:$V13),"")) | X13: =IF(COUNTA($A13:$L13,$O13:$P13,$R13)=0,"",IFERROR(IF(OR($A13="",$B13="",$C13="",$D13="",$E13="",$J13=""),"Check required details",IF(OR($K13="",$L13="",$K13<=0,$L13<=0),"Check dimensions",IF(IFERROR(VLOOKUP($E13,Assumptions!$A$5:$E$9,2,FALSE),"")="","Check service assumption",IF(AND($G13<>"",IFERROR(VLOOKUP($G13,Assumptions!$G$5:$J$9,2,FALSE),"")=""),"Check product assumption",IF(AND($G13<>"",OR($P13="",$P13<=0)),"Check product quantity",IF(AND($G13="",$P13<>""),"Check product selection",IF($O13>Assumptions!$M$6,"Review labor hours",IF($R13>Assumptions!$M$7,"Review travel miles",IF(AND($G13<>"",$P13<>"",$P13>IFERROR(VLOOKUP($G13,Assumptions!$G$5:$J$9,4,FALSE),1E+99)),"Review product quantity","Inputs complete"))))))))),"Check numeric entries"))
M14: =IF(OR($K14="",$L14=""),"",IFERROR(2*($K14+$L14),"")) | N14: =IF(OR($K14="",$L14=""),"",IFERROR($K14*$L14,"")) | Q14: =IF($G14="","",IFERROR(VLOOKUP($G14,Assumptions!$G$5:$J$9,2,FALSE),"")) | S14: =IF(OR($E14="",$M14="",$N14=""),"",IFERROR(VLOOKUP($E14,Assumptions!$A$5:$E$9,2,FALSE)+$M14*VLOOKUP($E14,Assumptions!$A$5:$E$9,3,FALSE)+$N14*VLOOKUP($E14,Assumptions!$A$5:$E$9,4,FALSE),"")) | T14: =IF(OR($E14="",$O14=""),"",IFERROR($O14*VLOOKUP($E14,Assumptions!$A$5:$E$9,5,FALSE),"")) | U14: =IF(OR($G14="",$P14=""),"",IFERROR($P14*VLOOKUP($G14,Assumptions!$G$5:$J$9,3,FALSE),"")) | V14: =IF($R14="","",IFERROR($R14*Assumptions!$M$5,"")) | W14: =IF(OR($A14="",$B14="",$C14="",$E14="",$S14=""),"",IFERROR(SUM($S14:$V14),"")) | X14: =IF(COUNTA($A14:$L14,$O14:$P14,$R14)=0,"",IFERROR(IF(OR($A14="",$B14="",$C14="",$D14="",$E14="",$J14=""),"Check required details",IF(OR($K14="",$L14="",$K14<=0,$L14<=0),"Check dimensions",IF(IFERROR(VLOOKUP($E14,Assumptions!$A$5:$E$9,2,FALSE),"")="","Check service assumption",IF(AND($G14<>"",IFERROR(VLOOKUP($G14,Assumptions!$G$5:$J$9,2,FALSE),"")=""),"Check product assumption",IF(AND($G14<>"",OR($P14="",$P14<=0)),"Check product quantity",IF(AND($G14="",$P14<>""),"Check product selection",IF($O14>Assumptions!$M$6,"Review labor hours",IF($R14>Assumptions!$M$7,"Review travel miles",IF(AND($G14<>"",$P14<>"",$P14>IFERROR(VLOOKUP($G14,Assumptions!$G$5:$J$9,4,FALSE),1E+99)),"Review product quantity","Inputs complete"))))))))),"Check numeric entries"))
M15: =IF(OR($K15="",$L15=""),"",IFERROR(2*($K15+$L15),"")) | N15: =IF(OR($K15="",$L15=""),"",IFERROR($K15*$L15,"")) | Q15: =IF($G15="","",IFERROR(VLOOKUP($G15,Assumptions!$G$5:$J$9,2,FALSE),"")) | S15: =IF(OR($E15="",$M15="",$N15=""),"",IFERROR(VLOOKUP($E15,Assumptions!$A$5:$E$9,2,FALSE)+$M15*VLOOKUP($E15,Assumptions!$A$5:$E$9,3,FALSE)+$N15*VLOOKUP($E15,Assumptions!$A$5:$E$9,4,FALSE),"")) | T15: =IF(OR($E15="",$O15=""),"",IFERROR($O15*VLOOKUP($E15,Assumptions!$A$5:$E$9,5,FALSE),"")) | U15: =IF(OR($G15="",$P15=""),"",IFERROR($P15*VLOOKUP($G15,Assumptions!$G$5:$J$9,3,FALSE),"")) | V15: =IF($R15="","",IFERROR($R15*Assumptions!$M$5,"")) | W15: =IF(OR($A15="",$B15="",$C15="",$E15="",$S15=""),"",IFERROR(SUM($S15:$V15),"")) | X15: =IF(COUNTA($A15:$L15,$O15:$P15,$R15)=0,"",IFERROR(IF(OR($A15="",$B15="",$C15="",$D15="",$E15="",$J15=""),"Check required details",IF(OR($K15="",$L15="",$K15<=0,$L15<=0),"Check dimensions",IF(IFERROR(VLOOKUP($E15,Assumptions!$A$5:$E$9,2,FALSE),"")="","Check service assumption",IF(AND($G15<>"",IFERROR(VLOOKUP($G15,Assumptions!$G$5:$J$9,2,FALSE),"")=""),"Check product assumption",IF(AND($G15<>"",OR($P15="",$P15<=0)),"Check product quantity",IF(AND($G15="",$P15<>""),"Check product selection",IF($O15>Assumptions!$M$6,"Review labor hours",IF($R15>Assumptions!$M$7,"Review travel miles",IF(AND($G15<>"",$P15<>"",$P15>IFERROR(VLOOKUP($G15,Assumptions!$G$5:$J$9,4,FALSE),1E+99)),"Review product quantity","Inputs complete"))))))))),"Check numeric entries"))
M16: =IF(OR($K16="",$L16=""),"",IFERROR(2*($K16+$L16),"")) | N16: =IF(OR($K16="",$L16=""),"",IFERROR($K16*$L16,"")) | Q16: =IF($G16="","",IFERROR(VLOOKUP($G16,Assumptions!$G$5:$J$9,2,FALSE),"")) | S16: =IF(OR($E16="",$M16="",$N16=""),"",IFERROR(VLOOKUP($E16,Assumptions!$A$5:$E$9,2,FALSE)+$M16*VLOOKUP($E16,Assumptions!$A$5:$E$9,3,FALSE)+$N16*VLOOKUP($E16,Assumptions!$A$5:$E$9,4,FALSE),"")) | T16: =IF(OR($E16="",$O16=""),"",IFERROR($O16*VLOOKUP($E16,Assumptions!$A$5:$E$9,5,FALSE),"")) | U16: =IF(OR($G16="",$P16=""),"",IFERROR($P16*VLOOKUP($G16,Assumptions!$G$5:$J$9,3,FALSE),"")) | V16: =IF($R16="","",IFERROR($R16*Assumptions!$M$5,"")) | W16: =IF(OR($A16="",$B16="",$C16="",$E16="",$S16=""),"",IFERROR(SUM($S16:$V16),"")) | X16: =IF(COUNTA($A16:$L16,$O16:$P16,$R16)=0,"",IFERROR(IF(OR($A16="",$B16="",$C16="",$D16="",$E16="",$J16=""),"Check required details",IF(OR($K16="",$L16="",$K16<=0,$L16<=0),"Check dimensions",IF(IFERROR(VLOOKUP($E16,Assumptions!$A$5:$E$9,2,FALSE),"")="","Check service assumption",IF(AND($G16<>"",IFERROR(VLOOKUP($G16,Assumptions!$G$5:$J$9,2,FALSE),"")=""),"Check product assumption",IF(AND($G16<>"",OR($P16="",$P16<=0)),"Check product quantity",IF(AND($G16="",$P16<>""),"Check product selection",IF($O16>Assumptions!$M$6,"Review labor hours",IF($R16>Assumptions!$M$7,"Review travel miles",IF(AND($G16<>"",$P16<>"",$P16>IFERROR(VLOOKUP($G16,Assumptions!$G$5:$J$9,4,FALSE),1E+99)),"Review product quantity","Inputs complete"))))))))),"Check numeric entries"))
M17: =IF(OR($K17="",$L17=""),"",IFERROR(2*($K17+$L17),"")) | N17: =IF(OR($K17="",$L17=""),"",IFERROR($K17*$L17,"")) | Q17: =IF($G17="","",IFERROR(VLOOKUP($G17,Assumptions!$G$5:$J$9,2,FALSE),"")) | S17: =IF(OR($E17="",$M17="",$N17=""),"",IFERROR(VLOOKUP($E17,Assumptions!$A$5:$E$9,2,FALSE)+$M17*VLOOKUP($E17,Assumptions!$A$5:$E$9,3,FALSE)+$N17*VLOOKUP($E17,Assumptions!$A$5:$E$9,4,FALSE),"")) | T17: =IF(OR($E17="",$O17=""),"",IFERROR($O17*VLOOKUP($E17,Assumptions!$A$5:$E$9,5,FALSE),"")) | U17: =IF(OR($G17="",$P17=""),"",IFERROR($P17*VLOOKUP($G17,Assumptions!$G$5:$J$9,3,FALSE),"")) | V17: =IF($R17="","",IFERROR($R17*Assumptions!$M$5,"")) | W17: =IF(OR($A17="",$B17="",$C17="",$E17="",$S17=""),"",IFERROR(SUM($S17:$V17),"")) | X17: =IF(COUNTA($A17:$L17,$O17:$P17,$R17)=0,"",IFERROR(IF(OR($A17="",$B17="",$C17="",$D17="",$E17="",$J17=""),"Check required details",IF(OR($K17="",$L17="",$K17<=0,$L17<=0),"Check dimensions",IF(IFERROR(VLOOKUP($E17,Assumptions!$A$5:$E$9,2,FALSE),"")="","Check service assumption",IF(AND($G17<>"",IFERROR(VLOOKUP($G17,Assumptions!$G$5:$J$9,2,FALSE),"")=""),"Check product assumption",IF(AND($G17<>"",OR($P17="",$P17<=0)),"Check product quantity",IF(AND($G17="",$P17<>""),"Check product selection",IF($O17>Assumptions!$M$6,"Review labor hours",IF($R17>Assumptions!$M$7,"Review travel miles",IF(AND($G17<>"",$P17<>"",$P17>IFERROR(VLOOKUP($G17,Assumptions!$G$5:$J$9,4,FALSE),1E+99)),"Review product quantity","Inputs complete"))))))))),"Check numeric entries"))
M18: =IF(OR($K18="",$L18=""),"",IFERROR(2*($K18+$L18),"")) | N18: =IF(OR($K18="",$L18=""),"",IFERROR($K18*$L18,"")) | Q18: =IF($G18="","",IFERROR(VLOOKUP($G18,Assumptions!$G$5:$J$9,2,FALSE),"")) | S18: =IF(OR($E18="",$M18="",$N18=""),"",IFERROR(VLOOKUP($E18,Assumptions!$A$5:$E$9,2,FALSE)+$M18*VLOOKUP($E18,Assumptions!$A$5:$E$9,3,FALSE)+$N18*VLOOKUP($E18,Assumptions!$A$5:$E$9,4,FALSE),"")) | T18: =IF(OR($E18="",$O18=""),"",IFERROR($O18*VLOOKUP($E18,Assumptions!$A$5:$E$9,5,FALSE),"")) | U18: =IF(OR($G18="",$P18=""),"",IFERROR($P18*VLOOKUP($G18,Assumptions!$G$5:$J$9,3,FALSE),"")) | V18: =IF($R18="","",IFERROR($R18*Assumptions!$M$5,"")) | W18: =IF(OR($A18="",$B18="",$C18="",$E18="",$S18=""),"",IFERROR(SUM($S18:$V18),"")) | X18: =IF(COUNTA($A18:$L18,$O18:$P18,$R18)=0,"",IFERROR(IF(OR($A18="",$B18="",$C18="",$D18="",$E18="",$J18=""),"Check required details",IF(OR($K18="",$L18="",$K18<=0,$L18<=0),"Check dimensions",IF(IFERROR(VLOOKUP($E18,Assumptions!$A$5:$E$9,2,FALSE),"")="","Check service assumption",IF(AND($G18<>"",IFERROR(VLOOKUP($G18,Assumptions!$G$5:$J$9,2,FALSE),"")=""),"Check product assumption",IF(AND($G18<>"",OR($P18="",$P18<=0)),"Check product quantity",IF(AND($G18="",$P18<>""),"Check product selection",IF($O18>Assumptions!$M$6,"Review labor hours",IF($R18>Assumptions!$M$7,"Review travel miles",IF(AND($G18<>"",$P18<>"",$P18>IFERROR(VLOOKUP($G18,Assumptions!$G$5:$J$9,4,FALSE),1E+99)),"Review product quantity","Inputs complete"))))))))),"Check numeric entries"))
M19: =IF(OR($K19="",$L19=""),"",IFERROR(2*($K19+$L19),"")) | N19: =IF(OR($K19="",$L19=""),"",IFERROR($K19*$L19,"")) | Q19: =IF($G19="","",IFERROR(VLOOKUP($G19,Assumptions!$G$5:$J$9,2,FALSE),"")) | S19: =IF(OR($E19="",$M19="",$N19=""),"",IFERROR(VLOOKUP($E19,Assumptions!$A$5:$E$9,2,FALSE)+$M19*VLOOKUP($E19,Assumptions!$A$5:$E$9,3,FALSE)+$N19*VLOOKUP($E19,Assumptions!$A$5:$E$9,4,FALSE),"")) | T19: =IF(OR($E19="",$O19=""),"",IFERROR($O19*VLOOKUP($E19,Assumptions!$A$5:$E$9,5,FALSE),"")) | U19: =IF(OR($G19="",$P19=""),"",IFERROR($P19*VLOOKUP($G19,Assumptions!$G$5:$J$9,3,FALSE),"")) | V19: =IF($R19="","",IFERROR($R19*Assumptions!$M$5,"")) | W19: =IF(OR($A19="",$B19="",$C19="",$E19="",$S19=""),"",IFERROR(SUM($S19:$V19),"")) | X19: =IF(COUNTA($A19:$L19,$O19:$P19,$R19)=0,"",IFERROR(IF(OR($A19="",$B19="",$C19="",$D19="",$E19="",$J19=""),"Check required details",IF(OR($K19="",$L19="",$K19<=0,$L19<=0),"Check dimensions",IF(IFERROR(VLOOKUP($E19,Assumptions!$A$5:$E$9,2,FALSE),"")="","Check service assumption",IF(AND($G19<>"",IFERROR(VLOOKUP($G19,Assumptions!$G$5:$J$9,2,FALSE),"")=""),"Check product assumption",IF(AND($G19<>"",OR($P19="",$P19<=0)),"Check product quantity",IF(AND($G19="",$P19<>""),"Check product selection",IF($O19>Assumptions!$M$6,"Review labor hours",IF($R19>Assumptions!$M$7,"Review travel miles",IF(AND($G19<>"",$P19<>"",$P19>IFERROR(VLOOKUP($G19,Assumptions!$G$5:$J$9,4,FALSE),1E+99)),"Review product quantity","Inputs complete"))))))))),"Check numeric entries"))
M20: =IF(OR($K20="",$L20=""),"",IFERROR(2*($K20+$L20),"")) | N20: =IF(OR($K20="",$L20=""),"",IFERROR($K20*$L20,"")) | Q20: =IF($G20="","",IFERROR(VLOOKUP($G20,Assumptions!$G$5:$J$9,2,FALSE),"")) | S20: =IF(OR($E20="",$M20="",$N20=""),"",IFERROR(VLOOKUP($E20,Assumptions!$A$5:$E$9,2,FALSE)+$M20*VLOOKUP($E20,Assumptions!$A$5:$E$9,3,FALSE)+$N20*VLOOKUP($E20,Assumptions!$A$5:$E$9,4,FALSE),"")) | T20: =IF(OR($E20="",$O20=""),"",IFERROR($O20*VLOOKUP($E20,Assumptions!$A$5:$E$9,5,FALSE),"")) | U20: =IF(OR($G20="",$P20=""),"",IFERROR($P20*VLOOKUP($G20,Assumptions!$G$5:$J$9,3,FALSE),"")) | V20: =IF($R20="","",IFERROR($R20*Assumptions!$M$5,"")) | W20: =IF(OR($A20="",$B20="",$C20="",$E20="",$S20=""),"",IFERROR(SUM($S20:$V20),"")) | X20: =IF(COUNTA($A20:$L20,$O20:$P20,$R20)=0,"",IFERROR(IF(OR($A20="",$B20="",$C20="",$D20="",$E20="",$J20=""),"Check required details",IF(OR($K20="",$L20="",$K20<=0,$L20<=0),"Check dimensions",IF(IFERROR(VLOOKUP($E20,Assumptions!$A$5:$E$9,2,FALSE),"")="","Check service assumption",IF(AND($G20<>"",IFERROR(VLOOKUP($G20,Assumptions!$G$5:$J$9,2,FALSE),"")=""),"Check product assumption",IF(AND($G20<>"",OR($P20="",$P20<=0)),"Check product quantity",IF(AND($G20="",$P20<>""),"Check product selection",IF($O20>Assumptions!$M$6,"Review labor hours",IF($R20>Assumptions!$M$7,"Review travel miles",IF(AND($G20<>"",$P20<>"",$P20>IFERROR(VLOOKUP($G20,Assumptions!$G$5:$J$9,4,FALSE),1E+99)),"Review product quantity","Inputs complete"))))))))),"Check numeric entries"))
M21: =IF(OR($K21="",$L21=""),"",IFERROR(2*($K21+$L21),"")) | N21: =IF(OR($K21="",$L21=""),"",IFERROR($K21*$L21,"")) | Q21: =IF($G21="","",IFERROR(VLOOKUP($G21,Assumptions!$G$5:$J$9,2,FALSE),"")) | S21: =IF(OR($E21="",$M21="",$N21=""),"",IFERROR(VLOOKUP($E21,Assumptions!$A$5:$E$9,2,FALSE)+$M21*VLOOKUP($E21,Assumptions!$A$5:$E$9,3,FALSE)+$N21*VLOOKUP($E21,Assumptions!$A$5:$E$9,4,FALSE),"")) | T21: =IF(OR($E21="",$O21=""),"",IFERROR($O21*VLOOKUP($E21,Assumptions!$A$5:$E$9,5,FALSE),"")) | U21: =IF(OR($G21="",$P21=""),"",IFERROR($P21*VLOOKUP($G21,Assumptions!$G$5:$J$9,3,FALSE),"")) | V21: =IF($R21="","",IFERROR($R21*Assumptions!$M$5,"")) | W21: =IF(OR($A21="",$B21="",$C21="",$E21="",$S21=""),"",IFERROR(SUM($S21:$V21),"")) | X21: =IF(COUNTA($A21:$L21,$O21:$P21,$R21)=0,"",IFERROR(IF(OR($A21="",$B21="",$C21="",$D21="",$E21="",$J21=""),"Check required details",IF(OR($K21="",$L21="",$K21<=0,$L21<=0),"Check dimensions",IF(IFERROR(VLOOKUP($E21,Assumptions!$A$5:$E$9,2,FALSE),"")="","Check service assumption",IF(AND($G21<>"",IFERROR(VLOOKUP($G21,Assumptions!$G$5:$J$9,2,FALSE),"")=""),"Check product assumption",IF(AND($G21<>"",OR($P21="",$P21<=0)),"Check product quantity",IF(AND($G21="",$P21<>""),"Check product selection",IF($O21>Assumptions!$M$6,"Review labor hours",IF($R21>Assumptions!$M$7,"Review travel miles",IF(AND($G21<>"",$P21<>"",$P21>IFERROR(VLOOKUP($G21,Assumptions!$G$5:$J$9,4,FALSE),1E+99)),"Review product quantity","Inputs complete"))))))))),"Check numeric entries"))
M22: =IF(OR($K22="",$L22=""),"",IFERROR(2*($K22+$L22),"")) | N22: =IF(OR($K22="",$L22=""),"",IFERROR($K22*$L22,"")) | Q22: =IF($G22="","",IFERROR(VLOOKUP($G22,Assumptions!$G$5:$J$9,2,FALSE),"")) | S22: =IF(OR($E22="",$M22="",$N22=""),"",IFERROR(VLOOKUP($E22,Assumptions!$A$5:$E$9,2,FALSE)+$M22*VLOOKUP($E22,Assumptions!$A$5:$E$9,3,FALSE)+$N22*VLOOKUP($E22,Assumptions!$A$5:$E$9,4,FALSE),"")) | T22: =IF(OR($E22="",$O22=""),"",IFERROR($O22*VLOOKUP($E22,Assumptions!$A$5:$E$9,5,FALSE),"")) | U22: =IF(OR($G22="",$P22=""),"",IFERROR($P22*VLOOKUP($G22,Assumptions!$G$5:$J$9,3,FALSE),"")) | V22: =IF($R22="","",IFERROR($R22*Assumptions!$M$5,"")) | W22: =IF(OR($A22="",$B22="",$C22="",$E22="",$S22=""),"",IFERROR(SUM($S22:$V22),"")) | X22: =IF(COUNTA($A22:$L22,$O22:$P22,$R22)=0,"",IFERROR(IF(OR($A22="",$B22="",$C22="",$D22="",$E22="",$J22=""),"Check required details",IF(OR($K22="",$L22="",$K22<=0,$L22<=0),"Check dimensions",IF(IFERROR(VLOOKUP($E22,Assumptions!$A$5:$E$9,2,FALSE),"")="","Check service assumption",IF(AND($G22<>"",IFERROR(VLOOKUP($G22,Assumptions!$G$5:$J$9,2,FALSE),"")=""),"Check product assumption",IF(AND($G22<>"",OR($P22="",$P22<=0)),"Check product quantity",IF(AND($G22="",$P22<>""),"Check product selection",IF($O22>Assumptions!$M$6,"Review labor hours",IF($R22>Assumptions!$M$7,"Review travel miles",IF(AND($G22<>"",$P22<>"",$P22>IFERROR(VLOOKUP($G22,Assumptions!$G$5:$J$9,4,FALSE),1E+99)),"Review product quantity","Inputs complete"))))))))),"Check numeric entries"))
M23: =IF(OR($K23="",$L23=""),"",IFERROR(2*($K23+$L23),"")) | N23: =IF(OR($K23="",$L23=""),"",IFERROR($K23*$L23,"")) | Q23: =IF($G23="","",IFERROR(VLOOKUP($G23,Assumptions!$G$5:$J$9,2,FALSE),"")) | S23: =IF(OR($E23="",$M23="",$N23=""),"",IFERROR(VLOOKUP($E23,Assumptions!$A$5:$E$9,2,FALSE)+$M23*VLOOKUP($E23,Assumptions!$A$5:$E$9,3,FALSE)+$N23*VLOOKUP($E23,Assumptions!$A$5:$E$9,4,FALSE),"")) | T23: =IF(OR($E23="",$O23=""),"",IFERROR($O23*VLOOKUP($E23,Assumptions!$A$5:$E$9,5,FALSE),"")) | U23: =IF(OR($G23="",$P23=""),"",IFERROR($P23*VLOOKUP($G23,Assumptions!$G$5:$J$9,3,FALSE),"")) | V23: =IF($R23="","",IFERROR($R23*Assumptions!$M$5,"")) | W23: =IF(OR($A23="",$B23="",$C23="",$E23="",$S23=""),"",IFERROR(SUM($S23:$V23),"")) | X23: =IF(COUNTA($A23:$L23,$O23:$P23,$R23)=0,"",IFERROR(IF(OR($A23="",$B23="",$C23="",$D23="",$E23="",$J23=""),"Check required details",IF(OR($K23="",$L23="",$K23<=0,$L23<=0),"Check dimensions",IF(IFERROR(VLOOKUP($E23,Assumptions!$A$5:$E$9,2,FALSE),"")="","Check service assumption",IF(AND($G23<>"",IFERROR(VLOOKUP($G23,Assumptions!$G$5:$J$9,2,FALSE),"")=""),"Check product assumption",IF(AND($G23<>"",OR($P23="",$P23<=0)),"Check product quantity",IF(AND($G23="",$P23<>""),"Check product selection",IF($O23>Assumptions!$M$6,"Review labor hours",IF($R23>Assumptions!$M$7,"Review travel miles",IF(AND($G23<>"",$P23<>"",$P23>IFERROR(VLOOKUP($G23,Assumptions!$G$5:$J$9,4,FALSE),1E+99)),"Review product quantity","Inputs complete"))))))))),"Check numeric entries"))
M24: =IF(OR($K24="",$L24=""),"",IFERROR(2*($K24+$L24),"")) | N24: =IF(OR($K24="",$L24=""),"",IFERROR($K24*$L24,"")) | Q24: =IF($G24="","",IFERROR(VLOOKUP($G24,Assumptions!$G$5:$J$9,2,FALSE),"")) | S24: =IF(OR($E24="",$M24="",$N24=""),"",IFERROR(VLOOKUP($E24,Assumptions!$A$5:$E$9,2,FALSE)+$M24*VLOOKUP($E24,Assumptions!$A$5:$E$9,3,FALSE)+$N24*VLOOKUP($E24,Assumptions!$A$5:$E$9,4,FALSE),"")) | T24: =IF(OR($E24="",$O24=""),"",IFERROR($O24*VLOOKUP($E24,Assumptions!$A$5:$E$9,5,FALSE),"")) | U24: =IF(OR($G24="",$P24=""),"",IFERROR($P24*VLOOKUP($G24,Assumptions!$G$5:$J$9,3,FALSE),"")) | V24: =IF($R24="","",IFERROR($R24*Assumptions!$M$5,"")) | W24: =IF(OR($A24="",$B24="",$C24="",$E24="",$S24=""),"",IFERROR(SUM($S24:$V24),"")) | X24: =IF(COUNTA($A24:$L24,$O24:$P24,$R24)=0,"",IFERROR(IF(OR($A24="",$B24="",$C24="",$D24="",$E24="",$J24=""),"Check required details",IF(OR($K24="",$L24="",$K24<=0,$L24<=0),"Check dimensions",IF(IFERROR(VLOOKUP($E24,Assumptions!$A$5:$E$9,2,FALSE),"")="","Check service assumption",IF(AND($G24<>"",IFERROR(VLOOKUP($G24,Assumptions!$G$5:$J$9,2,FALSE),"")=""),"Check product assumption",IF(AND($G24<>"",OR($P24="",$P24<=0)),"Check product quantity",IF(AND($G24="",$P24<>""),"Check product selection",IF($O24>Assumptions!$M$6,"Review labor hours",IF($R24>Assumptions!$M$7,"Review travel miles",IF(AND($G24<>"",$P24<>"",$P24>IFERROR(VLOOKUP($G24,Assumptions!$G$5:$J$9,4,FALSE),1E+99)),"Review product quantity","Inputs complete"))))))))),"Check numeric entries"))
M25: =IF(OR($K25="",$L25=""),"",IFERROR(2*($K25+$L25),"")) | N25: =IF(OR($K25="",$L25=""),"",IFERROR($K25*$L25,"")) | Q25: =IF($G25="","",IFERROR(VLOOKUP($G25,Assumptions!$G$5:$J$9,2,FALSE),"")) | S25: =IF(OR($E25="",$M25="",$N25=""),"",IFERROR(VLOOKUP($E25,Assumptions!$A$5:$E$9,2,FALSE)+$M25*VLOOKUP($E25,Assumptions!$A$5:$E$9,3,FALSE)+$N25*VLOOKUP($E25,Assumptions!$A$5:$E$9,4,FALSE),"")) | T25: =IF(OR($E25="",$O25=""),"",IFERROR($O25*VLOOKUP($E25,Assumptions!$A$5:$E$9,5,FALSE),"")) | U25: =IF(OR($G25="",$P25=""),"",IFERROR($P25*VLOOKUP($G25,Assumptions!$G$5:$J$9,3,FALSE),"")) | V25: =IF($R25="","",IFERROR($R25*Assumptions!$M$5,"")) | W25: =IF(OR($A25="",$B25="",$C25="",$E25="",$S25=""),"",IFERROR(SUM($S25:$V25),"")) | X25: =IF(COUNTA($A25:$L25,$O25:$P25,$R25)=0,"",IFERROR(IF(OR($A25="",$B25="",$C25="",$D25="",$E25="",$J25=""),"Check required details",IF(OR($K25="",$L25="",$K25<=0,$L25<=0),"Check dimensions",IF(IFERROR(VLOOKUP($E25,Assumptions!$A$5:$E$9,2,FALSE),"")="","Check service assumption",IF(AND($G25<>"",IFERROR(VLOOKUP($G25,Assumptions!$G$5:$J$9,2,FALSE),"")=""),"Check product assumption",IF(AND($G25<>"",OR($P25="",$P25<=0)),"Check product quantity",IF(AND($G25="",$P25<>""),"Check product selection",IF($O25>Assumptions!$M$6,"Review labor hours",IF($R25>Assumptions!$M$7,"Review travel miles",IF(AND($G25<>"",$P25<>"",$P25>IFERROR(VLOOKUP($G25,Assumptions!$G$5:$J$9,4,FALSE),1E+99)),"Review product quantity","Inputs complete"))))))))),"Check numeric entries"))
... M103: =IF(OR($K103="",$L103=""),"",IFERROR(2*($K103+$L103),"")) | N103: =IF(OR($K103="",$L103=""),"",IFERROR($K103*$L103,"")) | Q103: =IF($G103="","",IFERROR(VLOOKUP($G103,Assumptions!$G$5:$J$9,2,FALSE),"")) | S103: =IF(OR($E103="",$M103="",$N103=""),"",IFERROR(VLOOKUP($E103,Assumptions!$A$5:$E$9,2,FALSE)+$M103*VLOOKUP($E103,Assumptions!$A$5:$E$9,3,FALSE)+$N103*VLOOKUP($E103,Assumptions!$A$5:$E$9,4,FALSE),"")) | T103: =IF(OR($E103="",$O103=""),"",IFERROR($O103*VLOOKUP($E103,Assumptions!$A$5:$E$9,5,FALSE),"")) | U103: =IF(OR($G103="",$P103=""),"",IFERROR($P103*VLOOKUP($G103,Assumptions!$G$5:$J$9,3,FALSE),"")) | V103: =IF($R103="","",IFERROR($R103*Assumptions!$M$5,"")) | W103: =IF(OR($A103="",$B103="",$C103="",$E103="",$S103=""),"",IFERROR(SUM($S103:$V103),"")) | X103: =IF(COUNTA($A103:$L103,$O103:$P103,$R103)=0,"",IFERROR(IF(OR($A103="",$B103="",$C103="",$D103="",$E103="",$J103=""),"Check required details",IF(OR($K103="",$L103="",$K103<=0,$L103<=0),"Check dimensions",IF(IFERROR(VLOOKUP($E103,Assumptions!$A$5:$E$9,2,FALSE),"")="","Check service assumption",IF(AND($G103<>"",IFERROR(VLOOKUP($G103,Assumptions!$G$5:$J$9,2,FALSE),"")=""),"Check product assumption",IF(AND($G103<>"",OR($P103="",$P103<=0)),"Check product quantity",IF(AND($G103="",$P103<>""),"Check product selection",IF($O103>Assumptions!$M$6,"Review labor hours",IF($R103>Assumptions!$M$7,"Review travel miles",IF(AND($G103<>"",$P103<>"",$P103>IFERROR(VLOOKUP($G103,Assumptions!$G$5:$J$9,4,FALSE),1E+99)),"Review product quantity","Inputs complete"))))))))),"Check numeric entries"))

Sheet Assumptions
A1: Termite Estimate Assumptions
A2: Editable estimating assumptions only. Review each estimate; these values do not guarantee pricing, treatment results, safety, or compliance.
A3: Service pricing assumptions | G3: Product cost assumptions | L3: Review and entry settings
A4: Service Method | B4: Base Amount | C4: Perimeter Rate ($/ft) | D4: Area Rate ($/sq ft) | E4: Labor Rate ($/hour) | G4: Product | H4: Quantity Unit | I4: Unit Cost | J4: Quantity Review Level | L4: Setting | M4: Value | N4: Purpose
A5: Perimeter-Based Estimate | B5: 250 | C5: 5.75 | D5: 0 | E5: 68 | G5: Fictional Liquid A | H5: gallons | I5: 48 | J5: 25 | L5: Mileage rate per mile | M5: 0.72 | N5: Editable travel-cost assumption
A6: Area-Based Estimate | B6: 300 | C6: 0 | D6: 0.65 | E6: 70 | G6: Fictional Foam B | H6: ounces | I6: 1.4 | J6: 160 | L6: Labor hours review level | M6: 40 | N6: Prompts a human review above this value
A7: Combined Perimeter and Area | B7: 350 | C7: 3.5 | D7: 0.25 | E7: 72 | G7: Fictional Dust C | H7: pounds | I7: 9.25 | J7: 30 | L7: Travel miles review level | M7: 200 | N7: Prompts a human review above this value
A8: Localized Scope Estimate | B8: 225 | C8: 0 | D8: 0.5 | E8: 74 | G8: Fictional Wood Blend D | H8: pounds | I8: 7.75 | J8: 100 | L8: Earliest estimate date | M8: 46023 | N8: Allowed estimate-date boundary
A9: Custom Inspection Scope | B9: 175 | C9: 0 | D9: 0 | E9: 66 | G9: Fictional Station Part E | H9: units | I9: 16.5 | J9: 50 | L9: Latest estimate date | M9: 46752 | N9: Allowed estimate-date boundary
L10: Dimension entry limit (ft) | M10: 1000 | N10: Maximum accepted dimension entry
L11: Quantity entry limit | M11: 10000 | N11: Maximum accepted product quantity entry
L12: Labor entry limit (hours) | M12: 500 | N12: Maximum accepted labor entry
L13: Travel entry limit (miles) | M13: 5000 | N13: Maximum accepted travel entry
